BEGIN:VCALENDAR
VERSION:2.0
PRODID:-//Nocterra Brewing Co. - ECPv6.15.17//NONSGML v1.0//EN
CALSCALE:GREGORIAN
METHOD:PUBLISH
X-ORIGINAL-URL:https://nocterrabrewing.com
X-WR-CALDESC:Events for Nocterra Brewing Co.
REFRESH-INTERVAL;VALUE=DURATION:PT1H
X-Robots-Tag:noindex
X-PUBLISHED-TTL:PT1H
BEGIN:VTIMEZONE
TZID:UTC
BEGIN:STANDARD
TZOFFSETFROM:+0000
TZOFFSETTO:+0000
TZNAME:UTC
DTSTART:20240101T000000
END:STANDARD
END:VTIMEZONE
BEGIN:VEVENT
DTSTART;TZID=UTC:20250917T190000
DTEND;TZID=UTC:20250917T210000
DTSTAMP:20260420T114403
CREATED:20250220T170325Z
LAST-MODIFIED:20250702T163750Z
UID:10000985-1758135600-1758142800@nocterrabrewing.com
SUMMARY:TRIVIA NIGHTS! - POWELL
DESCRIPTION:Trivia is back!\n\nAssemble your crew and test your knowledge at Nocterra Brewing Co.’s Trivia Night. Every Wednesday\, host Carmine will challenge you with general trivia. Prizes will be awarded to those lucky winners.\n\nAs always\, it’s free to play and open to all ages.
URL:https://nocterrabrewing.com/event/trivia-nights-powell/2025-09-17/
LOCATION:Nocterra Brewing Co. – Powell\, 41 Depot Street\, Powell\, OH\, 43065\, United States
CATEGORIES:Entertainment,Family Fun,Powell,Trivia
ATTACH;FMTTYPE=image/png:https://nocterrabrewing.com/wp-content/uploads/2025/02/Trivia-2025-4-FB-Event-Cover.png
END:VEVENT
BEGIN:VEVENT
DTSTART;TZID=UTC:20250919T190000
DTEND;TZID=UTC:20250919T210000
DTSTAMP:20260420T114403
CREATED:20250724T184437Z
LAST-MODIFIED:20250904T202654Z
UID:10001004-1758308400-1758315600@nocterrabrewing.com
SUMMARY:LIVE MUSIC AT NOCTERRA! - POWELL
DESCRIPTION:Join us every weekend at Nocterra Brewing Co. – Powell for live music under the lights! We’re bringing the vibes every Friday and Saturday from 7:00 – 9:00 PM\, featuring a rotating lineup of local talent across genres. And just to keep you on your toes\, we’ve even sprinkled in the occasional Jazz Sunday from 5:00 – 7:00 PM. Grab a pint\, settle in\, and let the music take over. \nCLICK HERE for the full schedule\, bands\, and dates!
URL:https://nocterrabrewing.com/event/live-music-at-nocterra-powell/2025-09-19/
LOCATION:Nocterra Brewing Co. – Powell\, 41 Depot Street\, Powell\, OH\, 43065\, United States
CATEGORIES:Concert,Live music,Party
ATTACH;FMTTYPE=image/jpeg:https://nocterrabrewing.com/wp-content/uploads/2025/07/LIVE-MUSIC-1.jpg
END:VEVENT
BEGIN:VEVENT
DTSTART;TZID=UTC:20250920T113000
DTEND;TZID=UTC:20250920T210000
DTSTAMP:20260420T114403
CREATED:20250904T200642Z
LAST-MODIFIED:20250904T200642Z
UID:10001120-1758367800-1758402000@nocterrabrewing.com
SUMMARY:NOCTOBERFEST 2025 - POWELL
DESCRIPTION:Get ready to immerse yourself in a whirlwind of fall festivities at Noctoberfest\, Nocterra Brewing Co.’s lively take on Oktoberfest! On September 20th\, starting at 11:30 am and running until close\, join us for a day packed with fun\, food\, and fantastic brews.\nEvent Highlights: Festbier & Limited Edition Steins: Indulge in our special Festbier\, available all day long. Don’t miss out on our exclusive Noctoberfest steins—perfect for keeping your beer cold and as a memento of the celebration.\n Live Music:Die Musikmeisters (2pm – 5pm): Move those feet\, clap your hands and raise your steins as the beer garden goes full Oompah!\n Food:Trail Magic Kitchen (11:30am – 8pm): Brats\, Kraut\, Big Ass Pretzels and beer cheese galore!\n Activities:Festive Photo Booth: Capture your Noctoberfest memories with friends and family.Pretzel Toss Game: Show off your skills and win some great prizes.Stein Holding Contest (5:30pm): Test your strength and endurance in this classic Oktoberfest challenge. There will be a Men’s and Women’s Contest.Best Dressed Contest: Dress in your best Oktoberfest attire for a chance to win! Winner will be announced immediately after stein holding.\nWhether you’re here for the beer\, the food\, or the fun\, Noctoberfest at Nocterra Brewing Co. promises a day full of excitement and enjoyment. Grab your friends\, don your lederhosen or dirndl\, and join us for an unforgettable celebration!\nProst to a fantastic Noctoberfest experience! 
URL:https://nocterrabrewing.com/event/noctoberfest-2025-powell/
LOCATION:Nocterra Brewing Co. – Powell\, 41 Depot Street\, Powell\, OH\, 43065\, United States
CATEGORIES:Entertainment,Live music,Nightlife,Party,Powell
ATTACH;FMTTYPE=image/jpeg:https://nocterrabrewing.com/wp-content/uploads/2025/09/Noctoberfest_2025.jpg
END:VEVENT
BEGIN:VEVENT
DTSTART;TZID=UTC:20250920T190000
DTEND;TZID=UTC:20250920T210000
DTSTAMP:20260420T114403
CREATED:20250724T184437Z
LAST-MODIFIED:20250904T202654Z
UID:10001005-1758394800-1758402000@nocterrabrewing.com
SUMMARY:LIVE MUSIC AT NOCTERRA! - POWELL
DESCRIPTION:Join us every weekend at Nocterra Brewing Co. – Powell for live music under the lights! We’re bringing the vibes every Friday and Saturday from 7:00 – 9:00 PM\, featuring a rotating lineup of local talent across genres. And just to keep you on your toes\, we’ve even sprinkled in the occasional Jazz Sunday from 5:00 – 7:00 PM. Grab a pint\, settle in\, and let the music take over. \nCLICK HERE for the full schedule\, bands\, and dates!
URL:https://nocterrabrewing.com/event/live-music-at-nocterra-powell/2025-09-20/
LOCATION:Nocterra Brewing Co. – Powell\, 41 Depot Street\, Powell\, OH\, 43065\, United States
CATEGORIES:Concert,Live music,Party
ATTACH;FMTTYPE=image/jpeg:https://nocterrabrewing.com/wp-content/uploads/2025/07/LIVE-MUSIC-1.jpg
END:VEVENT
BEGIN:VEVENT
DTSTART;TZID=UTC:20250921T120000
DTEND;TZID=UTC:20250921T140000
DTSTAMP:20260420T114403
CREATED:20250904T201547Z
LAST-MODIFIED:20250904T201547Z
UID:10001122-1758456000-1758463200@nocterrabrewing.com
SUMMARY:LEGO BUTTERFLY BUILD - POWELL
DESCRIPTION:Join BAM Powell and Nocterra Brewing for an afternoon of custom butterfly fun! Build memories and LEGO sets to last a lifetime!\n\nEach registration includes 1 custom LEGO butterfly kit and 1 beer ticket. Tickets available via QR code or link in event info.\n\nArrive anytime between 12-2pm to get your kits. Additional LEGO will be available for purchase.
URL:https://nocterrabrewing.com/event/lego-build-butterfly-kit-powell/
LOCATION:Nocterra Brewing Co. – Powell\, 41 Depot Street\, Powell\, OH\, 43065\, United States
CATEGORIES:Family Fun,Powell
ATTACH;FMTTYPE=image/jpeg:https://nocterrabrewing.com/wp-content/uploads/2025/09/540667512_122311661402002176_2297354592685479360_n.jpg
END:VEVENT
BEGIN:VEVENT
DTSTART;TZID=UTC:20250921T160000
DTEND;TZID=UTC:20250921T200000
DTSTAMP:20260420T114403
CREATED:20250410T162053Z
LAST-MODIFIED:20250702T163353Z
UID:10000950-1758470400-1758484800@nocterrabrewing.com
SUMMARY:VINYL NIGHT AT NOCTERRA - POWELL
DESCRIPTION:Vinyl Record Night at the Taproom!\n Every Sunday |  4-8 PM | Nocterra Powell\nSTARTING SUNDAY\, APRIL 13TH\nJoin us for Vinyl Record Night\, where the warm crackle of records sets the perfect Sunday vibe! We’ll have records spinning in the taproom\, and you’re invited to bring your own to share.\n\n Bring a record & add it to the queue (first come\, first played!) One side per record to keep things moving Family-friendly tunes only  Order a drink\, sit back\, and enjoy the music! \n\nWhether you’re a vinyl collector or just love great music\, this is the perfect way to wind down your weekend. See you Sunday! 
URL:https://nocterrabrewing.com/event/vinyl-night-at-nocterra-powell/2025-09-21/
LOCATION:Nocterra Brewing Co. – Powell\, 41 Depot Street\, Powell\, OH\, 43065\, United States
CATEGORIES:Entertainment,Family Fun,Powell
ATTACH;FMTTYPE=image/jpeg:https://nocterrabrewing.com/wp-content/uploads/2025/04/488367701_1112944127514028_3751534517693926814_n.jpg
END:VEVENT
BEGIN:VEVENT
DTSTART;TZID=UTC:20250921T170000
DTEND;TZID=UTC:20250921T190000
DTSTAMP:20260420T114403
CREATED:20250724T184437Z
LAST-MODIFIED:20250904T202654Z
UID:10001006-1758474000-1758481200@nocterrabrewing.com
SUMMARY:LIVE MUSIC AT NOCTERRA! - POWELL
DESCRIPTION:Join us every weekend at Nocterra Brewing Co. – Powell for live music under the lights! We’re bringing the vibes every Friday and Saturday from 7:00 – 9:00 PM\, featuring a rotating lineup of local talent across genres. And just to keep you on your toes\, we’ve even sprinkled in the occasional Jazz Sunday from 5:00 – 7:00 PM. Grab a pint\, settle in\, and let the music take over. \nCLICK HERE for the full schedule\, bands\, and dates!
URL:https://nocterrabrewing.com/event/live-music-at-nocterra-powell/2025-09-21/
LOCATION:Nocterra Brewing Co. – Powell\, 41 Depot Street\, Powell\, OH\, 43065\, United States
CATEGORIES:Concert,Live music,Party
ATTACH;FMTTYPE=image/jpeg:https://nocterrabrewing.com/wp-content/uploads/2025/07/LIVE-MUSIC-1.jpg
END:VEVENT
END:VCALENDAR