BEGIN:VCALENDAR
VERSION:2.0
PRODID:-//Nocterra Brewing Co. - ECPv6.15.17//NONSGML v1.0//EN
CALSCALE:GREGORIAN
METHOD:PUBLISH
X-ORIGINAL-URL:https://nocterrabrewing.com
X-WR-CALDESC:Events for Nocterra Brewing Co.
REFRESH-INTERVAL;VALUE=DURATION:PT1H
X-Robots-Tag:noindex
X-PUBLISHED-TTL:PT1H
BEGIN:VTIMEZONE
TZID:UTC
BEGIN:STANDARD
TZOFFSETFROM:+0000
TZOFFSETTO:+0000
TZNAME:UTC
DTSTART:20240101T000000
END:STANDARD
END:VTIMEZONE
BEGIN:VEVENT
DTSTART;TZID=UTC:20250910T190000
DTEND;TZID=UTC:20250910T210000
DTSTAMP:20260422T115844
CREATED:20250220T170325Z
LAST-MODIFIED:20250702T163750Z
UID:10000984-1757530800-1757538000@nocterrabrewing.com
SUMMARY:TRIVIA NIGHTS! - POWELL
DESCRIPTION:Trivia is back!\n\nAssemble your crew and test your knowledge at Nocterra Brewing Co.’s Trivia Night. Every Wednesday\, host Carmine will challenge you with general trivia. Prizes will be awarded to those lucky winners.\n\nAs always\, it’s free to play and open to all ages.
URL:https://nocterrabrewing.com/event/trivia-nights-powell/2025-09-10/
LOCATION:Nocterra Brewing Co. – Powell\, 41 Depot Street\, Powell\, OH\, 43065\, United States
CATEGORIES:Entertainment,Family Fun,Powell,Trivia
ATTACH;FMTTYPE=image/png:https://nocterrabrewing.com/wp-content/uploads/2025/02/Trivia-2025-4-FB-Event-Cover.png
END:VEVENT
BEGIN:VEVENT
DTSTART;TZID=UTC:20250912T190000
DTEND;TZID=UTC:20250912T210000
DTSTAMP:20260422T115844
CREATED:20250724T184437Z
LAST-MODIFIED:20250904T202654Z
UID:10001002-1757703600-1757710800@nocterrabrewing.com
SUMMARY:LIVE MUSIC AT NOCTERRA! - POWELL
DESCRIPTION:Join us every weekend at Nocterra Brewing Co. – Powell for live music under the lights! We’re bringing the vibes every Friday and Saturday from 7:00 – 9:00 PM\, featuring a rotating lineup of local talent across genres. And just to keep you on your toes\, we’ve even sprinkled in the occasional Jazz Sunday from 5:00 – 7:00 PM. Grab a pint\, settle in\, and let the music take over. \nCLICK HERE for the full schedule\, bands\, and dates!
URL:https://nocterrabrewing.com/event/live-music-at-nocterra-powell/2025-09-12/
LOCATION:Nocterra Brewing Co. – Powell\, 41 Depot Street\, Powell\, OH\, 43065\, United States
CATEGORIES:Concert,Live music,Party
ATTACH;FMTTYPE=image/jpeg:https://nocterrabrewing.com/wp-content/uploads/2025/07/LIVE-MUSIC-1.jpg
END:VEVENT
BEGIN:VEVENT
DTSTART;TZID=UTC:20250913T190000
DTEND;TZID=UTC:20250913T210000
DTSTAMP:20260422T115844
CREATED:20250724T184437Z
LAST-MODIFIED:20250904T202654Z
UID:10001003-1757790000-1757797200@nocterrabrewing.com
SUMMARY:LIVE MUSIC AT NOCTERRA! - POWELL
DESCRIPTION:Join us every weekend at Nocterra Brewing Co. – Powell for live music under the lights! We’re bringing the vibes every Friday and Saturday from 7:00 – 9:00 PM\, featuring a rotating lineup of local talent across genres. And just to keep you on your toes\, we’ve even sprinkled in the occasional Jazz Sunday from 5:00 – 7:00 PM. Grab a pint\, settle in\, and let the music take over. \nCLICK HERE for the full schedule\, bands\, and dates!
URL:https://nocterrabrewing.com/event/live-music-at-nocterra-powell/2025-09-13/
LOCATION:Nocterra Brewing Co. – Powell\, 41 Depot Street\, Powell\, OH\, 43065\, United States
CATEGORIES:Concert,Live music,Party
ATTACH;FMTTYPE=image/jpeg:https://nocterrabrewing.com/wp-content/uploads/2025/07/LIVE-MUSIC-1.jpg
END:VEVENT
BEGIN:VEVENT
DTSTART;TZID=UTC:20250914T120000
DTEND;TZID=UTC:20250914T140000
DTSTAMP:20260422T115844
CREATED:20250821T144718Z
LAST-MODIFIED:20250821T144718Z
UID:10001118-1757851200-1757858400@nocterrabrewing.com
SUMMARY:SIPS & SCENTS - FALL CANDLE WORKSHOP - POWELL
DESCRIPTION:Sips and Scents Workshop: Forgotten & Found at Nocterra Brewing \n🍂 Date: Sunday\, September 14\, 2025\n🕛 Time: 12:00 PM – 2:00 PM\n📍 Location: Nocterra Brewing\, Powell\, OH 43065 \nFall is calling — and we’re answering with beer\, candles\, and cozy vibes! Join us for a special Sips and Scents workshop as we gear up for the season of crisp air\, warm drinks\, and pumpkin spice everything. \nYour ticket includes: \n\n\nYour first beer from Nocterra Brewing’s tap list 🍺 \n\n\nOne custom fall candle crafted by Forgotten & Found 🕯️ — choose from seasonal scents made to fill your space with autumn magic. \n\n\nBring a friend\, sip something delicious\, and create a candle that’s perfect for your fall mood. Spots are limited\, so grab your ticket today!
URL:https://nocterrabrewing.com/event/sips-scents-fall-candle-workshop-powell-2/
LOCATION:Nocterra Brewing Co. – Powell\, 41 Depot Street\, Powell\, OH\, 43065\, United States
CATEGORIES:Family Fun,Powell,Workshop
ATTACH;FMTTYPE=image/png:https://nocterrabrewing.com/wp-content/uploads/2025/08/Forgotten-Found-Candle-Workshop.png
END:VEVENT
BEGIN:VEVENT
DTSTART;TZID=UTC:20250914T120000
DTEND;TZID=UTC:20250914T140000
DTSTAMP:20260422T115844
CREATED:20250904T201057Z
LAST-MODIFIED:20250904T201057Z
UID:10001121-1757851200-1757858400@nocterrabrewing.com
SUMMARY:LEGO BUILD (MEDICAL FIELD THEMED) - POWELL
DESCRIPTION:Free Lego build brought to you by Bricks & Minifigs Powell at Nocterra Brewing Co. Sunday\, 9/14 from 12-2 pm. Bring the kiddos and enjoy a beer. This weekend’s theme is Medical Fields – create a scene from the doctor’s office in celebration of National Nurses Day!\n\nFree and open to all ages
URL:https://nocterrabrewing.com/event/lego-build-medical-themed-powell/
LOCATION:Nocterra Brewing Co. – Powell\, 41 Depot Street\, Powell\, OH\, 43065\, United States
CATEGORIES:Family Fun,Powell
ATTACH;FMTTYPE=image/jpeg:https://nocterrabrewing.com/wp-content/uploads/2025/08/Bricks_Minifigs.jpg
END:VEVENT
BEGIN:VEVENT
DTSTART;TZID=UTC:20250914T150000
DTEND;TZID=UTC:20250914T200000
DTSTAMP:20260422T115844
CREATED:20250808T175938Z
LAST-MODIFIED:20250808T175938Z
UID:10001113-1757862000-1757880000@nocterrabrewing.com
SUMMARY:PINTS 4 PENGUINS - POWELL
DESCRIPTION:The Penguins are coming!!!\nWe’re hosting “Pints 4 Penguins 2025” and raising money for conservation from 3-8pm on Sunday September 14th.\nPenguins and their animal friends from the Columbus Zoo and Aquarium will be visiting from 5-6pm\, and you’ll get a chance to interact with them. The event is FREE and open to the public. We just hope you’ll enjoy a Nocterra beer or hard seltzer while you’re here.\nWe’ll have three “Penguin Beers” on tap – IPA\, lager & hard seltzer – and we’ll be donating $1 per pint to SANCCOB saves seabirds.\nPlus\, the penguins will be painting some pictures that will be available\, along with other cool items\, in a silent auction.We’ll have a scavenger hunt for the kids and a penguin-inspired costume contest at 7:30pm\, for anyone who wants to dress up and show off their penguin love.\nThis event is hosted by the Columbus AAZK ChapterParental Policy – This is a family-friendly\, family-encouraged event. Parents are still responsible for supervising their children. Please encourage safe & courteous behavior for the enjoyment of all. Most importantly\, have fun while you learn about animals & conservation.\nNOTE ABOUT ANIMAL AMBASSADORS – The zoo decides which animals are allowed to travel based on weather\, medical safety & the mood of the animals. We hope penguins will join us\, but there is a chance it will be other animal ambassadors. Regardless of who can come\, the goal is to raise money and awareness for conservation.
URL:https://nocterrabrewing.com/event/pints-4-penguins-powell/
LOCATION:Nocterra Brewing Co. – Powell\, 41 Depot Street\, Powell\, OH\, 43065\, United States
CATEGORIES:Family Fun,Fundraiser,Powell
ATTACH;FMTTYPE=image/jpeg:https://nocterrabrewing.com/wp-content/uploads/2025/08/528534203_1219910526817387_7665021778533565571_n.jpg
END:VEVENT
BEGIN:VEVENT
DTSTART;TZID=UTC:20250914T160000
DTEND;TZID=UTC:20250914T200000
DTSTAMP:20260422T115844
CREATED:20250410T162053Z
LAST-MODIFIED:20250702T163353Z
UID:10000949-1757865600-1757880000@nocterrabrewing.com
SUMMARY:VINYL NIGHT AT NOCTERRA - POWELL
DESCRIPTION:Vinyl Record Night at the Taproom!\n Every Sunday |  4-8 PM | Nocterra Powell\nSTARTING SUNDAY\, APRIL 13TH\nJoin us for Vinyl Record Night\, where the warm crackle of records sets the perfect Sunday vibe! We’ll have records spinning in the taproom\, and you’re invited to bring your own to share.\n\n Bring a record & add it to the queue (first come\, first played!) One side per record to keep things moving Family-friendly tunes only  Order a drink\, sit back\, and enjoy the music! \n\nWhether you’re a vinyl collector or just love great music\, this is the perfect way to wind down your weekend. See you Sunday! 
URL:https://nocterrabrewing.com/event/vinyl-night-at-nocterra-powell/2025-09-14/
LOCATION:Nocterra Brewing Co. – Powell\, 41 Depot Street\, Powell\, OH\, 43065\, United States
CATEGORIES:Entertainment,Family Fun,Powell
ATTACH;FMTTYPE=image/jpeg:https://nocterrabrewing.com/wp-content/uploads/2025/04/488367701_1112944127514028_3751534517693926814_n.jpg
END:VEVENT
END:VCALENDAR