BEGIN:VCALENDAR
VERSION:2.0
PRODID:-//Nocterra Brewing Co. - ECPv6.15.17//NONSGML v1.0//EN
CALSCALE:GREGORIAN
METHOD:PUBLISH
X-ORIGINAL-URL:https://nocterrabrewing.com
X-WR-CALDESC:Events for Nocterra Brewing Co.
REFRESH-INTERVAL;VALUE=DURATION:PT1H
X-Robots-Tag:noindex
X-PUBLISHED-TTL:PT1H
BEGIN:VTIMEZONE
TZID:UTC
BEGIN:STANDARD
TZOFFSETFROM:+0000
TZOFFSETTO:+0000
TZNAME:UTC
DTSTART:20240101T000000
END:STANDARD
END:VTIMEZONE
BEGIN:VEVENT
DTSTART;TZID=UTC:20250902T190000
DTEND;TZID=UTC:20250902T210000
DTSTAMP:20260422T115844
CREATED:20250220T165943Z
LAST-MODIFIED:20250926T144549Z
UID:10000965-1756839600-1756846800@nocterrabrewing.com
SUMMARY:BINGO NIGHT! - POWELL
DESCRIPTION:Bingo is back!\n\nJoin us every Tuesday for a fun night of Bingo. We’ll be rolling balls and making calls. Listen for your number; you could go home with a fun prize!\nAs always\, it’s free to play and open to all ages.
URL:https://nocterrabrewing.com/event/bingo-night-powell/2025-09-02/
LOCATION:Nocterra Brewing Co. – Powell\, 41 Depot Street\, Powell\, OH\, 43065\, United States
CATEGORIES:Bingo,Entertainment,Family Fun,Powell
ATTACH;FMTTYPE=image/png:https://nocterrabrewing.com/wp-content/uploads/2025/02/Bingo-2025-3-FB-Event-.png
END:VEVENT
BEGIN:VEVENT
DTSTART;TZID=UTC:20250903T190000
DTEND;TZID=UTC:20250903T210000
DTSTAMP:20260422T115844
CREATED:20250220T170325Z
LAST-MODIFIED:20250702T163750Z
UID:10000983-1756926000-1756933200@nocterrabrewing.com
SUMMARY:TRIVIA NIGHTS! - POWELL
DESCRIPTION:Trivia is back!\n\nAssemble your crew and test your knowledge at Nocterra Brewing Co.’s Trivia Night. Every Wednesday\, host Carmine will challenge you with general trivia. Prizes will be awarded to those lucky winners.\n\nAs always\, it’s free to play and open to all ages.
URL:https://nocterrabrewing.com/event/trivia-nights-powell/2025-09-03/
LOCATION:Nocterra Brewing Co. – Powell\, 41 Depot Street\, Powell\, OH\, 43065\, United States
CATEGORIES:Entertainment,Family Fun,Powell,Trivia
ATTACH;FMTTYPE=image/png:https://nocterrabrewing.com/wp-content/uploads/2025/02/Trivia-2025-4-FB-Event-Cover.png
END:VEVENT
BEGIN:VEVENT
DTSTART;TZID=UTC:20250905T190000
DTEND;TZID=UTC:20250905T210000
DTSTAMP:20260422T115844
CREATED:20250724T184437Z
LAST-MODIFIED:20250904T202654Z
UID:10001000-1757098800-1757106000@nocterrabrewing.com
SUMMARY:LIVE MUSIC AT NOCTERRA! - POWELL
DESCRIPTION:Join us every weekend at Nocterra Brewing Co. – Powell for live music under the lights! We’re bringing the vibes every Friday and Saturday from 7:00 – 9:00 PM\, featuring a rotating lineup of local talent across genres. And just to keep you on your toes\, we’ve even sprinkled in the occasional Jazz Sunday from 5:00 – 7:00 PM. Grab a pint\, settle in\, and let the music take over. \nCLICK HERE for the full schedule\, bands\, and dates!
URL:https://nocterrabrewing.com/event/live-music-at-nocterra-powell/2025-09-05/
LOCATION:Nocterra Brewing Co. – Powell\, 41 Depot Street\, Powell\, OH\, 43065\, United States
CATEGORIES:Concert,Live music,Party
ATTACH;FMTTYPE=image/jpeg:https://nocterrabrewing.com/wp-content/uploads/2025/07/LIVE-MUSIC-1.jpg
END:VEVENT
BEGIN:VEVENT
DTSTART;TZID=UTC:20250906T120000
DTEND;TZID=UTC:20250906T160000
DTSTAMP:20260422T115844
CREATED:20250819T151712Z
LAST-MODIFIED:20250819T151712Z
UID:10001117-1757160000-1757174400@nocterrabrewing.com
SUMMARY:LITTLE BROWN JUG FESTBIER LAUNCH PARTY! - POWELL
DESCRIPTION: Little Brown Jug Festbier Launch Party \nGiddy up\, beer lovers — Nocterra Brewing Company in partnership with the Little Brown Jug is pleased to host a Grand Release Party for the new Little Brown Jug Festbier on Saturday\, September 6th\, 12–4pm at Nocterra Brewing Company (Powell\, OH).\nWe’re talking 80 years of tradition\, speed\, and BEER\, all packed into one glorious afternoon as we prepare for the 80th edition of the Little Brown Jug on Thursday\, September 18th.\n Every 30 minutes: epic giveaways (because we like to keep the party rolling). Grab your own Little Brown Jug\, fresh merch\, and more. FREE LBJ Koozie with any 6-pack purchase\, because your beer deserves a cool ride\, too. Enter to win Jug Social Tent Experience tickets or snag them on-site.\nSo\, polish those steins\, bring your thirst\, and leave the hobby horse in the stable… The Little Brown Jug is here\, and we’re bringing the beer!
URL:https://nocterrabrewing.com/event/little-brown-jug-festbier-launch-party-powell/
LOCATION:Nocterra Brewing Co. – Powell\, 41 Depot Street\, Powell\, OH\, 43065\, United States
CATEGORIES:Entertainment,Party,Powell
ATTACH;FMTTYPE=image/jpeg:https://nocterrabrewing.com/wp-content/uploads/2025/08/534945283_1227939992681107_2371933121537071268_n.jpg
END:VEVENT
BEGIN:VEVENT
DTSTART;TZID=UTC:20250907T120000
DTEND;TZID=UTC:20250907T140000
DTSTAMP:20260422T115844
CREATED:20250904T200310Z
LAST-MODIFIED:20250904T200310Z
UID:10001119-1757246400-1757253600@nocterrabrewing.com
SUMMARY:LEGO BUILD (BOOK THEMED) - POWELL
DESCRIPTION:Free Lego build brought to you by Bricks & Minifigs Powell at Nocterra Brewing Co. Sunday\, 9/7 from 12-2 pm. Bring the kiddos and enjoy a beer. This weekend’s theme is Books – create a scene from your favorite book in celebration of National Read A Book Day!\n\nFree and open to all ages
URL:https://nocterrabrewing.com/event/lego-build-book-themed-powell/
LOCATION:Nocterra Brewing Co. – Powell\, 41 Depot Street\, Powell\, OH\, 43065\, United States
CATEGORIES:Family Fun,Powell
ATTACH;FMTTYPE=image/jpeg:https://nocterrabrewing.com/wp-content/uploads/2025/08/Bricks_Minifigs.jpg
END:VEVENT
BEGIN:VEVENT
DTSTART;TZID=UTC:20250907T160000
DTEND;TZID=UTC:20250907T200000
DTSTAMP:20260422T115844
CREATED:20250410T162053Z
LAST-MODIFIED:20250702T163353Z
UID:10000948-1757260800-1757275200@nocterrabrewing.com
SUMMARY:VINYL NIGHT AT NOCTERRA - POWELL
DESCRIPTION:Vinyl Record Night at the Taproom!\n Every Sunday |  4-8 PM | Nocterra Powell\nSTARTING SUNDAY\, APRIL 13TH\nJoin us for Vinyl Record Night\, where the warm crackle of records sets the perfect Sunday vibe! We’ll have records spinning in the taproom\, and you’re invited to bring your own to share.\n\n Bring a record & add it to the queue (first come\, first played!) One side per record to keep things moving Family-friendly tunes only  Order a drink\, sit back\, and enjoy the music! \n\nWhether you’re a vinyl collector or just love great music\, this is the perfect way to wind down your weekend. See you Sunday! 
URL:https://nocterrabrewing.com/event/vinyl-night-at-nocterra-powell/2025-09-07/
LOCATION:Nocterra Brewing Co. – Powell\, 41 Depot Street\, Powell\, OH\, 43065\, United States
CATEGORIES:Entertainment,Family Fun,Powell
ATTACH;FMTTYPE=image/jpeg:https://nocterrabrewing.com/wp-content/uploads/2025/04/488367701_1112944127514028_3751534517693926814_n.jpg
END:VEVENT
END:VCALENDAR