BEGIN:VCALENDAR
VERSION:2.0
PRODID:-//Nocterra Brewing Co. - ECPv6.15.17//NONSGML v1.0//EN
CALSCALE:GREGORIAN
METHOD:PUBLISH
X-ORIGINAL-URL:https://nocterrabrewing.com
X-WR-CALDESC:Events for Nocterra Brewing Co.
REFRESH-INTERVAL;VALUE=DURATION:PT1H
X-Robots-Tag:noindex
X-PUBLISHED-TTL:PT1H
BEGIN:VTIMEZONE
TZID:UTC
BEGIN:STANDARD
TZOFFSETFROM:+0000
TZOFFSETTO:+0000
TZNAME:UTC
DTSTART:20230101T000000
END:STANDARD
END:VTIMEZONE
BEGIN:VEVENT
DTSTART;TZID=UTC:20240224T120000
DTEND;TZID=UTC:20240224T140000
DTSTAMP:20260422T211708
CREATED:20240214T211011Z
LAST-MODIFIED:20240214T212359Z
UID:10000320-1708776000-1708783200@nocterrabrewing.com
SUMMARY:Bonsai on Tap
DESCRIPTION:Get your hands dirty and enjoy your first beginner indoor bonsai workshop on Saturday 2/24 at Nocterra Brewing. This is a ticketed event.
URL:https://nocterrabrewing.com/event/bonsai-on-tap/
LOCATION:Nocterra Brewing Co. – Powell\, 41 Depot Street\, Powell\, OH\, 43065\, United States
CATEGORIES:Family Fun,Powell,Workshop
ATTACH;FMTTYPE=image/png:https://nocterrabrewing.com/wp-content/uploads/2024/02/Screenshot-2024-02-14-at-4.23.30-PM.png
END:VEVENT
END:VCALENDAR