BEGIN:VCALENDAR
VERSION:2.0
PRODID:-//Nocterra Brewing Co. - ECPv6.15.17//NONSGML v1.0//EN
CALSCALE:GREGORIAN
METHOD:PUBLISH
X-ORIGINAL-URL:https://nocterrabrewing.com
X-WR-CALDESC:Events for Nocterra Brewing Co.
REFRESH-INTERVAL;VALUE=DURATION:PT1H
X-Robots-Tag:noindex
X-PUBLISHED-TTL:PT1H
BEGIN:VTIMEZONE
TZID:UTC
BEGIN:STANDARD
TZOFFSETFROM:+0000
TZOFFSETTO:+0000
TZNAME:UTC
DTSTART:20230101T000000
END:STANDARD
END:VTIMEZONE
BEGIN:VEVENT
DTSTART;TZID=UTC:20240215T180000
DTEND;TZID=UTC:20240215T200000
DTSTAMP:20260422T195214
CREATED:20240214T211010Z
LAST-MODIFIED:20240214T212113Z
UID:10000318-1708020000-1708027200@nocterrabrewing.com
SUMMARY:Mayfly Project Take a Hike Social
DESCRIPTION:The Mayfly Project uses fly fishing as a catalyst to mentor and support children in foster care. Nocterra and Public Lands have teamed up to support this important mission. Come join us for a fun social hour and raffle. With the match from Public Lands\, $4 from every pint of Nocterra’s Take a Hike beer will be donated to The Mayfly Project. It’s a great opportunity to meet other fly fishing enthusiasts and raise money for a helpful cause.
URL:https://nocterrabrewing.com/event/mayfly-project-take-a-hike-social/
LOCATION:Nocterra Brewing Co. – Powell\, 41 Depot Street\, Powell\, OH\, 43065\, United States
CATEGORIES:Family Fun,Fundraiser,Powell
ATTACH;FMTTYPE=image/jpeg:https://nocterrabrewing.com/wp-content/uploads/2024/02/Mayfly_Project_Rock__Logo_4x3-scaled.jpg
END:VEVENT
BEGIN:VEVENT
DTSTART;TZID=UTC:20240216T200000
DTEND;TZID=UTC:20240216T230000
DTSTAMP:20260422T195214
CREATED:20240214T211011Z
LAST-MODIFIED:20240214T212238Z
UID:10000319-1708113600-1708124400@nocterrabrewing.com
SUMMARY:Love on Top\, A Valentine's Day Drag Show
DESCRIPTION:Love is on the top of our list…Come join Delaware Ohio Pride for our Valentine’s Day Drag Show! Your host for this show is the tantalizing and talented\, Mikayla Denise Robinson! Come enjoy some amazing performances from your host and the rest of this lovely cast of entertainers including Lady Queef\, Flatty Patty\, Sabrina Caprice Heartt\, and Godiva. With this cast you know it will be a show full of passion! ***This event is a 21+ only show***
URL:https://nocterrabrewing.com/event/love-on-top-a-valentines-day-drag-show/
LOCATION:Nocterra Brewing Co. – Powell\, 41 Depot Street\, Powell\, OH\, 43065\, United States
CATEGORIES:Entertainment,Party,Powell
ATTACH;FMTTYPE=image/png:https://nocterrabrewing.com/wp-content/uploads/2024/02/Screenshot-2024-02-14-at-4.21.46-PM.png
END:VEVENT
END:VCALENDAR