BEGIN:VCALENDAR
VERSION:2.0
PRODID:-//Nocterra Brewing Co. - ECPv6.15.17//NONSGML v1.0//EN
CALSCALE:GREGORIAN
METHOD:PUBLISH
X-ORIGINAL-URL:https://nocterrabrewing.com
X-WR-CALDESC:Events for Nocterra Brewing Co.
REFRESH-INTERVAL;VALUE=DURATION:PT1H
X-Robots-Tag:noindex
X-PUBLISHED-TTL:PT1H
BEGIN:VTIMEZONE
TZID:UTC
BEGIN:STANDARD
TZOFFSETFROM:+0000
TZOFFSETTO:+0000
TZNAME:UTC
DTSTART:20230101T000000
END:STANDARD
END:VTIMEZONE
BEGIN:VEVENT
DTSTART;TZID=UTC:20241009T190000
DTEND;TZID=UTC:20241009T210000
DTSTAMP:20260422T081255
CREATED:20240830T151254Z
LAST-MODIFIED:20240830T151254Z
UID:10000780-1728500400-1728507600@nocterrabrewing.com
SUMMARY:Marvel Movies (MCU) - Themed Trivia
DESCRIPTION:Join us on October 9th at 7 PM for an epic Marvel Movies (MCU) Themed Trivia Night! Test your knowledge of the Marvel Cinematic Universe in a fun and competitive atmosphere. This free event is open to all ages\, so bring your friends and family along for a chance to win exciting themed prizes for the top teams. Bonus points will be awarded to those who dress up as their favorite Marvel characters\, so come in costume and show off your superhero style. Don’t miss out on an evening filled with action-packed questions\, laughter\, and plenty of Marvel magic! (This will be the MCU Movies/TV Series\, NOT Comic/Video Game Marvel.)
URL:https://nocterrabrewing.com/event/marvel-movies-mcu-themed-trivia/
LOCATION:Nocterra Brewing Co. – Powell\, 41 Depot Street\, Powell\, OH\, 43065\, United States
CATEGORIES:Entertainment,Family Fun,Powell,Trivia
ATTACH;FMTTYPE=image/jpeg:https://nocterrabrewing.com/wp-content/uploads/2024/08/Marvel-Trivia.jpg
END:VEVENT
END:VCALENDAR