BEGIN:VCALENDAR
VERSION:2.0
PRODID:-//Nocterra Brewing Co. - ECPv6.15.17//NONSGML v1.0//EN
CALSCALE:GREGORIAN
METHOD:PUBLISH
X-ORIGINAL-URL:https://nocterrabrewing.com
X-WR-CALDESC:Events for Nocterra Brewing Co.
REFRESH-INTERVAL;VALUE=DURATION:PT1H
X-Robots-Tag:noindex
X-PUBLISHED-TTL:PT1H
BEGIN:VTIMEZONE
TZID:UTC
BEGIN:STANDARD
TZOFFSETFROM:+0000
TZOFFSETTO:+0000
TZNAME:UTC
DTSTART:20290101T000000
END:STANDARD
END:VTIMEZONE
BEGIN:VEVENT
DTSTART;TZID=UTC:20300925T190000
DTEND;TZID=UTC:20300925T210000
DTSTAMP:20260422T221348
CREATED:20260225T195852Z
LAST-MODIFIED:20260318T214649Z
UID:10001994-1916593200-1916600400@nocterrabrewing.com
SUMMARY:TRIVIA NIGHTS! - POWELL
DESCRIPTION:Assemble your crew and test your knowledge at Nocterra Brewing Co.’s Trivia Night. Every Wednesday\, host Carmine will challenge you with general trivia. Prizes will be awarded to those lucky winners.\n\nAs always\, it’s free to play and open to all ages.
URL:https://nocterrabrewing.com/event/trivia-nights-powell-2-2/2030-09-25/
LOCATION:Nocterra Brewing Co. – Powell\, 41 Depot Street\, Powell\, OH\, 43065\, United States
CATEGORIES:Entertainment,Family Fun,Powell,Trivia
ATTACH;FMTTYPE=image/jpeg:https://nocterrabrewing.com/wp-content/uploads/2025/09/unnamed-3.jpg
END:VEVENT
BEGIN:VEVENT
DTSTART;TZID=UTC:20301002T190000
DTEND;TZID=UTC:20301002T210000
DTSTAMP:20260422T221348
CREATED:20260225T195852Z
LAST-MODIFIED:20260318T214649Z
UID:10001995-1917198000-1917205200@nocterrabrewing.com
SUMMARY:TRIVIA NIGHTS! - POWELL
DESCRIPTION:Assemble your crew and test your knowledge at Nocterra Brewing Co.’s Trivia Night. Every Wednesday\, host Carmine will challenge you with general trivia. Prizes will be awarded to those lucky winners.\n\nAs always\, it’s free to play and open to all ages.
URL:https://nocterrabrewing.com/event/trivia-nights-powell-2-2/2030-10-02/
LOCATION:Nocterra Brewing Co. – Powell\, 41 Depot Street\, Powell\, OH\, 43065\, United States
CATEGORIES:Entertainment,Family Fun,Powell,Trivia
ATTACH;FMTTYPE=image/jpeg:https://nocterrabrewing.com/wp-content/uploads/2025/09/unnamed-3.jpg
END:VEVENT
BEGIN:VEVENT
DTSTART;TZID=UTC:20301009T190000
DTEND;TZID=UTC:20301009T210000
DTSTAMP:20260422T221348
CREATED:20260225T195852Z
LAST-MODIFIED:20260318T214649Z
UID:10001996-1917802800-1917810000@nocterrabrewing.com
SUMMARY:TRIVIA NIGHTS! - POWELL
DESCRIPTION:Assemble your crew and test your knowledge at Nocterra Brewing Co.’s Trivia Night. Every Wednesday\, host Carmine will challenge you with general trivia. Prizes will be awarded to those lucky winners.\n\nAs always\, it’s free to play and open to all ages.
URL:https://nocterrabrewing.com/event/trivia-nights-powell-2-2/2030-10-09/
LOCATION:Nocterra Brewing Co. – Powell\, 41 Depot Street\, Powell\, OH\, 43065\, United States
CATEGORIES:Entertainment,Family Fun,Powell,Trivia
ATTACH;FMTTYPE=image/jpeg:https://nocterrabrewing.com/wp-content/uploads/2025/09/unnamed-3.jpg
END:VEVENT
BEGIN:VEVENT
DTSTART;TZID=UTC:20301016T190000
DTEND;TZID=UTC:20301016T210000
DTSTAMP:20260422T221348
CREATED:20260225T195852Z
LAST-MODIFIED:20260318T214649Z
UID:10001997-1918407600-1918414800@nocterrabrewing.com
SUMMARY:TRIVIA NIGHTS! - POWELL
DESCRIPTION:Assemble your crew and test your knowledge at Nocterra Brewing Co.’s Trivia Night. Every Wednesday\, host Carmine will challenge you with general trivia. Prizes will be awarded to those lucky winners.\n\nAs always\, it’s free to play and open to all ages.
URL:https://nocterrabrewing.com/event/trivia-nights-powell-2-2/2030-10-16/
LOCATION:Nocterra Brewing Co. – Powell\, 41 Depot Street\, Powell\, OH\, 43065\, United States
CATEGORIES:Entertainment,Family Fun,Powell,Trivia
ATTACH;FMTTYPE=image/jpeg:https://nocterrabrewing.com/wp-content/uploads/2025/09/unnamed-3.jpg
END:VEVENT
BEGIN:VEVENT
DTSTART;TZID=UTC:20301023T190000
DTEND;TZID=UTC:20301023T210000
DTSTAMP:20260422T221348
CREATED:20260225T195852Z
LAST-MODIFIED:20260318T214649Z
UID:10001998-1919012400-1919019600@nocterrabrewing.com
SUMMARY:TRIVIA NIGHTS! - POWELL
DESCRIPTION:Assemble your crew and test your knowledge at Nocterra Brewing Co.’s Trivia Night. Every Wednesday\, host Carmine will challenge you with general trivia. Prizes will be awarded to those lucky winners.\n\nAs always\, it’s free to play and open to all ages.
URL:https://nocterrabrewing.com/event/trivia-nights-powell-2-2/2030-10-23/
LOCATION:Nocterra Brewing Co. – Powell\, 41 Depot Street\, Powell\, OH\, 43065\, United States
CATEGORIES:Entertainment,Family Fun,Powell,Trivia
ATTACH;FMTTYPE=image/jpeg:https://nocterrabrewing.com/wp-content/uploads/2025/09/unnamed-3.jpg
END:VEVENT
BEGIN:VEVENT
DTSTART;TZID=UTC:20301030T190000
DTEND;TZID=UTC:20301030T210000
DTSTAMP:20260422T221348
CREATED:20260225T195852Z
LAST-MODIFIED:20260318T214649Z
UID:10001999-1919617200-1919624400@nocterrabrewing.com
SUMMARY:TRIVIA NIGHTS! - POWELL
DESCRIPTION:Assemble your crew and test your knowledge at Nocterra Brewing Co.’s Trivia Night. Every Wednesday\, host Carmine will challenge you with general trivia. Prizes will be awarded to those lucky winners.\n\nAs always\, it’s free to play and open to all ages.
URL:https://nocterrabrewing.com/event/trivia-nights-powell-2-2/2030-10-30/
LOCATION:Nocterra Brewing Co. – Powell\, 41 Depot Street\, Powell\, OH\, 43065\, United States
CATEGORIES:Entertainment,Family Fun,Powell,Trivia
ATTACH;FMTTYPE=image/jpeg:https://nocterrabrewing.com/wp-content/uploads/2025/09/unnamed-3.jpg
END:VEVENT
BEGIN:VEVENT
DTSTART;TZID=UTC:20301106T190000
DTEND;TZID=UTC:20301106T210000
DTSTAMP:20260422T221348
CREATED:20260225T195852Z
LAST-MODIFIED:20260318T214649Z
UID:10002000-1920222000-1920229200@nocterrabrewing.com
SUMMARY:TRIVIA NIGHTS! - POWELL
DESCRIPTION:Assemble your crew and test your knowledge at Nocterra Brewing Co.’s Trivia Night. Every Wednesday\, host Carmine will challenge you with general trivia. Prizes will be awarded to those lucky winners.\n\nAs always\, it’s free to play and open to all ages.
URL:https://nocterrabrewing.com/event/trivia-nights-powell-2-2/2030-11-06/
LOCATION:Nocterra Brewing Co. – Powell\, 41 Depot Street\, Powell\, OH\, 43065\, United States
CATEGORIES:Entertainment,Family Fun,Powell,Trivia
ATTACH;FMTTYPE=image/jpeg:https://nocterrabrewing.com/wp-content/uploads/2025/09/unnamed-3.jpg
END:VEVENT
BEGIN:VEVENT
DTSTART;TZID=UTC:20301113T190000
DTEND;TZID=UTC:20301113T210000
DTSTAMP:20260422T221348
CREATED:20260225T195852Z
LAST-MODIFIED:20260318T214649Z
UID:10002001-1920826800-1920834000@nocterrabrewing.com
SUMMARY:TRIVIA NIGHTS! - POWELL
DESCRIPTION:Assemble your crew and test your knowledge at Nocterra Brewing Co.’s Trivia Night. Every Wednesday\, host Carmine will challenge you with general trivia. Prizes will be awarded to those lucky winners.\n\nAs always\, it’s free to play and open to all ages.
URL:https://nocterrabrewing.com/event/trivia-nights-powell-2-2/2030-11-13/
LOCATION:Nocterra Brewing Co. – Powell\, 41 Depot Street\, Powell\, OH\, 43065\, United States
CATEGORIES:Entertainment,Family Fun,Powell,Trivia
ATTACH;FMTTYPE=image/jpeg:https://nocterrabrewing.com/wp-content/uploads/2025/09/unnamed-3.jpg
END:VEVENT
BEGIN:VEVENT
DTSTART;TZID=UTC:20301120T190000
DTEND;TZID=UTC:20301120T210000
DTSTAMP:20260422T221348
CREATED:20260225T195852Z
LAST-MODIFIED:20260318T214649Z
UID:10002002-1921431600-1921438800@nocterrabrewing.com
SUMMARY:TRIVIA NIGHTS! - POWELL
DESCRIPTION:Assemble your crew and test your knowledge at Nocterra Brewing Co.’s Trivia Night. Every Wednesday\, host Carmine will challenge you with general trivia. Prizes will be awarded to those lucky winners.\n\nAs always\, it’s free to play and open to all ages.
URL:https://nocterrabrewing.com/event/trivia-nights-powell-2-2/2030-11-20/
LOCATION:Nocterra Brewing Co. – Powell\, 41 Depot Street\, Powell\, OH\, 43065\, United States
CATEGORIES:Entertainment,Family Fun,Powell,Trivia
ATTACH;FMTTYPE=image/jpeg:https://nocterrabrewing.com/wp-content/uploads/2025/09/unnamed-3.jpg
END:VEVENT
BEGIN:VEVENT
DTSTART;TZID=UTC:20301127T190000
DTEND;TZID=UTC:20301127T210000
DTSTAMP:20260422T221348
CREATED:20260225T195852Z
LAST-MODIFIED:20260318T214649Z
UID:10002003-1922036400-1922043600@nocterrabrewing.com
SUMMARY:TRIVIA NIGHTS! - POWELL
DESCRIPTION:Assemble your crew and test your knowledge at Nocterra Brewing Co.’s Trivia Night. Every Wednesday\, host Carmine will challenge you with general trivia. Prizes will be awarded to those lucky winners.\n\nAs always\, it’s free to play and open to all ages.
URL:https://nocterrabrewing.com/event/trivia-nights-powell-2-2/2030-11-27/
LOCATION:Nocterra Brewing Co. – Powell\, 41 Depot Street\, Powell\, OH\, 43065\, United States
CATEGORIES:Entertainment,Family Fun,Powell,Trivia
ATTACH;FMTTYPE=image/jpeg:https://nocterrabrewing.com/wp-content/uploads/2025/09/unnamed-3.jpg
END:VEVENT
BEGIN:VEVENT
DTSTART;TZID=UTC:20301204T190000
DTEND;TZID=UTC:20301204T210000
DTSTAMP:20260422T221348
CREATED:20260225T195852Z
LAST-MODIFIED:20260318T214649Z
UID:10002004-1922641200-1922648400@nocterrabrewing.com
SUMMARY:TRIVIA NIGHTS! - POWELL
DESCRIPTION:Assemble your crew and test your knowledge at Nocterra Brewing Co.’s Trivia Night. Every Wednesday\, host Carmine will challenge you with general trivia. Prizes will be awarded to those lucky winners.\n\nAs always\, it’s free to play and open to all ages.
URL:https://nocterrabrewing.com/event/trivia-nights-powell-2-2/2030-12-04/
LOCATION:Nocterra Brewing Co. – Powell\, 41 Depot Street\, Powell\, OH\, 43065\, United States
CATEGORIES:Entertainment,Family Fun,Powell,Trivia
ATTACH;FMTTYPE=image/jpeg:https://nocterrabrewing.com/wp-content/uploads/2025/09/unnamed-3.jpg
END:VEVENT
BEGIN:VEVENT
DTSTART;TZID=UTC:20301211T190000
DTEND;TZID=UTC:20301211T210000
DTSTAMP:20260422T221348
CREATED:20260225T195852Z
LAST-MODIFIED:20260318T214649Z
UID:10002005-1923246000-1923253200@nocterrabrewing.com
SUMMARY:TRIVIA NIGHTS! - POWELL
DESCRIPTION:Assemble your crew and test your knowledge at Nocterra Brewing Co.’s Trivia Night. Every Wednesday\, host Carmine will challenge you with general trivia. Prizes will be awarded to those lucky winners.\n\nAs always\, it’s free to play and open to all ages.
URL:https://nocterrabrewing.com/event/trivia-nights-powell-2-2/2030-12-11/
LOCATION:Nocterra Brewing Co. – Powell\, 41 Depot Street\, Powell\, OH\, 43065\, United States
CATEGORIES:Entertainment,Family Fun,Powell,Trivia
ATTACH;FMTTYPE=image/jpeg:https://nocterrabrewing.com/wp-content/uploads/2025/09/unnamed-3.jpg
END:VEVENT
BEGIN:VEVENT
DTSTART;TZID=UTC:20301218T190000
DTEND;TZID=UTC:20301218T210000
DTSTAMP:20260422T221348
CREATED:20260225T195852Z
LAST-MODIFIED:20260318T214649Z
UID:10002006-1923850800-1923858000@nocterrabrewing.com
SUMMARY:TRIVIA NIGHTS! - POWELL
DESCRIPTION:Assemble your crew and test your knowledge at Nocterra Brewing Co.’s Trivia Night. Every Wednesday\, host Carmine will challenge you with general trivia. Prizes will be awarded to those lucky winners.\n\nAs always\, it’s free to play and open to all ages.
URL:https://nocterrabrewing.com/event/trivia-nights-powell-2-2/2030-12-18/
LOCATION:Nocterra Brewing Co. – Powell\, 41 Depot Street\, Powell\, OH\, 43065\, United States
CATEGORIES:Entertainment,Family Fun,Powell,Trivia
ATTACH;FMTTYPE=image/jpeg:https://nocterrabrewing.com/wp-content/uploads/2025/09/unnamed-3.jpg
END:VEVENT
BEGIN:VEVENT
DTSTART;TZID=UTC:20301225T190000
DTEND;TZID=UTC:20301225T210000
DTSTAMP:20260422T221348
CREATED:20260225T195852Z
LAST-MODIFIED:20260318T214649Z
UID:10002007-1924455600-1924462800@nocterrabrewing.com
SUMMARY:TRIVIA NIGHTS! - POWELL
DESCRIPTION:Assemble your crew and test your knowledge at Nocterra Brewing Co.’s Trivia Night. Every Wednesday\, host Carmine will challenge you with general trivia. Prizes will be awarded to those lucky winners.\n\nAs always\, it’s free to play and open to all ages.
URL:https://nocterrabrewing.com/event/trivia-nights-powell-2-2/2030-12-25/
LOCATION:Nocterra Brewing Co. – Powell\, 41 Depot Street\, Powell\, OH\, 43065\, United States
CATEGORIES:Entertainment,Family Fun,Powell,Trivia
ATTACH;FMTTYPE=image/jpeg:https://nocterrabrewing.com/wp-content/uploads/2025/09/unnamed-3.jpg
END:VEVENT
BEGIN:VEVENT
DTSTART;TZID=UTC:20310101T190000
DTEND;TZID=UTC:20310101T210000
DTSTAMP:20260422T221348
CREATED:20260225T195852Z
LAST-MODIFIED:20260318T214649Z
UID:10002008-1925060400-1925067600@nocterrabrewing.com
SUMMARY:TRIVIA NIGHTS! - POWELL
DESCRIPTION:Assemble your crew and test your knowledge at Nocterra Brewing Co.’s Trivia Night. Every Wednesday\, host Carmine will challenge you with general trivia. Prizes will be awarded to those lucky winners.\n\nAs always\, it’s free to play and open to all ages.
URL:https://nocterrabrewing.com/event/trivia-nights-powell-2-2/2031-01-01/
LOCATION:Nocterra Brewing Co. – Powell\, 41 Depot Street\, Powell\, OH\, 43065\, United States
CATEGORIES:Entertainment,Family Fun,Powell,Trivia
ATTACH;FMTTYPE=image/jpeg:https://nocterrabrewing.com/wp-content/uploads/2025/09/unnamed-3.jpg
END:VEVENT
BEGIN:VEVENT
DTSTART;TZID=UTC:20310108T190000
DTEND;TZID=UTC:20310108T210000
DTSTAMP:20260422T221348
CREATED:20260225T195852Z
LAST-MODIFIED:20260318T214649Z
UID:10002009-1925665200-1925672400@nocterrabrewing.com
SUMMARY:TRIVIA NIGHTS! - POWELL
DESCRIPTION:Assemble your crew and test your knowledge at Nocterra Brewing Co.’s Trivia Night. Every Wednesday\, host Carmine will challenge you with general trivia. Prizes will be awarded to those lucky winners.\n\nAs always\, it’s free to play and open to all ages.
URL:https://nocterrabrewing.com/event/trivia-nights-powell-2-2/2031-01-08/
LOCATION:Nocterra Brewing Co. – Powell\, 41 Depot Street\, Powell\, OH\, 43065\, United States
CATEGORIES:Entertainment,Family Fun,Powell,Trivia
ATTACH;FMTTYPE=image/jpeg:https://nocterrabrewing.com/wp-content/uploads/2025/09/unnamed-3.jpg
END:VEVENT
BEGIN:VEVENT
DTSTART;TZID=UTC:20310115T190000
DTEND;TZID=UTC:20310115T210000
DTSTAMP:20260422T221348
CREATED:20260225T195852Z
LAST-MODIFIED:20260318T214649Z
UID:10002010-1926270000-1926277200@nocterrabrewing.com
SUMMARY:TRIVIA NIGHTS! - POWELL
DESCRIPTION:Assemble your crew and test your knowledge at Nocterra Brewing Co.’s Trivia Night. Every Wednesday\, host Carmine will challenge you with general trivia. Prizes will be awarded to those lucky winners.\n\nAs always\, it’s free to play and open to all ages.
URL:https://nocterrabrewing.com/event/trivia-nights-powell-2-2/2031-01-15/
LOCATION:Nocterra Brewing Co. – Powell\, 41 Depot Street\, Powell\, OH\, 43065\, United States
CATEGORIES:Entertainment,Family Fun,Powell,Trivia
ATTACH;FMTTYPE=image/jpeg:https://nocterrabrewing.com/wp-content/uploads/2025/09/unnamed-3.jpg
END:VEVENT
BEGIN:VEVENT
DTSTART;TZID=UTC:20310122T190000
DTEND;TZID=UTC:20310122T210000
DTSTAMP:20260422T221348
CREATED:20260225T195852Z
LAST-MODIFIED:20260318T214649Z
UID:10002011-1926874800-1926882000@nocterrabrewing.com
SUMMARY:TRIVIA NIGHTS! - POWELL
DESCRIPTION:Assemble your crew and test your knowledge at Nocterra Brewing Co.’s Trivia Night. Every Wednesday\, host Carmine will challenge you with general trivia. Prizes will be awarded to those lucky winners.\n\nAs always\, it’s free to play and open to all ages.
URL:https://nocterrabrewing.com/event/trivia-nights-powell-2-2/2031-01-22/
LOCATION:Nocterra Brewing Co. – Powell\, 41 Depot Street\, Powell\, OH\, 43065\, United States
CATEGORIES:Entertainment,Family Fun,Powell,Trivia
ATTACH;FMTTYPE=image/jpeg:https://nocterrabrewing.com/wp-content/uploads/2025/09/unnamed-3.jpg
END:VEVENT
BEGIN:VEVENT
DTSTART;TZID=UTC:20310129T190000
DTEND;TZID=UTC:20310129T210000
DTSTAMP:20260422T221348
CREATED:20260225T195852Z
LAST-MODIFIED:20260318T214649Z
UID:10002012-1927479600-1927486800@nocterrabrewing.com
SUMMARY:TRIVIA NIGHTS! - POWELL
DESCRIPTION:Assemble your crew and test your knowledge at Nocterra Brewing Co.’s Trivia Night. Every Wednesday\, host Carmine will challenge you with general trivia. Prizes will be awarded to those lucky winners.\n\nAs always\, it’s free to play and open to all ages.
URL:https://nocterrabrewing.com/event/trivia-nights-powell-2-2/2031-01-29/
LOCATION:Nocterra Brewing Co. – Powell\, 41 Depot Street\, Powell\, OH\, 43065\, United States
CATEGORIES:Entertainment,Family Fun,Powell,Trivia
ATTACH;FMTTYPE=image/jpeg:https://nocterrabrewing.com/wp-content/uploads/2025/09/unnamed-3.jpg
END:VEVENT
BEGIN:VEVENT
DTSTART;TZID=UTC:20310205T190000
DTEND;TZID=UTC:20310205T210000
DTSTAMP:20260422T221348
CREATED:20260225T195852Z
LAST-MODIFIED:20260318T214649Z
UID:10002013-1928084400-1928091600@nocterrabrewing.com
SUMMARY:TRIVIA NIGHTS! - POWELL
DESCRIPTION:Assemble your crew and test your knowledge at Nocterra Brewing Co.’s Trivia Night. Every Wednesday\, host Carmine will challenge you with general trivia. Prizes will be awarded to those lucky winners.\n\nAs always\, it’s free to play and open to all ages.
URL:https://nocterrabrewing.com/event/trivia-nights-powell-2-2/2031-02-05/
LOCATION:Nocterra Brewing Co. – Powell\, 41 Depot Street\, Powell\, OH\, 43065\, United States
CATEGORIES:Entertainment,Family Fun,Powell,Trivia
ATTACH;FMTTYPE=image/jpeg:https://nocterrabrewing.com/wp-content/uploads/2025/09/unnamed-3.jpg
END:VEVENT
BEGIN:VEVENT
DTSTART;TZID=UTC:20310212T190000
DTEND;TZID=UTC:20310212T210000
DTSTAMP:20260422T221348
CREATED:20260225T195852Z
LAST-MODIFIED:20260318T214649Z
UID:10002014-1928689200-1928696400@nocterrabrewing.com
SUMMARY:TRIVIA NIGHTS! - POWELL
DESCRIPTION:Assemble your crew and test your knowledge at Nocterra Brewing Co.’s Trivia Night. Every Wednesday\, host Carmine will challenge you with general trivia. Prizes will be awarded to those lucky winners.\n\nAs always\, it’s free to play and open to all ages.
URL:https://nocterrabrewing.com/event/trivia-nights-powell-2-2/2031-02-12/
LOCATION:Nocterra Brewing Co. – Powell\, 41 Depot Street\, Powell\, OH\, 43065\, United States
CATEGORIES:Entertainment,Family Fun,Powell,Trivia
ATTACH;FMTTYPE=image/jpeg:https://nocterrabrewing.com/wp-content/uploads/2025/09/unnamed-3.jpg
END:VEVENT
BEGIN:VEVENT
DTSTART;TZID=UTC:20310219T190000
DTEND;TZID=UTC:20310219T210000
DTSTAMP:20260422T221348
CREATED:20260225T195852Z
LAST-MODIFIED:20260318T214649Z
UID:10002015-1929294000-1929301200@nocterrabrewing.com
SUMMARY:TRIVIA NIGHTS! - POWELL
DESCRIPTION:Assemble your crew and test your knowledge at Nocterra Brewing Co.’s Trivia Night. Every Wednesday\, host Carmine will challenge you with general trivia. Prizes will be awarded to those lucky winners.\n\nAs always\, it’s free to play and open to all ages.
URL:https://nocterrabrewing.com/event/trivia-nights-powell-2-2/2031-02-19/
LOCATION:Nocterra Brewing Co. – Powell\, 41 Depot Street\, Powell\, OH\, 43065\, United States
CATEGORIES:Entertainment,Family Fun,Powell,Trivia
ATTACH;FMTTYPE=image/jpeg:https://nocterrabrewing.com/wp-content/uploads/2025/09/unnamed-3.jpg
END:VEVENT
BEGIN:VEVENT
DTSTART;TZID=UTC:20310226T190000
DTEND;TZID=UTC:20310226T210000
DTSTAMP:20260422T221348
CREATED:20260225T195852Z
LAST-MODIFIED:20260318T214649Z
UID:10002541-1929898800-1929906000@nocterrabrewing.com
SUMMARY:TRIVIA NIGHTS! - POWELL
DESCRIPTION:Assemble your crew and test your knowledge at Nocterra Brewing Co.’s Trivia Night. Every Wednesday\, host Carmine will challenge you with general trivia. Prizes will be awarded to those lucky winners.\n\nAs always\, it’s free to play and open to all ages.
URL:https://nocterrabrewing.com/event/trivia-nights-powell-2-2/2031-02-26/
LOCATION:Nocterra Brewing Co. – Powell\, 41 Depot Street\, Powell\, OH\, 43065\, United States
CATEGORIES:Entertainment,Family Fun,Powell,Trivia
ATTACH;FMTTYPE=image/jpeg:https://nocterrabrewing.com/wp-content/uploads/2025/09/unnamed-3.jpg
END:VEVENT
BEGIN:VEVENT
DTSTART;TZID=UTC:20310305T190000
DTEND;TZID=UTC:20310305T210000
DTSTAMP:20260422T221348
CREATED:20260225T195852Z
LAST-MODIFIED:20260318T214649Z
UID:10002542-1930503600-1930510800@nocterrabrewing.com
SUMMARY:TRIVIA NIGHTS! - POWELL
DESCRIPTION:Assemble your crew and test your knowledge at Nocterra Brewing Co.’s Trivia Night. Every Wednesday\, host Carmine will challenge you with general trivia. Prizes will be awarded to those lucky winners.\n\nAs always\, it’s free to play and open to all ages.
URL:https://nocterrabrewing.com/event/trivia-nights-powell-2-2/2031-03-05/
LOCATION:Nocterra Brewing Co. – Powell\, 41 Depot Street\, Powell\, OH\, 43065\, United States
CATEGORIES:Entertainment,Family Fun,Powell,Trivia
ATTACH;FMTTYPE=image/jpeg:https://nocterrabrewing.com/wp-content/uploads/2025/09/unnamed-3.jpg
END:VEVENT
BEGIN:VEVENT
DTSTART;TZID=UTC:20310312T190000
DTEND;TZID=UTC:20310312T210000
DTSTAMP:20260422T221348
CREATED:20260225T195852Z
LAST-MODIFIED:20260318T214649Z
UID:10002543-1931108400-1931115600@nocterrabrewing.com
SUMMARY:TRIVIA NIGHTS! - POWELL
DESCRIPTION:Assemble your crew and test your knowledge at Nocterra Brewing Co.’s Trivia Night. Every Wednesday\, host Carmine will challenge you with general trivia. Prizes will be awarded to those lucky winners.\n\nAs always\, it’s free to play and open to all ages.
URL:https://nocterrabrewing.com/event/trivia-nights-powell-2-2/2031-03-12/
LOCATION:Nocterra Brewing Co. – Powell\, 41 Depot Street\, Powell\, OH\, 43065\, United States
CATEGORIES:Entertainment,Family Fun,Powell,Trivia
ATTACH;FMTTYPE=image/jpeg:https://nocterrabrewing.com/wp-content/uploads/2025/09/unnamed-3.jpg
END:VEVENT
END:VCALENDAR