BEGIN:VCALENDAR
VERSION:2.0
PRODID:-//Nocterra Brewing Co. - ECPv6.15.17//NONSGML v1.0//EN
CALSCALE:GREGORIAN
METHOD:PUBLISH
X-ORIGINAL-URL:https://nocterrabrewing.com
X-WR-CALDESC:Events for Nocterra Brewing Co.
REFRESH-INTERVAL;VALUE=DURATION:PT1H
X-Robots-Tag:noindex
X-PUBLISHED-TTL:PT1H
BEGIN:VTIMEZONE
TZID:UTC
BEGIN:STANDARD
TZOFFSETFROM:+0000
TZOFFSETTO:+0000
TZNAME:UTC
DTSTART:20230101T000000
END:STANDARD
END:VTIMEZONE
BEGIN:VEVENT
DTSTART;TZID=UTC:20241113T190000
DTEND;TZID=UTC:20241113T210000
DTSTAMP:20260422T020207
CREATED:20241113T155516Z
LAST-MODIFIED:20241113T155516Z
UID:10000816-1731524400-1731531600@nocterrabrewing.com
SUMMARY:80'S TRIVIA - POWELL
DESCRIPTION:Challenge your knowledge of all things 80’s—from iconic movies and unforgettable music to legendary TV shows and unforgettable fads. Gather your friends\, form a team\, and compete for awesome prizes while sipping on your favorite Nocterra Beer or Hard Seltzer! If you’re hungry\, grab a bite to eat from Trail Magic Kitchen.\n\nDust off your Rubik’s cube and come ready to relive the best decade ever! As always it’s FREE TO PLAY and you’ll win fun prizes.
URL:https://nocterrabrewing.com/event/80s-trivia-powell/
LOCATION:Nocterra Brewing Co. – Powell\, 41 Depot Street\, Powell\, OH\, 43065\, United States
CATEGORIES:Competition,Powell,Trivia
ATTACH;FMTTYPE=image/jpeg:https://nocterrabrewing.com/wp-content/uploads/2024/11/465700814_993906489417793_1880128413511057198_n.jpg
END:VEVENT
BEGIN:VEVENT
DTSTART;TZID=UTC:20241120T190000
DTEND;TZID=UTC:20241120T210000
DTSTAMP:20260422T020207
CREATED:20241113T155723Z
LAST-MODIFIED:20241113T155723Z
UID:10000817-1732129200-1732136400@nocterrabrewing.com
SUMMARY:90'S TRIVIA - POWELL
DESCRIPTION:Get ready to dust off your flannel and channel your inner 90’s kid! Whether you’re a trivia master or just want to relive the glory days\, this event promises fun for everyone.\n\nEnjoy a Beta Flash or Cali Swell as you reminisce about your favorite 90’s moments. If you’re hungry\, Trail Magic Kitchen will be there to take care of you.\n\nAs always\, it’s FREE TO PLAY/ open to ALL AGES and prizes will be awarded to the top teams\, so bring your A-game!
URL:https://nocterrabrewing.com/event/90s-trivia-powell/
LOCATION:Nocterra Brewing Co. – Powell\, 41 Depot Street\, Powell\, OH\, 43065\, United States
CATEGORIES:Competition,Powell,Trivia
ATTACH;FMTTYPE=image/jpeg:https://nocterrabrewing.com/wp-content/uploads/2024/11/465671606_993909482750827_4080513338215021683_n.jpg
END:VEVENT
END:VCALENDAR