BEGIN:VCALENDAR
VERSION:2.0
PRODID:-//Nocterra Brewing Co. - ECPv6.15.17//NONSGML v1.0//EN
CALSCALE:GREGORIAN
METHOD:PUBLISH
X-ORIGINAL-URL:https://nocterrabrewing.com
X-WR-CALDESC:Events for Nocterra Brewing Co.
REFRESH-INTERVAL;VALUE=DURATION:PT1H
X-Robots-Tag:noindex
X-PUBLISHED-TTL:PT1H
BEGIN:VTIMEZONE
TZID:UTC
BEGIN:STANDARD
TZOFFSETFROM:+0000
TZOFFSETTO:+0000
TZNAME:UTC
DTSTART:20230101T000000
END:STANDARD
END:VTIMEZONE
BEGIN:VEVENT
DTSTART;TZID=UTC:20240911T190000
DTEND;TZID=UTC:20240911T210000
DTSTAMP:20260422T052310
CREATED:20240830T144304Z
LAST-MODIFIED:20240830T150200Z
UID:10000776-1726081200-1726088400@nocterrabrewing.com
SUMMARY:OSU Football - Themed Trivia
DESCRIPTION:Join us for an exciting Ohio State Football Themed Trivia Night on September 11th\, starting at 7 PM! Test your Buckeye knowledge and compete for fantastic themed prizes in a fun\, free-to-play event that’s open to all ages. Show off your team spirit by dressing up to match the theme\, and earn bonus points for your team! Whether you’re a die-hard fan or just love trivia\, this is the perfect way to celebrate your Buckeye pride. Gather your friends\, don your scarlet and gray\, and get ready for a night of fun and friendly competition!
URL:https://nocterrabrewing.com/event/osu-football-themed-trivia/
LOCATION:Nocterra Brewing Co. – Powell\, 41 Depot Street\, Powell\, OH\, 43065\, United States
CATEGORIES:Entertainment,Family Fun,Powell,Trivia
ATTACH;FMTTYPE=image/jpeg:https://nocterrabrewing.com/wp-content/uploads/2024/08/OSU-Trivia.jpg
END:VEVENT
BEGIN:VEVENT
DTSTART;TZID=UTC:20240918T190000
DTEND;TZID=UTC:20240918T210000
DTSTAMP:20260422T052310
CREATED:20240830T144957Z
LAST-MODIFIED:20240830T150339Z
UID:10000777-1726686000-1726693200@nocterrabrewing.com
SUMMARY:F•R•I•E•N•D•S - Themed Trivia
DESCRIPTION:Join us on September 18th at 7 PM for a fun-filled Friends TV Show Themed Trivia Night! Test your knowledge of Ross\, Rachel\, Chandler\, Monica\, Joey\, and Phoebe in a lively evening that’s free to play and open to all ages. Bring your friends\, form a team\, and compete for themed prizes awarded to the top teams. Plus\, earn bonus points if you come dressed as your favorite Friends character! Whether you’re a trivia buff or just a fan of the show\, it’s going to be an unforgettable night full of laughs and nostalgia.
URL:https://nocterrabrewing.com/event/friends-themed-trivia/
LOCATION:Nocterra Brewing Co. – Powell\, 41 Depot Street\, Powell\, OH\, 43065\, United States
CATEGORIES:Entertainment,Family Fun,Powell,Trivia
ATTACH;FMTTYPE=image/jpeg:https://nocterrabrewing.com/wp-content/uploads/2024/08/Friends-Trivia.jpg
END:VEVENT
END:VCALENDAR