BEGIN:VCALENDAR
VERSION:2.0
PRODID:-//Nocterra Brewing Co. - ECPv6.15.17//NONSGML v1.0//EN
CALSCALE:GREGORIAN
METHOD:PUBLISH
X-ORIGINAL-URL:https://nocterrabrewing.com
X-WR-CALDESC:Events for Nocterra Brewing Co.
REFRESH-INTERVAL;VALUE=DURATION:PT1H
X-Robots-Tag:noindex
X-PUBLISHED-TTL:PT1H
BEGIN:VTIMEZONE
TZID:UTC
BEGIN:STANDARD
TZOFFSETFROM:+0000
TZOFFSETTO:+0000
TZNAME:UTC
DTSTART:20250101T000000
END:STANDARD
END:VTIMEZONE
BEGIN:VEVENT
DTSTART;TZID=UTC:20260326T181500
DTEND;TZID=UTC:20260326T201500
DTSTAMP:20260421T182705
CREATED:20260316T181447Z
LAST-MODIFIED:20260316T181447Z
UID:10002280-1774548900-1774556100@nocterrabrewing.com
SUMMARY:Run Club: Powell
DESCRIPTION:The Nocterra Run Club meets every Thursday at 6:15pm for a healthy run\, followed by a hangout in the taproom or beer garden.\nWe work with Columbus Running Company\, and our group incorporates all levels of ability\, pace\, or distance. It’s a great way to meet friends with similar goals and interests. We meet year-round. Open to the public. Join anytime. Cheers!
URL:https://nocterrabrewing.com/event/runclubpowell/2026-03-26/
LOCATION:Nocterra Brewing Co. – Powell\, 41 Depot Street\, Powell\, OH\, 43065\, United States
CATEGORIES:Powell
ATTACH;FMTTYPE=image/jpeg:https://nocterrabrewing.com/wp-content/uploads/2026/03/Nocterra_Run_Club_16x9.jpg
ORGANIZER;CN="Nocterra Brewing Co.":MAILTO:info@nocterrabrewing.com
END:VEVENT
BEGIN:VEVENT
DTSTART;TZID=UTC:20260331T190000
DTEND;TZID=UTC:20260331T210000
DTSTAMP:20260421T182705
CREATED:20260225T193837Z
LAST-MODIFIED:20260225T193837Z
UID:10001752-1774983600-1774990800@nocterrabrewing.com
SUMMARY:MUSIC BINGO! - POWELL
DESCRIPTION:Join us for Music Bingo. We’ll be rolling balls and making calls. Listen for your number; you could go home with a fun prize!\nAs always\, it’s free to play and open to all ages.
URL:https://nocterrabrewing.com/event/music-bingo-powell/2026-03-31/
LOCATION:Nocterra Brewing Co. – Powell\, 41 Depot Street\, Powell\, OH\, 43065\, United States
CATEGORIES:Bingo,Entertainment,Family Fun,Powell
ATTACH;FMTTYPE=image/jpeg:https://nocterrabrewing.com/wp-content/uploads/2026/02/Music_Bingo.jpg
END:VEVENT
BEGIN:VEVENT
DTSTART;TZID=UTC:20260401T190000
DTEND;TZID=UTC:20260401T210000
DTSTAMP:20260421T182705
CREATED:20260225T195852Z
LAST-MODIFIED:20260318T214649Z
UID:10001760-1775070000-1775077200@nocterrabrewing.com
SUMMARY:TRIVIA NIGHTS! - POWELL
DESCRIPTION:Assemble your crew and test your knowledge at Nocterra Brewing Co.’s Trivia Night. Every Wednesday\, host Carmine will challenge you with general trivia. Prizes will be awarded to those lucky winners.\n\nAs always\, it’s free to play and open to all ages.
URL:https://nocterrabrewing.com/event/trivia-nights-powell-2-2/2026-04-01/
LOCATION:Nocterra Brewing Co. – Powell\, 41 Depot Street\, Powell\, OH\, 43065\, United States
CATEGORIES:Entertainment,Family Fun,Powell,Trivia
ATTACH;FMTTYPE=image/jpeg:https://nocterrabrewing.com/wp-content/uploads/2025/09/unnamed-3.jpg
END:VEVENT
BEGIN:VEVENT
DTSTART;TZID=UTC:20260402T181500
DTEND;TZID=UTC:20260402T201500
DTSTAMP:20260421T182705
CREATED:20260316T181447Z
LAST-MODIFIED:20260316T181447Z
UID:10002281-1775153700-1775160900@nocterrabrewing.com
SUMMARY:Run Club: Powell
DESCRIPTION:The Nocterra Run Club meets every Thursday at 6:15pm for a healthy run\, followed by a hangout in the taproom or beer garden.\nWe work with Columbus Running Company\, and our group incorporates all levels of ability\, pace\, or distance. It’s a great way to meet friends with similar goals and interests. We meet year-round. Open to the public. Join anytime. Cheers!
URL:https://nocterrabrewing.com/event/runclubpowell/2026-04-02/
LOCATION:Nocterra Brewing Co. – Powell\, 41 Depot Street\, Powell\, OH\, 43065\, United States
CATEGORIES:Powell
ATTACH;FMTTYPE=image/jpeg:https://nocterrabrewing.com/wp-content/uploads/2026/03/Nocterra_Run_Club_16x9.jpg
ORGANIZER;CN="Nocterra Brewing Co.":MAILTO:info@nocterrabrewing.com
END:VEVENT
BEGIN:VEVENT
DTSTART;TZID=UTC:20260407T190000
DTEND;TZID=UTC:20260407T210000
DTSTAMP:20260421T182705
CREATED:20260225T194431Z
LAST-MODIFIED:20260225T194431Z
UID:10001754-1775588400-1775595600@nocterrabrewing.com
SUMMARY:LEGO BINGO! - POWELL
DESCRIPTION:Join us for LEGO Bingo. We’ll be rolling balls and making calls. Listen for your number; you could go home with a fun prize!\nAs always\, it’s free to play and open to all ages.
URL:https://nocterrabrewing.com/event/lego-bingo-powell/
LOCATION:Nocterra Brewing Co. – Powell\, 41 Depot Street\, Powell\, OH\, 43065\, United States
CATEGORIES:Bingo,Entertainment,Family Fun,Powell
ATTACH;FMTTYPE=image/jpeg:https://nocterrabrewing.com/wp-content/uploads/2026/02/LEGO_Bingo.jpg
END:VEVENT
BEGIN:VEVENT
DTSTART;TZID=UTC:20260408T190000
DTEND;TZID=UTC:20260408T210000
DTSTAMP:20260421T182705
CREATED:20260225T195852Z
LAST-MODIFIED:20260318T214649Z
UID:10001761-1775674800-1775682000@nocterrabrewing.com
SUMMARY:TRIVIA NIGHTS! - POWELL
DESCRIPTION:Assemble your crew and test your knowledge at Nocterra Brewing Co.’s Trivia Night. Every Wednesday\, host Carmine will challenge you with general trivia. Prizes will be awarded to those lucky winners.\n\nAs always\, it’s free to play and open to all ages.
URL:https://nocterrabrewing.com/event/trivia-nights-powell-2-2/2026-04-08/
LOCATION:Nocterra Brewing Co. – Powell\, 41 Depot Street\, Powell\, OH\, 43065\, United States
CATEGORIES:Entertainment,Family Fun,Powell,Trivia
ATTACH;FMTTYPE=image/jpeg:https://nocterrabrewing.com/wp-content/uploads/2025/09/unnamed-3.jpg
END:VEVENT
BEGIN:VEVENT
DTSTART;TZID=UTC:20260409T181500
DTEND;TZID=UTC:20260409T201500
DTSTAMP:20260421T182705
CREATED:20260316T181447Z
LAST-MODIFIED:20260316T181447Z
UID:10002282-1775758500-1775765700@nocterrabrewing.com
SUMMARY:Run Club: Powell
DESCRIPTION:The Nocterra Run Club meets every Thursday at 6:15pm for a healthy run\, followed by a hangout in the taproom or beer garden.\nWe work with Columbus Running Company\, and our group incorporates all levels of ability\, pace\, or distance. It’s a great way to meet friends with similar goals and interests. We meet year-round. Open to the public. Join anytime. Cheers!
URL:https://nocterrabrewing.com/event/runclubpowell/2026-04-09/
LOCATION:Nocterra Brewing Co. – Powell\, 41 Depot Street\, Powell\, OH\, 43065\, United States
CATEGORIES:Powell
ATTACH;FMTTYPE=image/jpeg:https://nocterrabrewing.com/wp-content/uploads/2026/03/Nocterra_Run_Club_16x9.jpg
ORGANIZER;CN="Nocterra Brewing Co.":MAILTO:info@nocterrabrewing.com
END:VEVENT
BEGIN:VEVENT
DTSTART;TZID=UTC:20260414T190000
DTEND;TZID=UTC:20260414T210000
DTSTAMP:20260421T182705
CREATED:20260122T200823Z
LAST-MODIFIED:20260225T193747Z
UID:10001439-1776193200-1776200400@nocterrabrewing.com
SUMMARY:BINGO NIGHT! - POWELL
DESCRIPTION:Join us every Tuesday for a fun night of Bingo. We’ll be rolling balls and making calls. Listen for your number; you could go home with a fun prize!\nAs always\, it’s free to play and open to all ages.
URL:https://nocterrabrewing.com/event/bingo-night-powell-2/2026-04-14/
LOCATION:Nocterra Brewing Co. – Powell\, 41 Depot Street\, Powell\, OH\, 43065\, United States
CATEGORIES:Bingo,Entertainment,Family Fun,Powell
ATTACH;FMTTYPE=image/png:https://nocterrabrewing.com/wp-content/uploads/2025/02/Bingo-2025-3-FB-Event-.png
END:VEVENT
BEGIN:VEVENT
DTSTART;TZID=UTC:20260415T190000
DTEND;TZID=UTC:20260415T210000
DTSTAMP:20260421T182705
CREATED:20260225T195852Z
LAST-MODIFIED:20260318T214649Z
UID:10001762-1776279600-1776286800@nocterrabrewing.com
SUMMARY:TRIVIA NIGHTS! - POWELL
DESCRIPTION:Assemble your crew and test your knowledge at Nocterra Brewing Co.’s Trivia Night. Every Wednesday\, host Carmine will challenge you with general trivia. Prizes will be awarded to those lucky winners.\n\nAs always\, it’s free to play and open to all ages.
URL:https://nocterrabrewing.com/event/trivia-nights-powell-2-2/2026-04-15/
LOCATION:Nocterra Brewing Co. – Powell\, 41 Depot Street\, Powell\, OH\, 43065\, United States
CATEGORIES:Entertainment,Family Fun,Powell,Trivia
ATTACH;FMTTYPE=image/jpeg:https://nocterrabrewing.com/wp-content/uploads/2025/09/unnamed-3.jpg
END:VEVENT
BEGIN:VEVENT
DTSTART;TZID=UTC:20260416T181500
DTEND;TZID=UTC:20260416T201500
DTSTAMP:20260421T182705
CREATED:20260316T181447Z
LAST-MODIFIED:20260316T181447Z
UID:10002283-1776363300-1776370500@nocterrabrewing.com
SUMMARY:Run Club: Powell
DESCRIPTION:The Nocterra Run Club meets every Thursday at 6:15pm for a healthy run\, followed by a hangout in the taproom or beer garden.\nWe work with Columbus Running Company\, and our group incorporates all levels of ability\, pace\, or distance. It’s a great way to meet friends with similar goals and interests. We meet year-round. Open to the public. Join anytime. Cheers!
URL:https://nocterrabrewing.com/event/runclubpowell/2026-04-16/
LOCATION:Nocterra Brewing Co. – Powell\, 41 Depot Street\, Powell\, OH\, 43065\, United States
CATEGORIES:Powell
ATTACH;FMTTYPE=image/jpeg:https://nocterrabrewing.com/wp-content/uploads/2026/03/Nocterra_Run_Club_16x9.jpg
ORGANIZER;CN="Nocterra Brewing Co.":MAILTO:info@nocterrabrewing.com
END:VEVENT
BEGIN:VEVENT
DTSTART;TZID=UTC:20260419T120000
DTEND;TZID=UTC:20260419T140000
DTSTAMP:20260421T182705
CREATED:20260410T161333Z
LAST-MODIFIED:20260410T161333Z
UID:10002607-1776600000-1776607200@nocterrabrewing.com
SUMMARY:Family-Friendly: Bricks & Brews - Spring Tree Build
DESCRIPTION:Join Bricks & Minifigs Powell and Nocterra Brewing for an afternoon of LEGO fun! Build memories and LEGO sets to last a lifetime! \nEach registration includes 1 springtime LEGO kit and 1 beer ticket. \nArrive anytime between 12-2pm to get your kits. Additional LEGO will be available for purchase.
URL:https://nocterrabrewing.com/event/family-friendly-bricks-brews-spring-tree-build/
LOCATION:Nocterra Brewing Co. – Powell\, 41 Depot Street\, Powell\, OH\, 43065\, United States
CATEGORIES:Family Fun,Powell,Workshop
ATTACH;FMTTYPE=image/jpeg:https://nocterrabrewing.com/wp-content/uploads/2026/04/Bricks_Minifigs_April_Build_16x9.jpg
END:VEVENT
BEGIN:VEVENT
DTSTART;TZID=UTC:20260421T190000
DTEND;TZID=UTC:20260421T210000
DTSTAMP:20260421T182705
CREATED:20260122T200823Z
LAST-MODIFIED:20260225T193747Z
UID:10001440-1776798000-1776805200@nocterrabrewing.com
SUMMARY:BINGO NIGHT! - POWELL
DESCRIPTION:Join us every Tuesday for a fun night of Bingo. We’ll be rolling balls and making calls. Listen for your number; you could go home with a fun prize!\nAs always\, it’s free to play and open to all ages.
URL:https://nocterrabrewing.com/event/bingo-night-powell-2/2026-04-21/
LOCATION:Nocterra Brewing Co. – Powell\, 41 Depot Street\, Powell\, OH\, 43065\, United States
CATEGORIES:Bingo,Entertainment,Family Fun,Powell
ATTACH;FMTTYPE=image/png:https://nocterrabrewing.com/wp-content/uploads/2025/02/Bingo-2025-3-FB-Event-.png
END:VEVENT
BEGIN:VEVENT
DTSTART;TZID=UTC:20260421T190000
DTEND;TZID=UTC:20260421T210000
DTSTAMP:20260421T182705
CREATED:20260225T195031Z
LAST-MODIFIED:20260225T195031Z
UID:10001755-1776798000-1776805200@nocterrabrewing.com
SUMMARY:EARTH DAY: PLANT BINGO! - POWELL
DESCRIPTION:Join us for Earth Day: Plant Bingo. We’ll be rolling balls and making calls. Listen for your number; you could go home with a fun prize!\nAs always\, it’s free to play and open to all ages.
URL:https://nocterrabrewing.com/event/earth-day-plant-bingo-powell/
LOCATION:Nocterra Brewing Co. – Powell\, 41 Depot Street\, Powell\, OH\, 43065\, United States
CATEGORIES:Bingo,Entertainment,Family Fun,Powell
ATTACH;FMTTYPE=image/jpeg:https://nocterrabrewing.com/wp-content/uploads/2026/02/Earth_Day_Bingo.jpg
END:VEVENT
BEGIN:VEVENT
DTSTART;TZID=UTC:20260422T190000
DTEND;TZID=UTC:20260422T210000
DTSTAMP:20260421T182705
CREATED:20260225T195852Z
LAST-MODIFIED:20260318T214649Z
UID:10001763-1776884400-1776891600@nocterrabrewing.com
SUMMARY:TRIVIA NIGHTS! - POWELL
DESCRIPTION:Assemble your crew and test your knowledge at Nocterra Brewing Co.’s Trivia Night. Every Wednesday\, host Carmine will challenge you with general trivia. Prizes will be awarded to those lucky winners.\n\nAs always\, it’s free to play and open to all ages.
URL:https://nocterrabrewing.com/event/trivia-nights-powell-2-2/2026-04-22/
LOCATION:Nocterra Brewing Co. – Powell\, 41 Depot Street\, Powell\, OH\, 43065\, United States
CATEGORIES:Entertainment,Family Fun,Powell,Trivia
ATTACH;FMTTYPE=image/jpeg:https://nocterrabrewing.com/wp-content/uploads/2025/09/unnamed-3.jpg
END:VEVENT
BEGIN:VEVENT
DTSTART;TZID=UTC:20260423T181500
DTEND;TZID=UTC:20260423T201500
DTSTAMP:20260421T182705
CREATED:20260316T181447Z
LAST-MODIFIED:20260316T181447Z
UID:10002284-1776968100-1776975300@nocterrabrewing.com
SUMMARY:Run Club: Powell
DESCRIPTION:The Nocterra Run Club meets every Thursday at 6:15pm for a healthy run\, followed by a hangout in the taproom or beer garden.\nWe work with Columbus Running Company\, and our group incorporates all levels of ability\, pace\, or distance. It’s a great way to meet friends with similar goals and interests. We meet year-round. Open to the public. Join anytime. Cheers!
URL:https://nocterrabrewing.com/event/runclubpowell/2026-04-23/
LOCATION:Nocterra Brewing Co. – Powell\, 41 Depot Street\, Powell\, OH\, 43065\, United States
CATEGORIES:Powell
ATTACH;FMTTYPE=image/jpeg:https://nocterrabrewing.com/wp-content/uploads/2026/03/Nocterra_Run_Club_16x9.jpg
ORGANIZER;CN="Nocterra Brewing Co.":MAILTO:info@nocterrabrewing.com
END:VEVENT
BEGIN:VEVENT
DTSTART;TZID=UTC:20260426T120000
DTEND;TZID=UTC:20260426T140000
DTSTAMP:20260421T182705
CREATED:20260409T214119Z
LAST-MODIFIED:20260409T214119Z
UID:10002606-1777204800-1777212000@nocterrabrewing.com
SUMMARY:Family-Friendly Craft: A Sun Catcher by Checkart
DESCRIPTION:Get creative with colorful tiles and make your own sun catcher to brighten up any window! \n\n\n\n\nThe weather is getting warmer and the days are getting longer! Celebrate that sunshine and join us at Nocterra Brewing to create your own Mosaic Sun Catcher! Using plastic mosaic pieces\, you’ll sort through all kinds of colors and shapes to create your own beautiful masterpiece to liven up any window! Take advantage of our ticket deal and let the whole family join in on the fun! Enjoy a relaxing afternoon of delicious brews and creativity! \n\nGet your tickets now!
URL:https://nocterrabrewing.com/event/family-friendly-craft-a-sun-catcher-by-checkart/
LOCATION:Nocterra Brewing Co. – Powell\, 41 Depot Street\, Powell\, OH\, 43065\, United States
CATEGORIES:Family Fun,Powell
ATTACH;FMTTYPE=image/jpeg:https://nocterrabrewing.com/wp-content/uploads/2026/04/Checkart_Nocterra_Mosaic_Sun_Catcher_16x9.jpg
END:VEVENT
BEGIN:VEVENT
DTSTART;TZID=UTC:20260428T190000
DTEND;TZID=UTC:20260428T210000
DTSTAMP:20260421T182705
CREATED:20260225T193837Z
LAST-MODIFIED:20260225T193837Z
UID:10001753-1777402800-1777410000@nocterrabrewing.com
SUMMARY:MUSIC BINGO! - POWELL
DESCRIPTION:Join us for Music Bingo. We’ll be rolling balls and making calls. Listen for your number; you could go home with a fun prize!\nAs always\, it’s free to play and open to all ages.
URL:https://nocterrabrewing.com/event/music-bingo-powell/2026-04-28/
LOCATION:Nocterra Brewing Co. – Powell\, 41 Depot Street\, Powell\, OH\, 43065\, United States
CATEGORIES:Bingo,Entertainment,Family Fun,Powell
ATTACH;FMTTYPE=image/jpeg:https://nocterrabrewing.com/wp-content/uploads/2026/02/Music_Bingo.jpg
END:VEVENT
BEGIN:VEVENT
DTSTART;TZID=UTC:20260429T190000
DTEND;TZID=UTC:20260429T210000
DTSTAMP:20260421T182705
CREATED:20260225T195852Z
LAST-MODIFIED:20260318T214649Z
UID:10001764-1777489200-1777496400@nocterrabrewing.com
SUMMARY:TRIVIA NIGHTS! - POWELL
DESCRIPTION:Assemble your crew and test your knowledge at Nocterra Brewing Co.’s Trivia Night. Every Wednesday\, host Carmine will challenge you with general trivia. Prizes will be awarded to those lucky winners.\n\nAs always\, it’s free to play and open to all ages.
URL:https://nocterrabrewing.com/event/trivia-nights-powell-2-2/2026-04-29/
LOCATION:Nocterra Brewing Co. – Powell\, 41 Depot Street\, Powell\, OH\, 43065\, United States
CATEGORIES:Entertainment,Family Fun,Powell,Trivia
ATTACH;FMTTYPE=image/jpeg:https://nocterrabrewing.com/wp-content/uploads/2025/09/unnamed-3.jpg
END:VEVENT
BEGIN:VEVENT
DTSTART;TZID=UTC:20260430T181500
DTEND;TZID=UTC:20260430T201500
DTSTAMP:20260421T182705
CREATED:20260316T181447Z
LAST-MODIFIED:20260316T181447Z
UID:10002285-1777572900-1777580100@nocterrabrewing.com
SUMMARY:Run Club: Powell
DESCRIPTION:The Nocterra Run Club meets every Thursday at 6:15pm for a healthy run\, followed by a hangout in the taproom or beer garden.\nWe work with Columbus Running Company\, and our group incorporates all levels of ability\, pace\, or distance. It’s a great way to meet friends with similar goals and interests. We meet year-round. Open to the public. Join anytime. Cheers!
URL:https://nocterrabrewing.com/event/runclubpowell/2026-04-30/
LOCATION:Nocterra Brewing Co. – Powell\, 41 Depot Street\, Powell\, OH\, 43065\, United States
CATEGORIES:Powell
ATTACH;FMTTYPE=image/jpeg:https://nocterrabrewing.com/wp-content/uploads/2026/03/Nocterra_Run_Club_16x9.jpg
ORGANIZER;CN="Nocterra Brewing Co.":MAILTO:info@nocterrabrewing.com
END:VEVENT
BEGIN:VEVENT
DTSTART;TZID=UTC:20260505T190000
DTEND;TZID=UTC:20260505T210000
DTSTAMP:20260421T182705
CREATED:20260225T195548Z
LAST-MODIFIED:20260225T195548Z
UID:10001756-1778007600-1778014800@nocterrabrewing.com
SUMMARY:CINCO DE MAYO BINGO! - POWELL
DESCRIPTION:Join us for Cinco De Mayo Bingo. We’ll be rolling balls and making calls. Listen for your number; you could go home with a fun prize!\nAs always\, it’s free to play and open to all ages.
URL:https://nocterrabrewing.com/event/cinco-de-mayo-bingo-powell/
LOCATION:Nocterra Brewing Co. – Powell\, 41 Depot Street\, Powell\, OH\, 43065\, United States
CATEGORIES:Bingo,Entertainment,Family Fun,Powell
ATTACH;FMTTYPE=image/jpeg:https://nocterrabrewing.com/wp-content/uploads/2026/02/Cinco_De_Mayo_Bingo.jpg
END:VEVENT
BEGIN:VEVENT
DTSTART;TZID=UTC:20260506T190000
DTEND;TZID=UTC:20260506T210000
DTSTAMP:20260421T182705
CREATED:20260225T195852Z
LAST-MODIFIED:20260318T214649Z
UID:10001765-1778094000-1778101200@nocterrabrewing.com
SUMMARY:TRIVIA NIGHTS! - POWELL
DESCRIPTION:Assemble your crew and test your knowledge at Nocterra Brewing Co.’s Trivia Night. Every Wednesday\, host Carmine will challenge you with general trivia. Prizes will be awarded to those lucky winners.\n\nAs always\, it’s free to play and open to all ages.
URL:https://nocterrabrewing.com/event/trivia-nights-powell-2-2/2026-05-06/
LOCATION:Nocterra Brewing Co. – Powell\, 41 Depot Street\, Powell\, OH\, 43065\, United States
CATEGORIES:Entertainment,Family Fun,Powell,Trivia
ATTACH;FMTTYPE=image/jpeg:https://nocterrabrewing.com/wp-content/uploads/2025/09/unnamed-3.jpg
END:VEVENT
BEGIN:VEVENT
DTSTART;TZID=UTC:20260507T181500
DTEND;TZID=UTC:20260507T201500
DTSTAMP:20260421T182705
CREATED:20260316T181447Z
LAST-MODIFIED:20260316T181447Z
UID:10002286-1778177700-1778184900@nocterrabrewing.com
SUMMARY:Run Club: Powell
DESCRIPTION:The Nocterra Run Club meets every Thursday at 6:15pm for a healthy run\, followed by a hangout in the taproom or beer garden.\nWe work with Columbus Running Company\, and our group incorporates all levels of ability\, pace\, or distance. It’s a great way to meet friends with similar goals and interests. We meet year-round. Open to the public. Join anytime. Cheers!
URL:https://nocterrabrewing.com/event/runclubpowell/2026-05-07/
LOCATION:Nocterra Brewing Co. – Powell\, 41 Depot Street\, Powell\, OH\, 43065\, United States
CATEGORIES:Powell
ATTACH;FMTTYPE=image/jpeg:https://nocterrabrewing.com/wp-content/uploads/2026/03/Nocterra_Run_Club_16x9.jpg
ORGANIZER;CN="Nocterra Brewing Co.":MAILTO:info@nocterrabrewing.com
END:VEVENT
BEGIN:VEVENT
DTSTART;TZID=UTC:20260512T190000
DTEND;TZID=UTC:20260512T210000
DTSTAMP:20260421T182705
CREATED:20260122T200823Z
LAST-MODIFIED:20260225T193747Z
UID:10001443-1778612400-1778619600@nocterrabrewing.com
SUMMARY:BINGO NIGHT! - POWELL
DESCRIPTION:Join us every Tuesday for a fun night of Bingo. We’ll be rolling balls and making calls. Listen for your number; you could go home with a fun prize!\nAs always\, it’s free to play and open to all ages.
URL:https://nocterrabrewing.com/event/bingo-night-powell-2/2026-05-12/
LOCATION:Nocterra Brewing Co. – Powell\, 41 Depot Street\, Powell\, OH\, 43065\, United States
CATEGORIES:Bingo,Entertainment,Family Fun,Powell
ATTACH;FMTTYPE=image/png:https://nocterrabrewing.com/wp-content/uploads/2025/02/Bingo-2025-3-FB-Event-.png
END:VEVENT
BEGIN:VEVENT
DTSTART;TZID=UTC:20260513T190000
DTEND;TZID=UTC:20260513T210000
DTSTAMP:20260421T182705
CREATED:20260225T195852Z
LAST-MODIFIED:20260318T214649Z
UID:10001766-1778698800-1778706000@nocterrabrewing.com
SUMMARY:TRIVIA NIGHTS! - POWELL
DESCRIPTION:Assemble your crew and test your knowledge at Nocterra Brewing Co.’s Trivia Night. Every Wednesday\, host Carmine will challenge you with general trivia. Prizes will be awarded to those lucky winners.\n\nAs always\, it’s free to play and open to all ages.
URL:https://nocterrabrewing.com/event/trivia-nights-powell-2-2/2026-05-13/
LOCATION:Nocterra Brewing Co. – Powell\, 41 Depot Street\, Powell\, OH\, 43065\, United States
CATEGORIES:Entertainment,Family Fun,Powell,Trivia
ATTACH;FMTTYPE=image/jpeg:https://nocterrabrewing.com/wp-content/uploads/2025/09/unnamed-3.jpg
END:VEVENT
BEGIN:VEVENT
DTSTART;TZID=UTC:20260514T181500
DTEND;TZID=UTC:20260514T201500
DTSTAMP:20260421T182705
CREATED:20260316T181447Z
LAST-MODIFIED:20260316T181447Z
UID:10002287-1778782500-1778789700@nocterrabrewing.com
SUMMARY:Run Club: Powell
DESCRIPTION:The Nocterra Run Club meets every Thursday at 6:15pm for a healthy run\, followed by a hangout in the taproom or beer garden.\nWe work with Columbus Running Company\, and our group incorporates all levels of ability\, pace\, or distance. It’s a great way to meet friends with similar goals and interests. We meet year-round. Open to the public. Join anytime. Cheers!
URL:https://nocterrabrewing.com/event/runclubpowell/2026-05-14/
LOCATION:Nocterra Brewing Co. – Powell\, 41 Depot Street\, Powell\, OH\, 43065\, United States
CATEGORIES:Powell
ATTACH;FMTTYPE=image/jpeg:https://nocterrabrewing.com/wp-content/uploads/2026/03/Nocterra_Run_Club_16x9.jpg
ORGANIZER;CN="Nocterra Brewing Co.":MAILTO:info@nocterrabrewing.com
END:VEVENT
BEGIN:VEVENT
DTSTART;TZID=UTC:20260519T190000
DTEND;TZID=UTC:20260519T210000
DTSTAMP:20260421T182705
CREATED:20260122T200823Z
LAST-MODIFIED:20260225T193747Z
UID:10001444-1779217200-1779224400@nocterrabrewing.com
SUMMARY:BINGO NIGHT! - POWELL
DESCRIPTION:Join us every Tuesday for a fun night of Bingo. We’ll be rolling balls and making calls. Listen for your number; you could go home with a fun prize!\nAs always\, it’s free to play and open to all ages.
URL:https://nocterrabrewing.com/event/bingo-night-powell-2/2026-05-19/
LOCATION:Nocterra Brewing Co. – Powell\, 41 Depot Street\, Powell\, OH\, 43065\, United States
CATEGORIES:Bingo,Entertainment,Family Fun,Powell
ATTACH;FMTTYPE=image/png:https://nocterrabrewing.com/wp-content/uploads/2025/02/Bingo-2025-3-FB-Event-.png
END:VEVENT
BEGIN:VEVENT
DTSTART;TZID=UTC:20260520T190000
DTEND;TZID=UTC:20260520T210000
DTSTAMP:20260421T182705
CREATED:20260318T214420Z
LAST-MODIFIED:20260318T215123Z
UID:10002544-1779303600-1779310800@nocterrabrewing.com
SUMMARY:BIRD TRIVIA! w/ Wild Birds Unlimited
DESCRIPTION:Come out and test your knowledge about birds\, nature\, and bird themes throughout history and pop culture. We’re teaming up with Wild Birds Unlimited for their vast knowledge and fun prizes. Free to play. Open to the public. Come enjoy a “flight” of beer and test your bird brain.
URL:https://nocterrabrewing.com/event/bird-trivia-w-wild-birds-unlimited/2026-05-20/
LOCATION:OH
CATEGORIES:Entertainment,Family Fun,Powell,Trivia
ATTACH;FMTTYPE=image/jpeg:https://nocterrabrewing.com/wp-content/uploads/2026/03/Bird_Trivia_1920x1080.jpg
END:VEVENT
BEGIN:VEVENT
DTSTART;TZID=UTC:20260521T181500
DTEND;TZID=UTC:20260521T201500
DTSTAMP:20260421T182705
CREATED:20260316T181447Z
LAST-MODIFIED:20260316T181447Z
UID:10002288-1779387300-1779394500@nocterrabrewing.com
SUMMARY:Run Club: Powell
DESCRIPTION:The Nocterra Run Club meets every Thursday at 6:15pm for a healthy run\, followed by a hangout in the taproom or beer garden.\nWe work with Columbus Running Company\, and our group incorporates all levels of ability\, pace\, or distance. It’s a great way to meet friends with similar goals and interests. We meet year-round. Open to the public. Join anytime. Cheers!
URL:https://nocterrabrewing.com/event/runclubpowell/2026-05-21/
LOCATION:Nocterra Brewing Co. – Powell\, 41 Depot Street\, Powell\, OH\, 43065\, United States
CATEGORIES:Powell
ATTACH;FMTTYPE=image/jpeg:https://nocterrabrewing.com/wp-content/uploads/2026/03/Nocterra_Run_Club_16x9.jpg
ORGANIZER;CN="Nocterra Brewing Co.":MAILTO:info@nocterrabrewing.com
END:VEVENT
BEGIN:VEVENT
DTSTART;TZID=UTC:20260526T190000
DTEND;TZID=UTC:20260526T210000
DTSTAMP:20260421T182705
CREATED:20260122T200823Z
LAST-MODIFIED:20260225T193747Z
UID:10001445-1779822000-1779829200@nocterrabrewing.com
SUMMARY:BINGO NIGHT! - POWELL
DESCRIPTION:Join us every Tuesday for a fun night of Bingo. We’ll be rolling balls and making calls. Listen for your number; you could go home with a fun prize!\nAs always\, it’s free to play and open to all ages.
URL:https://nocterrabrewing.com/event/bingo-night-powell-2/2026-05-26/
LOCATION:Nocterra Brewing Co. – Powell\, 41 Depot Street\, Powell\, OH\, 43065\, United States
CATEGORIES:Bingo,Entertainment,Family Fun,Powell
ATTACH;FMTTYPE=image/png:https://nocterrabrewing.com/wp-content/uploads/2025/02/Bingo-2025-3-FB-Event-.png
END:VEVENT
BEGIN:VEVENT
DTSTART;TZID=UTC:20260527T190000
DTEND;TZID=UTC:20260527T210000
DTSTAMP:20260421T182705
CREATED:20260225T195852Z
LAST-MODIFIED:20260318T214649Z
UID:10001768-1779908400-1779915600@nocterrabrewing.com
SUMMARY:TRIVIA NIGHTS! - POWELL
DESCRIPTION:Assemble your crew and test your knowledge at Nocterra Brewing Co.’s Trivia Night. Every Wednesday\, host Carmine will challenge you with general trivia. Prizes will be awarded to those lucky winners.\n\nAs always\, it’s free to play and open to all ages.
URL:https://nocterrabrewing.com/event/trivia-nights-powell-2-2/2026-05-27/
LOCATION:Nocterra Brewing Co. – Powell\, 41 Depot Street\, Powell\, OH\, 43065\, United States
CATEGORIES:Entertainment,Family Fun,Powell,Trivia
ATTACH;FMTTYPE=image/jpeg:https://nocterrabrewing.com/wp-content/uploads/2025/09/unnamed-3.jpg
END:VEVENT
END:VCALENDAR