BEGIN:VCALENDAR
VERSION:2.0
PRODID:-//Nocterra Brewing Co. - ECPv6.15.17//NONSGML v1.0//EN
CALSCALE:GREGORIAN
METHOD:PUBLISH
X-ORIGINAL-URL:https://nocterrabrewing.com
X-WR-CALDESC:Events for Nocterra Brewing Co.
REFRESH-INTERVAL;VALUE=DURATION:PT1H
X-Robots-Tag:noindex
X-PUBLISHED-TTL:PT1H
BEGIN:VTIMEZONE
TZID:UTC
BEGIN:STANDARD
TZOFFSETFROM:+0000
TZOFFSETTO:+0000
TZNAME:UTC
DTSTART:20280101T000000
END:STANDARD
END:VTIMEZONE
BEGIN:VEVENT
DTSTART;TZID=UTC:20291225T190000
DTEND;TZID=UTC:20291225T210000
DTSTAMP:20260425T135422
CREATED:20260122T200823Z
LAST-MODIFIED:20260225T193747Z
UID:10001632-1892919600-1892926800@nocterrabrewing.com
SUMMARY:BINGO NIGHT! - POWELL
DESCRIPTION:Join us every Tuesday for a fun night of Bingo. We’ll be rolling balls and making calls. Listen for your number; you could go home with a fun prize!\nAs always\, it’s free to play and open to all ages.
URL:https://nocterrabrewing.com/event/bingo-night-powell-2/2029-12-25/
LOCATION:Nocterra Brewing Co. – Powell\, 41 Depot Street\, Powell\, OH\, 43065\, United States
CATEGORIES:Bingo,Entertainment,Family Fun,Powell
ATTACH;FMTTYPE=image/png:https://nocterrabrewing.com/wp-content/uploads/2025/02/Bingo-2025-3-FB-Event-.png
END:VEVENT
BEGIN:VEVENT
DTSTART;TZID=UTC:20291226T190000
DTEND;TZID=UTC:20291226T210000
DTSTAMP:20260425T135422
CREATED:20260225T195852Z
LAST-MODIFIED:20260318T214649Z
UID:10001955-1893006000-1893013200@nocterrabrewing.com
SUMMARY:TRIVIA NIGHTS! - POWELL
DESCRIPTION:Assemble your crew and test your knowledge at Nocterra Brewing Co.’s Trivia Night. Every Wednesday\, host Carmine will challenge you with general trivia. Prizes will be awarded to those lucky winners.\n\nAs always\, it’s free to play and open to all ages.
URL:https://nocterrabrewing.com/event/trivia-nights-powell-2-2/2029-12-26/
LOCATION:Nocterra Brewing Co. – Powell\, 41 Depot Street\, Powell\, OH\, 43065\, United States
CATEGORIES:Entertainment,Family Fun,Powell,Trivia
ATTACH;FMTTYPE=image/jpeg:https://nocterrabrewing.com/wp-content/uploads/2025/09/unnamed-3.jpg
END:VEVENT
BEGIN:VEVENT
DTSTART;TZID=UTC:20291227T181500
DTEND;TZID=UTC:20291227T201500
DTSTAMP:20260425T135422
CREATED:20260316T181447Z
LAST-MODIFIED:20260316T181447Z
UID:10002476-1893089700-1893096900@nocterrabrewing.com
SUMMARY:Run Club: Powell
DESCRIPTION:The Nocterra Run Club meets every Thursday at 6:15pm for a healthy run\, followed by a hangout in the taproom or beer garden.\nWe work with Columbus Running Company\, and our group incorporates all levels of ability\, pace\, or distance. It’s a great way to meet friends with similar goals and interests. We meet year-round. Open to the public. Join anytime. Cheers!
URL:https://nocterrabrewing.com/event/runclubpowell/2029-12-27/
LOCATION:Nocterra Brewing Co. – Powell\, 41 Depot Street\, Powell\, OH\, 43065\, United States
CATEGORIES:Powell
ATTACH;FMTTYPE=image/jpeg:https://nocterrabrewing.com/wp-content/uploads/2026/03/Nocterra_Run_Club_16x9.jpg
ORGANIZER;CN="Nocterra Brewing Co.":MAILTO:info@nocterrabrewing.com
END:VEVENT
BEGIN:VEVENT
DTSTART;TZID=UTC:20300101T190000
DTEND;TZID=UTC:20300101T210000
DTSTAMP:20260425T135422
CREATED:20260122T200823Z
LAST-MODIFIED:20260225T193747Z
UID:10001633-1893524400-1893531600@nocterrabrewing.com
SUMMARY:BINGO NIGHT! - POWELL
DESCRIPTION:Join us every Tuesday for a fun night of Bingo. We’ll be rolling balls and making calls. Listen for your number; you could go home with a fun prize!\nAs always\, it’s free to play and open to all ages.
URL:https://nocterrabrewing.com/event/bingo-night-powell-2/2030-01-01/
LOCATION:Nocterra Brewing Co. – Powell\, 41 Depot Street\, Powell\, OH\, 43065\, United States
CATEGORIES:Bingo,Entertainment,Family Fun,Powell
ATTACH;FMTTYPE=image/png:https://nocterrabrewing.com/wp-content/uploads/2025/02/Bingo-2025-3-FB-Event-.png
END:VEVENT
BEGIN:VEVENT
DTSTART;TZID=UTC:20300102T190000
DTEND;TZID=UTC:20300102T210000
DTSTAMP:20260425T135422
CREATED:20260225T195852Z
LAST-MODIFIED:20260318T214649Z
UID:10001956-1893610800-1893618000@nocterrabrewing.com
SUMMARY:TRIVIA NIGHTS! - POWELL
DESCRIPTION:Assemble your crew and test your knowledge at Nocterra Brewing Co.’s Trivia Night. Every Wednesday\, host Carmine will challenge you with general trivia. Prizes will be awarded to those lucky winners.\n\nAs always\, it’s free to play and open to all ages.
URL:https://nocterrabrewing.com/event/trivia-nights-powell-2-2/2030-01-02/
LOCATION:Nocterra Brewing Co. – Powell\, 41 Depot Street\, Powell\, OH\, 43065\, United States
CATEGORIES:Entertainment,Family Fun,Powell,Trivia
ATTACH;FMTTYPE=image/jpeg:https://nocterrabrewing.com/wp-content/uploads/2025/09/unnamed-3.jpg
END:VEVENT
BEGIN:VEVENT
DTSTART;TZID=UTC:20300103T181500
DTEND;TZID=UTC:20300103T201500
DTSTAMP:20260425T135422
CREATED:20260316T181447Z
LAST-MODIFIED:20260316T181447Z
UID:10002477-1893694500-1893701700@nocterrabrewing.com
SUMMARY:Run Club: Powell
DESCRIPTION:The Nocterra Run Club meets every Thursday at 6:15pm for a healthy run\, followed by a hangout in the taproom or beer garden.\nWe work with Columbus Running Company\, and our group incorporates all levels of ability\, pace\, or distance. It’s a great way to meet friends with similar goals and interests. We meet year-round. Open to the public. Join anytime. Cheers!
URL:https://nocterrabrewing.com/event/runclubpowell/2030-01-03/
LOCATION:Nocterra Brewing Co. – Powell\, 41 Depot Street\, Powell\, OH\, 43065\, United States
CATEGORIES:Powell
ATTACH;FMTTYPE=image/jpeg:https://nocterrabrewing.com/wp-content/uploads/2026/03/Nocterra_Run_Club_16x9.jpg
ORGANIZER;CN="Nocterra Brewing Co.":MAILTO:info@nocterrabrewing.com
END:VEVENT
BEGIN:VEVENT
DTSTART;TZID=UTC:20300108T190000
DTEND;TZID=UTC:20300108T210000
DTSTAMP:20260425T135422
CREATED:20260122T200823Z
LAST-MODIFIED:20260225T193747Z
UID:10001634-1894129200-1894136400@nocterrabrewing.com
SUMMARY:BINGO NIGHT! - POWELL
DESCRIPTION:Join us every Tuesday for a fun night of Bingo. We’ll be rolling balls and making calls. Listen for your number; you could go home with a fun prize!\nAs always\, it’s free to play and open to all ages.
URL:https://nocterrabrewing.com/event/bingo-night-powell-2/2030-01-08/
LOCATION:Nocterra Brewing Co. – Powell\, 41 Depot Street\, Powell\, OH\, 43065\, United States
CATEGORIES:Bingo,Entertainment,Family Fun,Powell
ATTACH;FMTTYPE=image/png:https://nocterrabrewing.com/wp-content/uploads/2025/02/Bingo-2025-3-FB-Event-.png
END:VEVENT
BEGIN:VEVENT
DTSTART;TZID=UTC:20300109T190000
DTEND;TZID=UTC:20300109T210000
DTSTAMP:20260425T135422
CREATED:20260225T195852Z
LAST-MODIFIED:20260318T214649Z
UID:10001957-1894215600-1894222800@nocterrabrewing.com
SUMMARY:TRIVIA NIGHTS! - POWELL
DESCRIPTION:Assemble your crew and test your knowledge at Nocterra Brewing Co.’s Trivia Night. Every Wednesday\, host Carmine will challenge you with general trivia. Prizes will be awarded to those lucky winners.\n\nAs always\, it’s free to play and open to all ages.
URL:https://nocterrabrewing.com/event/trivia-nights-powell-2-2/2030-01-09/
LOCATION:Nocterra Brewing Co. – Powell\, 41 Depot Street\, Powell\, OH\, 43065\, United States
CATEGORIES:Entertainment,Family Fun,Powell,Trivia
ATTACH;FMTTYPE=image/jpeg:https://nocterrabrewing.com/wp-content/uploads/2025/09/unnamed-3.jpg
END:VEVENT
BEGIN:VEVENT
DTSTART;TZID=UTC:20300110T181500
DTEND;TZID=UTC:20300110T201500
DTSTAMP:20260425T135422
CREATED:20260316T181447Z
LAST-MODIFIED:20260316T181447Z
UID:10002478-1894299300-1894306500@nocterrabrewing.com
SUMMARY:Run Club: Powell
DESCRIPTION:The Nocterra Run Club meets every Thursday at 6:15pm for a healthy run\, followed by a hangout in the taproom or beer garden.\nWe work with Columbus Running Company\, and our group incorporates all levels of ability\, pace\, or distance. It’s a great way to meet friends with similar goals and interests. We meet year-round. Open to the public. Join anytime. Cheers!
URL:https://nocterrabrewing.com/event/runclubpowell/2030-01-10/
LOCATION:Nocterra Brewing Co. – Powell\, 41 Depot Street\, Powell\, OH\, 43065\, United States
CATEGORIES:Powell
ATTACH;FMTTYPE=image/jpeg:https://nocterrabrewing.com/wp-content/uploads/2026/03/Nocterra_Run_Club_16x9.jpg
ORGANIZER;CN="Nocterra Brewing Co.":MAILTO:info@nocterrabrewing.com
END:VEVENT
BEGIN:VEVENT
DTSTART;TZID=UTC:20300115T190000
DTEND;TZID=UTC:20300115T210000
DTSTAMP:20260425T135422
CREATED:20260122T200823Z
LAST-MODIFIED:20260225T193747Z
UID:10001635-1894734000-1894741200@nocterrabrewing.com
SUMMARY:BINGO NIGHT! - POWELL
DESCRIPTION:Join us every Tuesday for a fun night of Bingo. We’ll be rolling balls and making calls. Listen for your number; you could go home with a fun prize!\nAs always\, it’s free to play and open to all ages.
URL:https://nocterrabrewing.com/event/bingo-night-powell-2/2030-01-15/
LOCATION:Nocterra Brewing Co. – Powell\, 41 Depot Street\, Powell\, OH\, 43065\, United States
CATEGORIES:Bingo,Entertainment,Family Fun,Powell
ATTACH;FMTTYPE=image/png:https://nocterrabrewing.com/wp-content/uploads/2025/02/Bingo-2025-3-FB-Event-.png
END:VEVENT
BEGIN:VEVENT
DTSTART;TZID=UTC:20300116T190000
DTEND;TZID=UTC:20300116T210000
DTSTAMP:20260425T135422
CREATED:20260225T195852Z
LAST-MODIFIED:20260318T214649Z
UID:10001958-1894820400-1894827600@nocterrabrewing.com
SUMMARY:TRIVIA NIGHTS! - POWELL
DESCRIPTION:Assemble your crew and test your knowledge at Nocterra Brewing Co.’s Trivia Night. Every Wednesday\, host Carmine will challenge you with general trivia. Prizes will be awarded to those lucky winners.\n\nAs always\, it’s free to play and open to all ages.
URL:https://nocterrabrewing.com/event/trivia-nights-powell-2-2/2030-01-16/
LOCATION:Nocterra Brewing Co. – Powell\, 41 Depot Street\, Powell\, OH\, 43065\, United States
CATEGORIES:Entertainment,Family Fun,Powell,Trivia
ATTACH;FMTTYPE=image/jpeg:https://nocterrabrewing.com/wp-content/uploads/2025/09/unnamed-3.jpg
END:VEVENT
BEGIN:VEVENT
DTSTART;TZID=UTC:20300117T181500
DTEND;TZID=UTC:20300117T201500
DTSTAMP:20260425T135422
CREATED:20260316T181447Z
LAST-MODIFIED:20260316T181447Z
UID:10002479-1894904100-1894911300@nocterrabrewing.com
SUMMARY:Run Club: Powell
DESCRIPTION:The Nocterra Run Club meets every Thursday at 6:15pm for a healthy run\, followed by a hangout in the taproom or beer garden.\nWe work with Columbus Running Company\, and our group incorporates all levels of ability\, pace\, or distance. It’s a great way to meet friends with similar goals and interests. We meet year-round. Open to the public. Join anytime. Cheers!
URL:https://nocterrabrewing.com/event/runclubpowell/2030-01-17/
LOCATION:Nocterra Brewing Co. – Powell\, 41 Depot Street\, Powell\, OH\, 43065\, United States
CATEGORIES:Powell
ATTACH;FMTTYPE=image/jpeg:https://nocterrabrewing.com/wp-content/uploads/2026/03/Nocterra_Run_Club_16x9.jpg
ORGANIZER;CN="Nocterra Brewing Co.":MAILTO:info@nocterrabrewing.com
END:VEVENT
BEGIN:VEVENT
DTSTART;TZID=UTC:20300122T190000
DTEND;TZID=UTC:20300122T210000
DTSTAMP:20260425T135422
CREATED:20260122T200823Z
LAST-MODIFIED:20260225T193747Z
UID:10001636-1895338800-1895346000@nocterrabrewing.com
SUMMARY:BINGO NIGHT! - POWELL
DESCRIPTION:Join us every Tuesday for a fun night of Bingo. We’ll be rolling balls and making calls. Listen for your number; you could go home with a fun prize!\nAs always\, it’s free to play and open to all ages.
URL:https://nocterrabrewing.com/event/bingo-night-powell-2/2030-01-22/
LOCATION:Nocterra Brewing Co. – Powell\, 41 Depot Street\, Powell\, OH\, 43065\, United States
CATEGORIES:Bingo,Entertainment,Family Fun,Powell
ATTACH;FMTTYPE=image/png:https://nocterrabrewing.com/wp-content/uploads/2025/02/Bingo-2025-3-FB-Event-.png
END:VEVENT
BEGIN:VEVENT
DTSTART;TZID=UTC:20300123T190000
DTEND;TZID=UTC:20300123T210000
DTSTAMP:20260425T135422
CREATED:20260225T195852Z
LAST-MODIFIED:20260318T214649Z
UID:10001959-1895425200-1895432400@nocterrabrewing.com
SUMMARY:TRIVIA NIGHTS! - POWELL
DESCRIPTION:Assemble your crew and test your knowledge at Nocterra Brewing Co.’s Trivia Night. Every Wednesday\, host Carmine will challenge you with general trivia. Prizes will be awarded to those lucky winners.\n\nAs always\, it’s free to play and open to all ages.
URL:https://nocterrabrewing.com/event/trivia-nights-powell-2-2/2030-01-23/
LOCATION:Nocterra Brewing Co. – Powell\, 41 Depot Street\, Powell\, OH\, 43065\, United States
CATEGORIES:Entertainment,Family Fun,Powell,Trivia
ATTACH;FMTTYPE=image/jpeg:https://nocterrabrewing.com/wp-content/uploads/2025/09/unnamed-3.jpg
END:VEVENT
BEGIN:VEVENT
DTSTART;TZID=UTC:20300124T181500
DTEND;TZID=UTC:20300124T201500
DTSTAMP:20260425T135422
CREATED:20260316T181447Z
LAST-MODIFIED:20260316T181447Z
UID:10002480-1895508900-1895516100@nocterrabrewing.com
SUMMARY:Run Club: Powell
DESCRIPTION:The Nocterra Run Club meets every Thursday at 6:15pm for a healthy run\, followed by a hangout in the taproom or beer garden.\nWe work with Columbus Running Company\, and our group incorporates all levels of ability\, pace\, or distance. It’s a great way to meet friends with similar goals and interests. We meet year-round. Open to the public. Join anytime. Cheers!
URL:https://nocterrabrewing.com/event/runclubpowell/2030-01-24/
LOCATION:Nocterra Brewing Co. – Powell\, 41 Depot Street\, Powell\, OH\, 43065\, United States
CATEGORIES:Powell
ATTACH;FMTTYPE=image/jpeg:https://nocterrabrewing.com/wp-content/uploads/2026/03/Nocterra_Run_Club_16x9.jpg
ORGANIZER;CN="Nocterra Brewing Co.":MAILTO:info@nocterrabrewing.com
END:VEVENT
BEGIN:VEVENT
DTSTART;TZID=UTC:20300129T190000
DTEND;TZID=UTC:20300129T210000
DTSTAMP:20260425T135422
CREATED:20260122T200823Z
LAST-MODIFIED:20260225T193747Z
UID:10001637-1895943600-1895950800@nocterrabrewing.com
SUMMARY:BINGO NIGHT! - POWELL
DESCRIPTION:Join us every Tuesday for a fun night of Bingo. We’ll be rolling balls and making calls. Listen for your number; you could go home with a fun prize!\nAs always\, it’s free to play and open to all ages.
URL:https://nocterrabrewing.com/event/bingo-night-powell-2/2030-01-29/
LOCATION:Nocterra Brewing Co. – Powell\, 41 Depot Street\, Powell\, OH\, 43065\, United States
CATEGORIES:Bingo,Entertainment,Family Fun,Powell
ATTACH;FMTTYPE=image/png:https://nocterrabrewing.com/wp-content/uploads/2025/02/Bingo-2025-3-FB-Event-.png
END:VEVENT
BEGIN:VEVENT
DTSTART;TZID=UTC:20300130T190000
DTEND;TZID=UTC:20300130T210000
DTSTAMP:20260425T135422
CREATED:20260225T195852Z
LAST-MODIFIED:20260318T214649Z
UID:10001960-1896030000-1896037200@nocterrabrewing.com
SUMMARY:TRIVIA NIGHTS! - POWELL
DESCRIPTION:Assemble your crew and test your knowledge at Nocterra Brewing Co.’s Trivia Night. Every Wednesday\, host Carmine will challenge you with general trivia. Prizes will be awarded to those lucky winners.\n\nAs always\, it’s free to play and open to all ages.
URL:https://nocterrabrewing.com/event/trivia-nights-powell-2-2/2030-01-30/
LOCATION:Nocterra Brewing Co. – Powell\, 41 Depot Street\, Powell\, OH\, 43065\, United States
CATEGORIES:Entertainment,Family Fun,Powell,Trivia
ATTACH;FMTTYPE=image/jpeg:https://nocterrabrewing.com/wp-content/uploads/2025/09/unnamed-3.jpg
END:VEVENT
BEGIN:VEVENT
DTSTART;TZID=UTC:20300131T181500
DTEND;TZID=UTC:20300131T201500
DTSTAMP:20260425T135422
CREATED:20260316T181447Z
LAST-MODIFIED:20260316T181447Z
UID:10002481-1896113700-1896120900@nocterrabrewing.com
SUMMARY:Run Club: Powell
DESCRIPTION:The Nocterra Run Club meets every Thursday at 6:15pm for a healthy run\, followed by a hangout in the taproom or beer garden.\nWe work with Columbus Running Company\, and our group incorporates all levels of ability\, pace\, or distance. It’s a great way to meet friends with similar goals and interests. We meet year-round. Open to the public. Join anytime. Cheers!
URL:https://nocterrabrewing.com/event/runclubpowell/2030-01-31/
LOCATION:Nocterra Brewing Co. – Powell\, 41 Depot Street\, Powell\, OH\, 43065\, United States
CATEGORIES:Powell
ATTACH;FMTTYPE=image/jpeg:https://nocterrabrewing.com/wp-content/uploads/2026/03/Nocterra_Run_Club_16x9.jpg
ORGANIZER;CN="Nocterra Brewing Co.":MAILTO:info@nocterrabrewing.com
END:VEVENT
BEGIN:VEVENT
DTSTART;TZID=UTC:20300205T190000
DTEND;TZID=UTC:20300205T210000
DTSTAMP:20260425T135422
CREATED:20260122T200823Z
LAST-MODIFIED:20260225T193747Z
UID:10001638-1896548400-1896555600@nocterrabrewing.com
SUMMARY:BINGO NIGHT! - POWELL
DESCRIPTION:Join us every Tuesday for a fun night of Bingo. We’ll be rolling balls and making calls. Listen for your number; you could go home with a fun prize!\nAs always\, it’s free to play and open to all ages.
URL:https://nocterrabrewing.com/event/bingo-night-powell-2/2030-02-05/
LOCATION:Nocterra Brewing Co. – Powell\, 41 Depot Street\, Powell\, OH\, 43065\, United States
CATEGORIES:Bingo,Entertainment,Family Fun,Powell
ATTACH;FMTTYPE=image/png:https://nocterrabrewing.com/wp-content/uploads/2025/02/Bingo-2025-3-FB-Event-.png
END:VEVENT
BEGIN:VEVENT
DTSTART;TZID=UTC:20300206T190000
DTEND;TZID=UTC:20300206T210000
DTSTAMP:20260425T135422
CREATED:20260225T195852Z
LAST-MODIFIED:20260318T214649Z
UID:10001961-1896634800-1896642000@nocterrabrewing.com
SUMMARY:TRIVIA NIGHTS! - POWELL
DESCRIPTION:Assemble your crew and test your knowledge at Nocterra Brewing Co.’s Trivia Night. Every Wednesday\, host Carmine will challenge you with general trivia. Prizes will be awarded to those lucky winners.\n\nAs always\, it’s free to play and open to all ages.
URL:https://nocterrabrewing.com/event/trivia-nights-powell-2-2/2030-02-06/
LOCATION:Nocterra Brewing Co. – Powell\, 41 Depot Street\, Powell\, OH\, 43065\, United States
CATEGORIES:Entertainment,Family Fun,Powell,Trivia
ATTACH;FMTTYPE=image/jpeg:https://nocterrabrewing.com/wp-content/uploads/2025/09/unnamed-3.jpg
END:VEVENT
BEGIN:VEVENT
DTSTART;TZID=UTC:20300207T181500
DTEND;TZID=UTC:20300207T201500
DTSTAMP:20260425T135422
CREATED:20260316T181447Z
LAST-MODIFIED:20260316T181447Z
UID:10002482-1896718500-1896725700@nocterrabrewing.com
SUMMARY:Run Club: Powell
DESCRIPTION:The Nocterra Run Club meets every Thursday at 6:15pm for a healthy run\, followed by a hangout in the taproom or beer garden.\nWe work with Columbus Running Company\, and our group incorporates all levels of ability\, pace\, or distance. It’s a great way to meet friends with similar goals and interests. We meet year-round. Open to the public. Join anytime. Cheers!
URL:https://nocterrabrewing.com/event/runclubpowell/2030-02-07/
LOCATION:Nocterra Brewing Co. – Powell\, 41 Depot Street\, Powell\, OH\, 43065\, United States
CATEGORIES:Powell
ATTACH;FMTTYPE=image/jpeg:https://nocterrabrewing.com/wp-content/uploads/2026/03/Nocterra_Run_Club_16x9.jpg
ORGANIZER;CN="Nocterra Brewing Co.":MAILTO:info@nocterrabrewing.com
END:VEVENT
BEGIN:VEVENT
DTSTART;TZID=UTC:20300212T190000
DTEND;TZID=UTC:20300212T210000
DTSTAMP:20260425T135422
CREATED:20260122T200823Z
LAST-MODIFIED:20260225T193747Z
UID:10001639-1897153200-1897160400@nocterrabrewing.com
SUMMARY:BINGO NIGHT! - POWELL
DESCRIPTION:Join us every Tuesday for a fun night of Bingo. We’ll be rolling balls and making calls. Listen for your number; you could go home with a fun prize!\nAs always\, it’s free to play and open to all ages.
URL:https://nocterrabrewing.com/event/bingo-night-powell-2/2030-02-12/
LOCATION:Nocterra Brewing Co. – Powell\, 41 Depot Street\, Powell\, OH\, 43065\, United States
CATEGORIES:Bingo,Entertainment,Family Fun,Powell
ATTACH;FMTTYPE=image/png:https://nocterrabrewing.com/wp-content/uploads/2025/02/Bingo-2025-3-FB-Event-.png
END:VEVENT
BEGIN:VEVENT
DTSTART;TZID=UTC:20300213T190000
DTEND;TZID=UTC:20300213T210000
DTSTAMP:20260425T135422
CREATED:20260225T195852Z
LAST-MODIFIED:20260318T214649Z
UID:10001962-1897239600-1897246800@nocterrabrewing.com
SUMMARY:TRIVIA NIGHTS! - POWELL
DESCRIPTION:Assemble your crew and test your knowledge at Nocterra Brewing Co.’s Trivia Night. Every Wednesday\, host Carmine will challenge you with general trivia. Prizes will be awarded to those lucky winners.\n\nAs always\, it’s free to play and open to all ages.
URL:https://nocterrabrewing.com/event/trivia-nights-powell-2-2/2030-02-13/
LOCATION:Nocterra Brewing Co. – Powell\, 41 Depot Street\, Powell\, OH\, 43065\, United States
CATEGORIES:Entertainment,Family Fun,Powell,Trivia
ATTACH;FMTTYPE=image/jpeg:https://nocterrabrewing.com/wp-content/uploads/2025/09/unnamed-3.jpg
END:VEVENT
BEGIN:VEVENT
DTSTART;TZID=UTC:20300214T181500
DTEND;TZID=UTC:20300214T201500
DTSTAMP:20260425T135422
CREATED:20260316T181447Z
LAST-MODIFIED:20260316T181447Z
UID:10002483-1897323300-1897330500@nocterrabrewing.com
SUMMARY:Run Club: Powell
DESCRIPTION:The Nocterra Run Club meets every Thursday at 6:15pm for a healthy run\, followed by a hangout in the taproom or beer garden.\nWe work with Columbus Running Company\, and our group incorporates all levels of ability\, pace\, or distance. It’s a great way to meet friends with similar goals and interests. We meet year-round. Open to the public. Join anytime. Cheers!
URL:https://nocterrabrewing.com/event/runclubpowell/2030-02-14/
LOCATION:Nocterra Brewing Co. – Powell\, 41 Depot Street\, Powell\, OH\, 43065\, United States
CATEGORIES:Powell
ATTACH;FMTTYPE=image/jpeg:https://nocterrabrewing.com/wp-content/uploads/2026/03/Nocterra_Run_Club_16x9.jpg
ORGANIZER;CN="Nocterra Brewing Co.":MAILTO:info@nocterrabrewing.com
END:VEVENT
BEGIN:VEVENT
DTSTART;TZID=UTC:20300219T190000
DTEND;TZID=UTC:20300219T210000
DTSTAMP:20260425T135422
CREATED:20260122T200823Z
LAST-MODIFIED:20260225T193747Z
UID:10001640-1897758000-1897765200@nocterrabrewing.com
SUMMARY:BINGO NIGHT! - POWELL
DESCRIPTION:Join us every Tuesday for a fun night of Bingo. We’ll be rolling balls and making calls. Listen for your number; you could go home with a fun prize!\nAs always\, it’s free to play and open to all ages.
URL:https://nocterrabrewing.com/event/bingo-night-powell-2/2030-02-19/
LOCATION:Nocterra Brewing Co. – Powell\, 41 Depot Street\, Powell\, OH\, 43065\, United States
CATEGORIES:Bingo,Entertainment,Family Fun,Powell
ATTACH;FMTTYPE=image/png:https://nocterrabrewing.com/wp-content/uploads/2025/02/Bingo-2025-3-FB-Event-.png
END:VEVENT
BEGIN:VEVENT
DTSTART;TZID=UTC:20300220T190000
DTEND;TZID=UTC:20300220T210000
DTSTAMP:20260425T135422
CREATED:20260225T195852Z
LAST-MODIFIED:20260318T214649Z
UID:10001963-1897844400-1897851600@nocterrabrewing.com
SUMMARY:TRIVIA NIGHTS! - POWELL
DESCRIPTION:Assemble your crew and test your knowledge at Nocterra Brewing Co.’s Trivia Night. Every Wednesday\, host Carmine will challenge you with general trivia. Prizes will be awarded to those lucky winners.\n\nAs always\, it’s free to play and open to all ages.
URL:https://nocterrabrewing.com/event/trivia-nights-powell-2-2/2030-02-20/
LOCATION:Nocterra Brewing Co. – Powell\, 41 Depot Street\, Powell\, OH\, 43065\, United States
CATEGORIES:Entertainment,Family Fun,Powell,Trivia
ATTACH;FMTTYPE=image/jpeg:https://nocterrabrewing.com/wp-content/uploads/2025/09/unnamed-3.jpg
END:VEVENT
BEGIN:VEVENT
DTSTART;TZID=UTC:20300221T181500
DTEND;TZID=UTC:20300221T201500
DTSTAMP:20260425T135422
CREATED:20260316T181447Z
LAST-MODIFIED:20260316T181447Z
UID:10002484-1897928100-1897935300@nocterrabrewing.com
SUMMARY:Run Club: Powell
DESCRIPTION:The Nocterra Run Club meets every Thursday at 6:15pm for a healthy run\, followed by a hangout in the taproom or beer garden.\nWe work with Columbus Running Company\, and our group incorporates all levels of ability\, pace\, or distance. It’s a great way to meet friends with similar goals and interests. We meet year-round. Open to the public. Join anytime. Cheers!
URL:https://nocterrabrewing.com/event/runclubpowell/2030-02-21/
LOCATION:Nocterra Brewing Co. – Powell\, 41 Depot Street\, Powell\, OH\, 43065\, United States
CATEGORIES:Powell
ATTACH;FMTTYPE=image/jpeg:https://nocterrabrewing.com/wp-content/uploads/2026/03/Nocterra_Run_Club_16x9.jpg
ORGANIZER;CN="Nocterra Brewing Co.":MAILTO:info@nocterrabrewing.com
END:VEVENT
BEGIN:VEVENT
DTSTART;TZID=UTC:20300226T190000
DTEND;TZID=UTC:20300226T210000
DTSTAMP:20260425T135422
CREATED:20260122T200823Z
LAST-MODIFIED:20260225T193747Z
UID:10001641-1898362800-1898370000@nocterrabrewing.com
SUMMARY:BINGO NIGHT! - POWELL
DESCRIPTION:Join us every Tuesday for a fun night of Bingo. We’ll be rolling balls and making calls. Listen for your number; you could go home with a fun prize!\nAs always\, it’s free to play and open to all ages.
URL:https://nocterrabrewing.com/event/bingo-night-powell-2/2030-02-26/
LOCATION:Nocterra Brewing Co. – Powell\, 41 Depot Street\, Powell\, OH\, 43065\, United States
CATEGORIES:Bingo,Entertainment,Family Fun,Powell
ATTACH;FMTTYPE=image/png:https://nocterrabrewing.com/wp-content/uploads/2025/02/Bingo-2025-3-FB-Event-.png
END:VEVENT
BEGIN:VEVENT
DTSTART;TZID=UTC:20300227T190000
DTEND;TZID=UTC:20300227T210000
DTSTAMP:20260425T135422
CREATED:20260225T195852Z
LAST-MODIFIED:20260318T214649Z
UID:10001964-1898449200-1898456400@nocterrabrewing.com
SUMMARY:TRIVIA NIGHTS! - POWELL
DESCRIPTION:Assemble your crew and test your knowledge at Nocterra Brewing Co.’s Trivia Night. Every Wednesday\, host Carmine will challenge you with general trivia. Prizes will be awarded to those lucky winners.\n\nAs always\, it’s free to play and open to all ages.
URL:https://nocterrabrewing.com/event/trivia-nights-powell-2-2/2030-02-27/
LOCATION:Nocterra Brewing Co. – Powell\, 41 Depot Street\, Powell\, OH\, 43065\, United States
CATEGORIES:Entertainment,Family Fun,Powell,Trivia
ATTACH;FMTTYPE=image/jpeg:https://nocterrabrewing.com/wp-content/uploads/2025/09/unnamed-3.jpg
END:VEVENT
BEGIN:VEVENT
DTSTART;TZID=UTC:20300228T181500
DTEND;TZID=UTC:20300228T201500
DTSTAMP:20260425T135422
CREATED:20260316T181447Z
LAST-MODIFIED:20260316T181447Z
UID:10002485-1898532900-1898540100@nocterrabrewing.com
SUMMARY:Run Club: Powell
DESCRIPTION:The Nocterra Run Club meets every Thursday at 6:15pm for a healthy run\, followed by a hangout in the taproom or beer garden.\nWe work with Columbus Running Company\, and our group incorporates all levels of ability\, pace\, or distance. It’s a great way to meet friends with similar goals and interests. We meet year-round. Open to the public. Join anytime. Cheers!
URL:https://nocterrabrewing.com/event/runclubpowell/2030-02-28/
LOCATION:Nocterra Brewing Co. – Powell\, 41 Depot Street\, Powell\, OH\, 43065\, United States
CATEGORIES:Powell
ATTACH;FMTTYPE=image/jpeg:https://nocterrabrewing.com/wp-content/uploads/2026/03/Nocterra_Run_Club_16x9.jpg
ORGANIZER;CN="Nocterra Brewing Co.":MAILTO:info@nocterrabrewing.com
END:VEVENT
END:VCALENDAR