BEGIN:VCALENDAR
VERSION:2.0
PRODID:-//Nocterra Brewing Co. - ECPv6.15.17//NONSGML v1.0//EN
CALSCALE:GREGORIAN
METHOD:PUBLISH
X-ORIGINAL-URL:https://nocterrabrewing.com
X-WR-CALDESC:Events for Nocterra Brewing Co.
REFRESH-INTERVAL;VALUE=DURATION:PT1H
X-Robots-Tag:noindex
X-PUBLISHED-TTL:PT1H
BEGIN:VTIMEZONE
TZID:UTC
BEGIN:STANDARD
TZOFFSETFROM:+0000
TZOFFSETTO:+0000
TZNAME:UTC
DTSTART:20280101T000000
END:STANDARD
END:VTIMEZONE
BEGIN:VEVENT
DTSTART;TZID=UTC:20290425T190000
DTEND;TZID=UTC:20290425T210000
DTSTAMP:20260424T050852
CREATED:20260225T195852Z
LAST-MODIFIED:20260318T214649Z
UID:10001920-1871838000-1871845200@nocterrabrewing.com
SUMMARY:TRIVIA NIGHTS! - POWELL
DESCRIPTION:Assemble your crew and test your knowledge at Nocterra Brewing Co.’s Trivia Night. Every Wednesday\, host Carmine will challenge you with general trivia. Prizes will be awarded to those lucky winners.\n\nAs always\, it’s free to play and open to all ages.
URL:https://nocterrabrewing.com/event/trivia-nights-powell-2-2/2029-04-25/
LOCATION:Nocterra Brewing Co. – Powell\, 41 Depot Street\, Powell\, OH\, 43065\, United States
CATEGORIES:Entertainment,Family Fun,Powell,Trivia
ATTACH;FMTTYPE=image/jpeg:https://nocterrabrewing.com/wp-content/uploads/2025/09/unnamed-3.jpg
END:VEVENT
BEGIN:VEVENT
DTSTART;TZID=UTC:20290426T181500
DTEND;TZID=UTC:20290426T201500
DTSTAMP:20260424T050852
CREATED:20260316T181447Z
LAST-MODIFIED:20260316T181447Z
UID:10002441-1871921700-1871928900@nocterrabrewing.com
SUMMARY:Run Club: Powell
DESCRIPTION:The Nocterra Run Club meets every Thursday at 6:15pm for a healthy run\, followed by a hangout in the taproom or beer garden.\nWe work with Columbus Running Company\, and our group incorporates all levels of ability\, pace\, or distance. It’s a great way to meet friends with similar goals and interests. We meet year-round. Open to the public. Join anytime. Cheers!
URL:https://nocterrabrewing.com/event/runclubpowell/2029-04-26/
LOCATION:Nocterra Brewing Co. – Powell\, 41 Depot Street\, Powell\, OH\, 43065\, United States
CATEGORIES:Powell
ATTACH;FMTTYPE=image/jpeg:https://nocterrabrewing.com/wp-content/uploads/2026/03/Nocterra_Run_Club_16x9.jpg
ORGANIZER;CN="Nocterra Brewing Co.":MAILTO:info@nocterrabrewing.com
END:VEVENT
BEGIN:VEVENT
DTSTART;TZID=UTC:20290501T190000
DTEND;TZID=UTC:20290501T210000
DTSTAMP:20260424T050852
CREATED:20260122T200823Z
LAST-MODIFIED:20260225T193747Z
UID:10001598-1872356400-1872363600@nocterrabrewing.com
SUMMARY:BINGO NIGHT! - POWELL
DESCRIPTION:Join us every Tuesday for a fun night of Bingo. We’ll be rolling balls and making calls. Listen for your number; you could go home with a fun prize!\nAs always\, it’s free to play and open to all ages.
URL:https://nocterrabrewing.com/event/bingo-night-powell-2/2029-05-01/
LOCATION:Nocterra Brewing Co. – Powell\, 41 Depot Street\, Powell\, OH\, 43065\, United States
CATEGORIES:Bingo,Entertainment,Family Fun,Powell
ATTACH;FMTTYPE=image/png:https://nocterrabrewing.com/wp-content/uploads/2025/02/Bingo-2025-3-FB-Event-.png
END:VEVENT
BEGIN:VEVENT
DTSTART;TZID=UTC:20290502T190000
DTEND;TZID=UTC:20290502T210000
DTSTAMP:20260424T050852
CREATED:20260225T195852Z
LAST-MODIFIED:20260318T214649Z
UID:10001921-1872442800-1872450000@nocterrabrewing.com
SUMMARY:TRIVIA NIGHTS! - POWELL
DESCRIPTION:Assemble your crew and test your knowledge at Nocterra Brewing Co.’s Trivia Night. Every Wednesday\, host Carmine will challenge you with general trivia. Prizes will be awarded to those lucky winners.\n\nAs always\, it’s free to play and open to all ages.
URL:https://nocterrabrewing.com/event/trivia-nights-powell-2-2/2029-05-02/
LOCATION:Nocterra Brewing Co. – Powell\, 41 Depot Street\, Powell\, OH\, 43065\, United States
CATEGORIES:Entertainment,Family Fun,Powell,Trivia
ATTACH;FMTTYPE=image/jpeg:https://nocterrabrewing.com/wp-content/uploads/2025/09/unnamed-3.jpg
END:VEVENT
BEGIN:VEVENT
DTSTART;TZID=UTC:20290503T181500
DTEND;TZID=UTC:20290503T201500
DTSTAMP:20260424T050852
CREATED:20260316T181447Z
LAST-MODIFIED:20260316T181447Z
UID:10002442-1872526500-1872533700@nocterrabrewing.com
SUMMARY:Run Club: Powell
DESCRIPTION:The Nocterra Run Club meets every Thursday at 6:15pm for a healthy run\, followed by a hangout in the taproom or beer garden.\nWe work with Columbus Running Company\, and our group incorporates all levels of ability\, pace\, or distance. It’s a great way to meet friends with similar goals and interests. We meet year-round. Open to the public. Join anytime. Cheers!
URL:https://nocterrabrewing.com/event/runclubpowell/2029-05-03/
LOCATION:Nocterra Brewing Co. – Powell\, 41 Depot Street\, Powell\, OH\, 43065\, United States
CATEGORIES:Powell
ATTACH;FMTTYPE=image/jpeg:https://nocterrabrewing.com/wp-content/uploads/2026/03/Nocterra_Run_Club_16x9.jpg
ORGANIZER;CN="Nocterra Brewing Co.":MAILTO:info@nocterrabrewing.com
END:VEVENT
BEGIN:VEVENT
DTSTART;TZID=UTC:20290508T190000
DTEND;TZID=UTC:20290508T210000
DTSTAMP:20260424T050852
CREATED:20260122T200823Z
LAST-MODIFIED:20260225T193747Z
UID:10001599-1872961200-1872968400@nocterrabrewing.com
SUMMARY:BINGO NIGHT! - POWELL
DESCRIPTION:Join us every Tuesday for a fun night of Bingo. We’ll be rolling balls and making calls. Listen for your number; you could go home with a fun prize!\nAs always\, it’s free to play and open to all ages.
URL:https://nocterrabrewing.com/event/bingo-night-powell-2/2029-05-08/
LOCATION:Nocterra Brewing Co. – Powell\, 41 Depot Street\, Powell\, OH\, 43065\, United States
CATEGORIES:Bingo,Entertainment,Family Fun,Powell
ATTACH;FMTTYPE=image/png:https://nocterrabrewing.com/wp-content/uploads/2025/02/Bingo-2025-3-FB-Event-.png
END:VEVENT
BEGIN:VEVENT
DTSTART;TZID=UTC:20290509T190000
DTEND;TZID=UTC:20290509T210000
DTSTAMP:20260424T050852
CREATED:20260225T195852Z
LAST-MODIFIED:20260318T214649Z
UID:10001922-1873047600-1873054800@nocterrabrewing.com
SUMMARY:TRIVIA NIGHTS! - POWELL
DESCRIPTION:Assemble your crew and test your knowledge at Nocterra Brewing Co.’s Trivia Night. Every Wednesday\, host Carmine will challenge you with general trivia. Prizes will be awarded to those lucky winners.\n\nAs always\, it’s free to play and open to all ages.
URL:https://nocterrabrewing.com/event/trivia-nights-powell-2-2/2029-05-09/
LOCATION:Nocterra Brewing Co. – Powell\, 41 Depot Street\, Powell\, OH\, 43065\, United States
CATEGORIES:Entertainment,Family Fun,Powell,Trivia
ATTACH;FMTTYPE=image/jpeg:https://nocterrabrewing.com/wp-content/uploads/2025/09/unnamed-3.jpg
END:VEVENT
BEGIN:VEVENT
DTSTART;TZID=UTC:20290510T181500
DTEND;TZID=UTC:20290510T201500
DTSTAMP:20260424T050852
CREATED:20260316T181447Z
LAST-MODIFIED:20260316T181447Z
UID:10002443-1873131300-1873138500@nocterrabrewing.com
SUMMARY:Run Club: Powell
DESCRIPTION:The Nocterra Run Club meets every Thursday at 6:15pm for a healthy run\, followed by a hangout in the taproom or beer garden.\nWe work with Columbus Running Company\, and our group incorporates all levels of ability\, pace\, or distance. It’s a great way to meet friends with similar goals and interests. We meet year-round. Open to the public. Join anytime. Cheers!
URL:https://nocterrabrewing.com/event/runclubpowell/2029-05-10/
LOCATION:Nocterra Brewing Co. – Powell\, 41 Depot Street\, Powell\, OH\, 43065\, United States
CATEGORIES:Powell
ATTACH;FMTTYPE=image/jpeg:https://nocterrabrewing.com/wp-content/uploads/2026/03/Nocterra_Run_Club_16x9.jpg
ORGANIZER;CN="Nocterra Brewing Co.":MAILTO:info@nocterrabrewing.com
END:VEVENT
BEGIN:VEVENT
DTSTART;TZID=UTC:20290515T190000
DTEND;TZID=UTC:20290515T210000
DTSTAMP:20260424T050852
CREATED:20260122T200823Z
LAST-MODIFIED:20260225T193747Z
UID:10001600-1873566000-1873573200@nocterrabrewing.com
SUMMARY:BINGO NIGHT! - POWELL
DESCRIPTION:Join us every Tuesday for a fun night of Bingo. We’ll be rolling balls and making calls. Listen for your number; you could go home with a fun prize!\nAs always\, it’s free to play and open to all ages.
URL:https://nocterrabrewing.com/event/bingo-night-powell-2/2029-05-15/
LOCATION:Nocterra Brewing Co. – Powell\, 41 Depot Street\, Powell\, OH\, 43065\, United States
CATEGORIES:Bingo,Entertainment,Family Fun,Powell
ATTACH;FMTTYPE=image/png:https://nocterrabrewing.com/wp-content/uploads/2025/02/Bingo-2025-3-FB-Event-.png
END:VEVENT
BEGIN:VEVENT
DTSTART;TZID=UTC:20290516T190000
DTEND;TZID=UTC:20290516T210000
DTSTAMP:20260424T050852
CREATED:20260225T195852Z
LAST-MODIFIED:20260318T214649Z
UID:10001923-1873652400-1873659600@nocterrabrewing.com
SUMMARY:TRIVIA NIGHTS! - POWELL
DESCRIPTION:Assemble your crew and test your knowledge at Nocterra Brewing Co.’s Trivia Night. Every Wednesday\, host Carmine will challenge you with general trivia. Prizes will be awarded to those lucky winners.\n\nAs always\, it’s free to play and open to all ages.
URL:https://nocterrabrewing.com/event/trivia-nights-powell-2-2/2029-05-16/
LOCATION:Nocterra Brewing Co. – Powell\, 41 Depot Street\, Powell\, OH\, 43065\, United States
CATEGORIES:Entertainment,Family Fun,Powell,Trivia
ATTACH;FMTTYPE=image/jpeg:https://nocterrabrewing.com/wp-content/uploads/2025/09/unnamed-3.jpg
END:VEVENT
BEGIN:VEVENT
DTSTART;TZID=UTC:20290517T181500
DTEND;TZID=UTC:20290517T201500
DTSTAMP:20260424T050852
CREATED:20260316T181447Z
LAST-MODIFIED:20260316T181447Z
UID:10002444-1873736100-1873743300@nocterrabrewing.com
SUMMARY:Run Club: Powell
DESCRIPTION:The Nocterra Run Club meets every Thursday at 6:15pm for a healthy run\, followed by a hangout in the taproom or beer garden.\nWe work with Columbus Running Company\, and our group incorporates all levels of ability\, pace\, or distance. It’s a great way to meet friends with similar goals and interests. We meet year-round. Open to the public. Join anytime. Cheers!
URL:https://nocterrabrewing.com/event/runclubpowell/2029-05-17/
LOCATION:Nocterra Brewing Co. – Powell\, 41 Depot Street\, Powell\, OH\, 43065\, United States
CATEGORIES:Powell
ATTACH;FMTTYPE=image/jpeg:https://nocterrabrewing.com/wp-content/uploads/2026/03/Nocterra_Run_Club_16x9.jpg
ORGANIZER;CN="Nocterra Brewing Co.":MAILTO:info@nocterrabrewing.com
END:VEVENT
BEGIN:VEVENT
DTSTART;TZID=UTC:20290522T190000
DTEND;TZID=UTC:20290522T210000
DTSTAMP:20260424T050852
CREATED:20260122T200823Z
LAST-MODIFIED:20260225T193747Z
UID:10001601-1874170800-1874178000@nocterrabrewing.com
SUMMARY:BINGO NIGHT! - POWELL
DESCRIPTION:Join us every Tuesday for a fun night of Bingo. We’ll be rolling balls and making calls. Listen for your number; you could go home with a fun prize!\nAs always\, it’s free to play and open to all ages.
URL:https://nocterrabrewing.com/event/bingo-night-powell-2/2029-05-22/
LOCATION:Nocterra Brewing Co. – Powell\, 41 Depot Street\, Powell\, OH\, 43065\, United States
CATEGORIES:Bingo,Entertainment,Family Fun,Powell
ATTACH;FMTTYPE=image/png:https://nocterrabrewing.com/wp-content/uploads/2025/02/Bingo-2025-3-FB-Event-.png
END:VEVENT
BEGIN:VEVENT
DTSTART;TZID=UTC:20290523T190000
DTEND;TZID=UTC:20290523T210000
DTSTAMP:20260424T050852
CREATED:20260225T195852Z
LAST-MODIFIED:20260318T214649Z
UID:10001924-1874257200-1874264400@nocterrabrewing.com
SUMMARY:TRIVIA NIGHTS! - POWELL
DESCRIPTION:Assemble your crew and test your knowledge at Nocterra Brewing Co.’s Trivia Night. Every Wednesday\, host Carmine will challenge you with general trivia. Prizes will be awarded to those lucky winners.\n\nAs always\, it’s free to play and open to all ages.
URL:https://nocterrabrewing.com/event/trivia-nights-powell-2-2/2029-05-23/
LOCATION:Nocterra Brewing Co. – Powell\, 41 Depot Street\, Powell\, OH\, 43065\, United States
CATEGORIES:Entertainment,Family Fun,Powell,Trivia
ATTACH;FMTTYPE=image/jpeg:https://nocterrabrewing.com/wp-content/uploads/2025/09/unnamed-3.jpg
END:VEVENT
BEGIN:VEVENT
DTSTART;TZID=UTC:20290524T181500
DTEND;TZID=UTC:20290524T201500
DTSTAMP:20260424T050852
CREATED:20260316T181447Z
LAST-MODIFIED:20260316T181447Z
UID:10002445-1874340900-1874348100@nocterrabrewing.com
SUMMARY:Run Club: Powell
DESCRIPTION:The Nocterra Run Club meets every Thursday at 6:15pm for a healthy run\, followed by a hangout in the taproom or beer garden.\nWe work with Columbus Running Company\, and our group incorporates all levels of ability\, pace\, or distance. It’s a great way to meet friends with similar goals and interests. We meet year-round. Open to the public. Join anytime. Cheers!
URL:https://nocterrabrewing.com/event/runclubpowell/2029-05-24/
LOCATION:Nocterra Brewing Co. – Powell\, 41 Depot Street\, Powell\, OH\, 43065\, United States
CATEGORIES:Powell
ATTACH;FMTTYPE=image/jpeg:https://nocterrabrewing.com/wp-content/uploads/2026/03/Nocterra_Run_Club_16x9.jpg
ORGANIZER;CN="Nocterra Brewing Co.":MAILTO:info@nocterrabrewing.com
END:VEVENT
BEGIN:VEVENT
DTSTART;TZID=UTC:20290529T190000
DTEND;TZID=UTC:20290529T210000
DTSTAMP:20260424T050852
CREATED:20260122T200823Z
LAST-MODIFIED:20260225T193747Z
UID:10001602-1874775600-1874782800@nocterrabrewing.com
SUMMARY:BINGO NIGHT! - POWELL
DESCRIPTION:Join us every Tuesday for a fun night of Bingo. We’ll be rolling balls and making calls. Listen for your number; you could go home with a fun prize!\nAs always\, it’s free to play and open to all ages.
URL:https://nocterrabrewing.com/event/bingo-night-powell-2/2029-05-29/
LOCATION:Nocterra Brewing Co. – Powell\, 41 Depot Street\, Powell\, OH\, 43065\, United States
CATEGORIES:Bingo,Entertainment,Family Fun,Powell
ATTACH;FMTTYPE=image/png:https://nocterrabrewing.com/wp-content/uploads/2025/02/Bingo-2025-3-FB-Event-.png
END:VEVENT
BEGIN:VEVENT
DTSTART;TZID=UTC:20290530T190000
DTEND;TZID=UTC:20290530T210000
DTSTAMP:20260424T050852
CREATED:20260225T195852Z
LAST-MODIFIED:20260318T214649Z
UID:10001925-1874862000-1874869200@nocterrabrewing.com
SUMMARY:TRIVIA NIGHTS! - POWELL
DESCRIPTION:Assemble your crew and test your knowledge at Nocterra Brewing Co.’s Trivia Night. Every Wednesday\, host Carmine will challenge you with general trivia. Prizes will be awarded to those lucky winners.\n\nAs always\, it’s free to play and open to all ages.
URL:https://nocterrabrewing.com/event/trivia-nights-powell-2-2/2029-05-30/
LOCATION:Nocterra Brewing Co. – Powell\, 41 Depot Street\, Powell\, OH\, 43065\, United States
CATEGORIES:Entertainment,Family Fun,Powell,Trivia
ATTACH;FMTTYPE=image/jpeg:https://nocterrabrewing.com/wp-content/uploads/2025/09/unnamed-3.jpg
END:VEVENT
BEGIN:VEVENT
DTSTART;TZID=UTC:20290531T181500
DTEND;TZID=UTC:20290531T201500
DTSTAMP:20260424T050852
CREATED:20260316T181447Z
LAST-MODIFIED:20260316T181447Z
UID:10002446-1874945700-1874952900@nocterrabrewing.com
SUMMARY:Run Club: Powell
DESCRIPTION:The Nocterra Run Club meets every Thursday at 6:15pm for a healthy run\, followed by a hangout in the taproom or beer garden.\nWe work with Columbus Running Company\, and our group incorporates all levels of ability\, pace\, or distance. It’s a great way to meet friends with similar goals and interests. We meet year-round. Open to the public. Join anytime. Cheers!
URL:https://nocterrabrewing.com/event/runclubpowell/2029-05-31/
LOCATION:Nocterra Brewing Co. – Powell\, 41 Depot Street\, Powell\, OH\, 43065\, United States
CATEGORIES:Powell
ATTACH;FMTTYPE=image/jpeg:https://nocterrabrewing.com/wp-content/uploads/2026/03/Nocterra_Run_Club_16x9.jpg
ORGANIZER;CN="Nocterra Brewing Co.":MAILTO:info@nocterrabrewing.com
END:VEVENT
BEGIN:VEVENT
DTSTART;TZID=UTC:20290605T190000
DTEND;TZID=UTC:20290605T210000
DTSTAMP:20260424T050852
CREATED:20260122T200823Z
LAST-MODIFIED:20260225T193747Z
UID:10001603-1875380400-1875387600@nocterrabrewing.com
SUMMARY:BINGO NIGHT! - POWELL
DESCRIPTION:Join us every Tuesday for a fun night of Bingo. We’ll be rolling balls and making calls. Listen for your number; you could go home with a fun prize!\nAs always\, it’s free to play and open to all ages.
URL:https://nocterrabrewing.com/event/bingo-night-powell-2/2029-06-05/
LOCATION:Nocterra Brewing Co. – Powell\, 41 Depot Street\, Powell\, OH\, 43065\, United States
CATEGORIES:Bingo,Entertainment,Family Fun,Powell
ATTACH;FMTTYPE=image/png:https://nocterrabrewing.com/wp-content/uploads/2025/02/Bingo-2025-3-FB-Event-.png
END:VEVENT
BEGIN:VEVENT
DTSTART;TZID=UTC:20290606T190000
DTEND;TZID=UTC:20290606T210000
DTSTAMP:20260424T050852
CREATED:20260225T195852Z
LAST-MODIFIED:20260318T214649Z
UID:10001926-1875466800-1875474000@nocterrabrewing.com
SUMMARY:TRIVIA NIGHTS! - POWELL
DESCRIPTION:Assemble your crew and test your knowledge at Nocterra Brewing Co.’s Trivia Night. Every Wednesday\, host Carmine will challenge you with general trivia. Prizes will be awarded to those lucky winners.\n\nAs always\, it’s free to play and open to all ages.
URL:https://nocterrabrewing.com/event/trivia-nights-powell-2-2/2029-06-06/
LOCATION:Nocterra Brewing Co. – Powell\, 41 Depot Street\, Powell\, OH\, 43065\, United States
CATEGORIES:Entertainment,Family Fun,Powell,Trivia
ATTACH;FMTTYPE=image/jpeg:https://nocterrabrewing.com/wp-content/uploads/2025/09/unnamed-3.jpg
END:VEVENT
BEGIN:VEVENT
DTSTART;TZID=UTC:20290607T181500
DTEND;TZID=UTC:20290607T201500
DTSTAMP:20260424T050852
CREATED:20260316T181447Z
LAST-MODIFIED:20260316T181447Z
UID:10002447-1875550500-1875557700@nocterrabrewing.com
SUMMARY:Run Club: Powell
DESCRIPTION:The Nocterra Run Club meets every Thursday at 6:15pm for a healthy run\, followed by a hangout in the taproom or beer garden.\nWe work with Columbus Running Company\, and our group incorporates all levels of ability\, pace\, or distance. It’s a great way to meet friends with similar goals and interests. We meet year-round. Open to the public. Join anytime. Cheers!
URL:https://nocterrabrewing.com/event/runclubpowell/2029-06-07/
LOCATION:Nocterra Brewing Co. – Powell\, 41 Depot Street\, Powell\, OH\, 43065\, United States
CATEGORIES:Powell
ATTACH;FMTTYPE=image/jpeg:https://nocterrabrewing.com/wp-content/uploads/2026/03/Nocterra_Run_Club_16x9.jpg
ORGANIZER;CN="Nocterra Brewing Co.":MAILTO:info@nocterrabrewing.com
END:VEVENT
BEGIN:VEVENT
DTSTART;TZID=UTC:20290612T190000
DTEND;TZID=UTC:20290612T210000
DTSTAMP:20260424T050852
CREATED:20260122T200823Z
LAST-MODIFIED:20260225T193747Z
UID:10001604-1875985200-1875992400@nocterrabrewing.com
SUMMARY:BINGO NIGHT! - POWELL
DESCRIPTION:Join us every Tuesday for a fun night of Bingo. We’ll be rolling balls and making calls. Listen for your number; you could go home with a fun prize!\nAs always\, it’s free to play and open to all ages.
URL:https://nocterrabrewing.com/event/bingo-night-powell-2/2029-06-12/
LOCATION:Nocterra Brewing Co. – Powell\, 41 Depot Street\, Powell\, OH\, 43065\, United States
CATEGORIES:Bingo,Entertainment,Family Fun,Powell
ATTACH;FMTTYPE=image/png:https://nocterrabrewing.com/wp-content/uploads/2025/02/Bingo-2025-3-FB-Event-.png
END:VEVENT
BEGIN:VEVENT
DTSTART;TZID=UTC:20290613T190000
DTEND;TZID=UTC:20290613T210000
DTSTAMP:20260424T050852
CREATED:20260225T195852Z
LAST-MODIFIED:20260318T214649Z
UID:10001927-1876071600-1876078800@nocterrabrewing.com
SUMMARY:TRIVIA NIGHTS! - POWELL
DESCRIPTION:Assemble your crew and test your knowledge at Nocterra Brewing Co.’s Trivia Night. Every Wednesday\, host Carmine will challenge you with general trivia. Prizes will be awarded to those lucky winners.\n\nAs always\, it’s free to play and open to all ages.
URL:https://nocterrabrewing.com/event/trivia-nights-powell-2-2/2029-06-13/
LOCATION:Nocterra Brewing Co. – Powell\, 41 Depot Street\, Powell\, OH\, 43065\, United States
CATEGORIES:Entertainment,Family Fun,Powell,Trivia
ATTACH;FMTTYPE=image/jpeg:https://nocterrabrewing.com/wp-content/uploads/2025/09/unnamed-3.jpg
END:VEVENT
BEGIN:VEVENT
DTSTART;TZID=UTC:20290614T181500
DTEND;TZID=UTC:20290614T201500
DTSTAMP:20260424T050852
CREATED:20260316T181447Z
LAST-MODIFIED:20260316T181447Z
UID:10002448-1876155300-1876162500@nocterrabrewing.com
SUMMARY:Run Club: Powell
DESCRIPTION:The Nocterra Run Club meets every Thursday at 6:15pm for a healthy run\, followed by a hangout in the taproom or beer garden.\nWe work with Columbus Running Company\, and our group incorporates all levels of ability\, pace\, or distance. It’s a great way to meet friends with similar goals and interests. We meet year-round. Open to the public. Join anytime. Cheers!
URL:https://nocterrabrewing.com/event/runclubpowell/2029-06-14/
LOCATION:Nocterra Brewing Co. – Powell\, 41 Depot Street\, Powell\, OH\, 43065\, United States
CATEGORIES:Powell
ATTACH;FMTTYPE=image/jpeg:https://nocterrabrewing.com/wp-content/uploads/2026/03/Nocterra_Run_Club_16x9.jpg
ORGANIZER;CN="Nocterra Brewing Co.":MAILTO:info@nocterrabrewing.com
END:VEVENT
BEGIN:VEVENT
DTSTART;TZID=UTC:20290619T190000
DTEND;TZID=UTC:20290619T210000
DTSTAMP:20260424T050852
CREATED:20260122T200823Z
LAST-MODIFIED:20260225T193747Z
UID:10001605-1876590000-1876597200@nocterrabrewing.com
SUMMARY:BINGO NIGHT! - POWELL
DESCRIPTION:Join us every Tuesday for a fun night of Bingo. We’ll be rolling balls and making calls. Listen for your number; you could go home with a fun prize!\nAs always\, it’s free to play and open to all ages.
URL:https://nocterrabrewing.com/event/bingo-night-powell-2/2029-06-19/
LOCATION:Nocterra Brewing Co. – Powell\, 41 Depot Street\, Powell\, OH\, 43065\, United States
CATEGORIES:Bingo,Entertainment,Family Fun,Powell
ATTACH;FMTTYPE=image/png:https://nocterrabrewing.com/wp-content/uploads/2025/02/Bingo-2025-3-FB-Event-.png
END:VEVENT
BEGIN:VEVENT
DTSTART;TZID=UTC:20290620T190000
DTEND;TZID=UTC:20290620T210000
DTSTAMP:20260424T050852
CREATED:20260225T195852Z
LAST-MODIFIED:20260318T214649Z
UID:10001928-1876676400-1876683600@nocterrabrewing.com
SUMMARY:TRIVIA NIGHTS! - POWELL
DESCRIPTION:Assemble your crew and test your knowledge at Nocterra Brewing Co.’s Trivia Night. Every Wednesday\, host Carmine will challenge you with general trivia. Prizes will be awarded to those lucky winners.\n\nAs always\, it’s free to play and open to all ages.
URL:https://nocterrabrewing.com/event/trivia-nights-powell-2-2/2029-06-20/
LOCATION:Nocterra Brewing Co. – Powell\, 41 Depot Street\, Powell\, OH\, 43065\, United States
CATEGORIES:Entertainment,Family Fun,Powell,Trivia
ATTACH;FMTTYPE=image/jpeg:https://nocterrabrewing.com/wp-content/uploads/2025/09/unnamed-3.jpg
END:VEVENT
BEGIN:VEVENT
DTSTART;TZID=UTC:20290621T181500
DTEND;TZID=UTC:20290621T201500
DTSTAMP:20260424T050852
CREATED:20260316T181447Z
LAST-MODIFIED:20260316T181447Z
UID:10002449-1876760100-1876767300@nocterrabrewing.com
SUMMARY:Run Club: Powell
DESCRIPTION:The Nocterra Run Club meets every Thursday at 6:15pm for a healthy run\, followed by a hangout in the taproom or beer garden.\nWe work with Columbus Running Company\, and our group incorporates all levels of ability\, pace\, or distance. It’s a great way to meet friends with similar goals and interests. We meet year-round. Open to the public. Join anytime. Cheers!
URL:https://nocterrabrewing.com/event/runclubpowell/2029-06-21/
LOCATION:Nocterra Brewing Co. – Powell\, 41 Depot Street\, Powell\, OH\, 43065\, United States
CATEGORIES:Powell
ATTACH;FMTTYPE=image/jpeg:https://nocterrabrewing.com/wp-content/uploads/2026/03/Nocterra_Run_Club_16x9.jpg
ORGANIZER;CN="Nocterra Brewing Co.":MAILTO:info@nocterrabrewing.com
END:VEVENT
BEGIN:VEVENT
DTSTART;TZID=UTC:20290626T190000
DTEND;TZID=UTC:20290626T210000
DTSTAMP:20260424T050852
CREATED:20260122T200823Z
LAST-MODIFIED:20260225T193747Z
UID:10001606-1877194800-1877202000@nocterrabrewing.com
SUMMARY:BINGO NIGHT! - POWELL
DESCRIPTION:Join us every Tuesday for a fun night of Bingo. We’ll be rolling balls and making calls. Listen for your number; you could go home with a fun prize!\nAs always\, it’s free to play and open to all ages.
URL:https://nocterrabrewing.com/event/bingo-night-powell-2/2029-06-26/
LOCATION:Nocterra Brewing Co. – Powell\, 41 Depot Street\, Powell\, OH\, 43065\, United States
CATEGORIES:Bingo,Entertainment,Family Fun,Powell
ATTACH;FMTTYPE=image/png:https://nocterrabrewing.com/wp-content/uploads/2025/02/Bingo-2025-3-FB-Event-.png
END:VEVENT
BEGIN:VEVENT
DTSTART;TZID=UTC:20290627T190000
DTEND;TZID=UTC:20290627T210000
DTSTAMP:20260424T050852
CREATED:20260225T195852Z
LAST-MODIFIED:20260318T214649Z
UID:10001929-1877281200-1877288400@nocterrabrewing.com
SUMMARY:TRIVIA NIGHTS! - POWELL
DESCRIPTION:Assemble your crew and test your knowledge at Nocterra Brewing Co.’s Trivia Night. Every Wednesday\, host Carmine will challenge you with general trivia. Prizes will be awarded to those lucky winners.\n\nAs always\, it’s free to play and open to all ages.
URL:https://nocterrabrewing.com/event/trivia-nights-powell-2-2/2029-06-27/
LOCATION:Nocterra Brewing Co. – Powell\, 41 Depot Street\, Powell\, OH\, 43065\, United States
CATEGORIES:Entertainment,Family Fun,Powell,Trivia
ATTACH;FMTTYPE=image/jpeg:https://nocterrabrewing.com/wp-content/uploads/2025/09/unnamed-3.jpg
END:VEVENT
BEGIN:VEVENT
DTSTART;TZID=UTC:20290628T181500
DTEND;TZID=UTC:20290628T201500
DTSTAMP:20260424T050852
CREATED:20260316T181447Z
LAST-MODIFIED:20260316T181447Z
UID:10002450-1877364900-1877372100@nocterrabrewing.com
SUMMARY:Run Club: Powell
DESCRIPTION:The Nocterra Run Club meets every Thursday at 6:15pm for a healthy run\, followed by a hangout in the taproom or beer garden.\nWe work with Columbus Running Company\, and our group incorporates all levels of ability\, pace\, or distance. It’s a great way to meet friends with similar goals and interests. We meet year-round. Open to the public. Join anytime. Cheers!
URL:https://nocterrabrewing.com/event/runclubpowell/2029-06-28/
LOCATION:Nocterra Brewing Co. – Powell\, 41 Depot Street\, Powell\, OH\, 43065\, United States
CATEGORIES:Powell
ATTACH;FMTTYPE=image/jpeg:https://nocterrabrewing.com/wp-content/uploads/2026/03/Nocterra_Run_Club_16x9.jpg
ORGANIZER;CN="Nocterra Brewing Co.":MAILTO:info@nocterrabrewing.com
END:VEVENT
BEGIN:VEVENT
DTSTART;TZID=UTC:20290703T190000
DTEND;TZID=UTC:20290703T210000
DTSTAMP:20260424T050852
CREATED:20260122T200823Z
LAST-MODIFIED:20260225T193747Z
UID:10001607-1877799600-1877806800@nocterrabrewing.com
SUMMARY:BINGO NIGHT! - POWELL
DESCRIPTION:Join us every Tuesday for a fun night of Bingo. We’ll be rolling balls and making calls. Listen for your number; you could go home with a fun prize!\nAs always\, it’s free to play and open to all ages.
URL:https://nocterrabrewing.com/event/bingo-night-powell-2/2029-07-03/
LOCATION:Nocterra Brewing Co. – Powell\, 41 Depot Street\, Powell\, OH\, 43065\, United States
CATEGORIES:Bingo,Entertainment,Family Fun,Powell
ATTACH;FMTTYPE=image/png:https://nocterrabrewing.com/wp-content/uploads/2025/02/Bingo-2025-3-FB-Event-.png
END:VEVENT
END:VCALENDAR