BEGIN:VCALENDAR
VERSION:2.0
PRODID:-//Nocterra Brewing Co. - ECPv6.15.17//NONSGML v1.0//EN
CALSCALE:GREGORIAN
METHOD:PUBLISH
X-ORIGINAL-URL:https://nocterrabrewing.com
X-WR-CALDESC:Events for Nocterra Brewing Co.
REFRESH-INTERVAL;VALUE=DURATION:PT1H
X-Robots-Tag:noindex
X-PUBLISHED-TTL:PT1H
BEGIN:VTIMEZONE
TZID:UTC
BEGIN:STANDARD
TZOFFSETFROM:+0000
TZOFFSETTO:+0000
TZNAME:UTC
DTSTART:20270101T000000
END:STANDARD
END:VTIMEZONE
BEGIN:VEVENT
DTSTART;TZID=UTC:20280817T181500
DTEND;TZID=UTC:20280817T201500
DTSTAMP:20260423T164154
CREATED:20260316T181447Z
LAST-MODIFIED:20260316T181447Z
UID:10002405-1850148900-1850156100@nocterrabrewing.com
SUMMARY:Run Club: Powell
DESCRIPTION:The Nocterra Run Club meets every Thursday at 6:15pm for a healthy run\, followed by a hangout in the taproom or beer garden.\nWe work with Columbus Running Company\, and our group incorporates all levels of ability\, pace\, or distance. It’s a great way to meet friends with similar goals and interests. We meet year-round. Open to the public. Join anytime. Cheers!
URL:https://nocterrabrewing.com/event/runclubpowell/2028-08-17/
LOCATION:Nocterra Brewing Co. – Powell\, 41 Depot Street\, Powell\, OH\, 43065\, United States
CATEGORIES:Powell
ATTACH;FMTTYPE=image/jpeg:https://nocterrabrewing.com/wp-content/uploads/2026/03/Nocterra_Run_Club_16x9.jpg
ORGANIZER;CN="Nocterra Brewing Co.":MAILTO:info@nocterrabrewing.com
END:VEVENT
BEGIN:VEVENT
DTSTART;TZID=UTC:20280822T190000
DTEND;TZID=UTC:20280822T210000
DTSTAMP:20260423T164154
CREATED:20260122T200823Z
LAST-MODIFIED:20260225T193747Z
UID:10001562-1850583600-1850590800@nocterrabrewing.com
SUMMARY:BINGO NIGHT! - POWELL
DESCRIPTION:Join us every Tuesday for a fun night of Bingo. We’ll be rolling balls and making calls. Listen for your number; you could go home with a fun prize!\nAs always\, it’s free to play and open to all ages.
URL:https://nocterrabrewing.com/event/bingo-night-powell-2/2028-08-22/
LOCATION:Nocterra Brewing Co. – Powell\, 41 Depot Street\, Powell\, OH\, 43065\, United States
CATEGORIES:Bingo,Entertainment,Family Fun,Powell
ATTACH;FMTTYPE=image/png:https://nocterrabrewing.com/wp-content/uploads/2025/02/Bingo-2025-3-FB-Event-.png
END:VEVENT
BEGIN:VEVENT
DTSTART;TZID=UTC:20280823T190000
DTEND;TZID=UTC:20280823T210000
DTSTAMP:20260423T164154
CREATED:20260225T195852Z
LAST-MODIFIED:20260318T214649Z
UID:10001885-1850670000-1850677200@nocterrabrewing.com
SUMMARY:TRIVIA NIGHTS! - POWELL
DESCRIPTION:Assemble your crew and test your knowledge at Nocterra Brewing Co.’s Trivia Night. Every Wednesday\, host Carmine will challenge you with general trivia. Prizes will be awarded to those lucky winners.\n\nAs always\, it’s free to play and open to all ages.
URL:https://nocterrabrewing.com/event/trivia-nights-powell-2-2/2028-08-23/
LOCATION:Nocterra Brewing Co. – Powell\, 41 Depot Street\, Powell\, OH\, 43065\, United States
CATEGORIES:Entertainment,Family Fun,Powell,Trivia
ATTACH;FMTTYPE=image/jpeg:https://nocterrabrewing.com/wp-content/uploads/2025/09/unnamed-3.jpg
END:VEVENT
BEGIN:VEVENT
DTSTART;TZID=UTC:20280824T181500
DTEND;TZID=UTC:20280824T201500
DTSTAMP:20260423T164154
CREATED:20260316T181447Z
LAST-MODIFIED:20260316T181447Z
UID:10002406-1850753700-1850760900@nocterrabrewing.com
SUMMARY:Run Club: Powell
DESCRIPTION:The Nocterra Run Club meets every Thursday at 6:15pm for a healthy run\, followed by a hangout in the taproom or beer garden.\nWe work with Columbus Running Company\, and our group incorporates all levels of ability\, pace\, or distance. It’s a great way to meet friends with similar goals and interests. We meet year-round. Open to the public. Join anytime. Cheers!
URL:https://nocterrabrewing.com/event/runclubpowell/2028-08-24/
LOCATION:Nocterra Brewing Co. – Powell\, 41 Depot Street\, Powell\, OH\, 43065\, United States
CATEGORIES:Powell
ATTACH;FMTTYPE=image/jpeg:https://nocterrabrewing.com/wp-content/uploads/2026/03/Nocterra_Run_Club_16x9.jpg
ORGANIZER;CN="Nocterra Brewing Co.":MAILTO:info@nocterrabrewing.com
END:VEVENT
BEGIN:VEVENT
DTSTART;TZID=UTC:20280829T190000
DTEND;TZID=UTC:20280829T210000
DTSTAMP:20260423T164154
CREATED:20260122T200823Z
LAST-MODIFIED:20260225T193747Z
UID:10001563-1851188400-1851195600@nocterrabrewing.com
SUMMARY:BINGO NIGHT! - POWELL
DESCRIPTION:Join us every Tuesday for a fun night of Bingo. We’ll be rolling balls and making calls. Listen for your number; you could go home with a fun prize!\nAs always\, it’s free to play and open to all ages.
URL:https://nocterrabrewing.com/event/bingo-night-powell-2/2028-08-29/
LOCATION:Nocterra Brewing Co. – Powell\, 41 Depot Street\, Powell\, OH\, 43065\, United States
CATEGORIES:Bingo,Entertainment,Family Fun,Powell
ATTACH;FMTTYPE=image/png:https://nocterrabrewing.com/wp-content/uploads/2025/02/Bingo-2025-3-FB-Event-.png
END:VEVENT
BEGIN:VEVENT
DTSTART;TZID=UTC:20280830T190000
DTEND;TZID=UTC:20280830T210000
DTSTAMP:20260423T164154
CREATED:20260225T195852Z
LAST-MODIFIED:20260318T214649Z
UID:10001886-1851274800-1851282000@nocterrabrewing.com
SUMMARY:TRIVIA NIGHTS! - POWELL
DESCRIPTION:Assemble your crew and test your knowledge at Nocterra Brewing Co.’s Trivia Night. Every Wednesday\, host Carmine will challenge you with general trivia. Prizes will be awarded to those lucky winners.\n\nAs always\, it’s free to play and open to all ages.
URL:https://nocterrabrewing.com/event/trivia-nights-powell-2-2/2028-08-30/
LOCATION:Nocterra Brewing Co. – Powell\, 41 Depot Street\, Powell\, OH\, 43065\, United States
CATEGORIES:Entertainment,Family Fun,Powell,Trivia
ATTACH;FMTTYPE=image/jpeg:https://nocterrabrewing.com/wp-content/uploads/2025/09/unnamed-3.jpg
END:VEVENT
BEGIN:VEVENT
DTSTART;TZID=UTC:20280831T181500
DTEND;TZID=UTC:20280831T201500
DTSTAMP:20260423T164154
CREATED:20260316T181447Z
LAST-MODIFIED:20260316T181447Z
UID:10002407-1851358500-1851365700@nocterrabrewing.com
SUMMARY:Run Club: Powell
DESCRIPTION:The Nocterra Run Club meets every Thursday at 6:15pm for a healthy run\, followed by a hangout in the taproom or beer garden.\nWe work with Columbus Running Company\, and our group incorporates all levels of ability\, pace\, or distance. It’s a great way to meet friends with similar goals and interests. We meet year-round. Open to the public. Join anytime. Cheers!
URL:https://nocterrabrewing.com/event/runclubpowell/2028-08-31/
LOCATION:Nocterra Brewing Co. – Powell\, 41 Depot Street\, Powell\, OH\, 43065\, United States
CATEGORIES:Powell
ATTACH;FMTTYPE=image/jpeg:https://nocterrabrewing.com/wp-content/uploads/2026/03/Nocterra_Run_Club_16x9.jpg
ORGANIZER;CN="Nocterra Brewing Co.":MAILTO:info@nocterrabrewing.com
END:VEVENT
BEGIN:VEVENT
DTSTART;TZID=UTC:20280905T190000
DTEND;TZID=UTC:20280905T210000
DTSTAMP:20260423T164154
CREATED:20260122T200823Z
LAST-MODIFIED:20260225T193747Z
UID:10001564-1851793200-1851800400@nocterrabrewing.com
SUMMARY:BINGO NIGHT! - POWELL
DESCRIPTION:Join us every Tuesday for a fun night of Bingo. We’ll be rolling balls and making calls. Listen for your number; you could go home with a fun prize!\nAs always\, it’s free to play and open to all ages.
URL:https://nocterrabrewing.com/event/bingo-night-powell-2/2028-09-05/
LOCATION:Nocterra Brewing Co. – Powell\, 41 Depot Street\, Powell\, OH\, 43065\, United States
CATEGORIES:Bingo,Entertainment,Family Fun,Powell
ATTACH;FMTTYPE=image/png:https://nocterrabrewing.com/wp-content/uploads/2025/02/Bingo-2025-3-FB-Event-.png
END:VEVENT
BEGIN:VEVENT
DTSTART;TZID=UTC:20280906T190000
DTEND;TZID=UTC:20280906T210000
DTSTAMP:20260423T164154
CREATED:20260225T195852Z
LAST-MODIFIED:20260318T214649Z
UID:10001887-1851879600-1851886800@nocterrabrewing.com
SUMMARY:TRIVIA NIGHTS! - POWELL
DESCRIPTION:Assemble your crew and test your knowledge at Nocterra Brewing Co.’s Trivia Night. Every Wednesday\, host Carmine will challenge you with general trivia. Prizes will be awarded to those lucky winners.\n\nAs always\, it’s free to play and open to all ages.
URL:https://nocterrabrewing.com/event/trivia-nights-powell-2-2/2028-09-06/
LOCATION:Nocterra Brewing Co. – Powell\, 41 Depot Street\, Powell\, OH\, 43065\, United States
CATEGORIES:Entertainment,Family Fun,Powell,Trivia
ATTACH;FMTTYPE=image/jpeg:https://nocterrabrewing.com/wp-content/uploads/2025/09/unnamed-3.jpg
END:VEVENT
BEGIN:VEVENT
DTSTART;TZID=UTC:20280907T181500
DTEND;TZID=UTC:20280907T201500
DTSTAMP:20260423T164154
CREATED:20260316T181447Z
LAST-MODIFIED:20260316T181447Z
UID:10002408-1851963300-1851970500@nocterrabrewing.com
SUMMARY:Run Club: Powell
DESCRIPTION:The Nocterra Run Club meets every Thursday at 6:15pm for a healthy run\, followed by a hangout in the taproom or beer garden.\nWe work with Columbus Running Company\, and our group incorporates all levels of ability\, pace\, or distance. It’s a great way to meet friends with similar goals and interests. We meet year-round. Open to the public. Join anytime. Cheers!
URL:https://nocterrabrewing.com/event/runclubpowell/2028-09-07/
LOCATION:Nocterra Brewing Co. – Powell\, 41 Depot Street\, Powell\, OH\, 43065\, United States
CATEGORIES:Powell
ATTACH;FMTTYPE=image/jpeg:https://nocterrabrewing.com/wp-content/uploads/2026/03/Nocterra_Run_Club_16x9.jpg
ORGANIZER;CN="Nocterra Brewing Co.":MAILTO:info@nocterrabrewing.com
END:VEVENT
BEGIN:VEVENT
DTSTART;TZID=UTC:20280912T190000
DTEND;TZID=UTC:20280912T210000
DTSTAMP:20260423T164154
CREATED:20260122T200823Z
LAST-MODIFIED:20260225T193747Z
UID:10001565-1852398000-1852405200@nocterrabrewing.com
SUMMARY:BINGO NIGHT! - POWELL
DESCRIPTION:Join us every Tuesday for a fun night of Bingo. We’ll be rolling balls and making calls. Listen for your number; you could go home with a fun prize!\nAs always\, it’s free to play and open to all ages.
URL:https://nocterrabrewing.com/event/bingo-night-powell-2/2028-09-12/
LOCATION:Nocterra Brewing Co. – Powell\, 41 Depot Street\, Powell\, OH\, 43065\, United States
CATEGORIES:Bingo,Entertainment,Family Fun,Powell
ATTACH;FMTTYPE=image/png:https://nocterrabrewing.com/wp-content/uploads/2025/02/Bingo-2025-3-FB-Event-.png
END:VEVENT
BEGIN:VEVENT
DTSTART;TZID=UTC:20280913T190000
DTEND;TZID=UTC:20280913T210000
DTSTAMP:20260423T164154
CREATED:20260225T195852Z
LAST-MODIFIED:20260318T214649Z
UID:10001888-1852484400-1852491600@nocterrabrewing.com
SUMMARY:TRIVIA NIGHTS! - POWELL
DESCRIPTION:Assemble your crew and test your knowledge at Nocterra Brewing Co.’s Trivia Night. Every Wednesday\, host Carmine will challenge you with general trivia. Prizes will be awarded to those lucky winners.\n\nAs always\, it’s free to play and open to all ages.
URL:https://nocterrabrewing.com/event/trivia-nights-powell-2-2/2028-09-13/
LOCATION:Nocterra Brewing Co. – Powell\, 41 Depot Street\, Powell\, OH\, 43065\, United States
CATEGORIES:Entertainment,Family Fun,Powell,Trivia
ATTACH;FMTTYPE=image/jpeg:https://nocterrabrewing.com/wp-content/uploads/2025/09/unnamed-3.jpg
END:VEVENT
BEGIN:VEVENT
DTSTART;TZID=UTC:20280914T181500
DTEND;TZID=UTC:20280914T201500
DTSTAMP:20260423T164154
CREATED:20260316T181447Z
LAST-MODIFIED:20260316T181447Z
UID:10002409-1852568100-1852575300@nocterrabrewing.com
SUMMARY:Run Club: Powell
DESCRIPTION:The Nocterra Run Club meets every Thursday at 6:15pm for a healthy run\, followed by a hangout in the taproom or beer garden.\nWe work with Columbus Running Company\, and our group incorporates all levels of ability\, pace\, or distance. It’s a great way to meet friends with similar goals and interests. We meet year-round. Open to the public. Join anytime. Cheers!
URL:https://nocterrabrewing.com/event/runclubpowell/2028-09-14/
LOCATION:Nocterra Brewing Co. – Powell\, 41 Depot Street\, Powell\, OH\, 43065\, United States
CATEGORIES:Powell
ATTACH;FMTTYPE=image/jpeg:https://nocterrabrewing.com/wp-content/uploads/2026/03/Nocterra_Run_Club_16x9.jpg
ORGANIZER;CN="Nocterra Brewing Co.":MAILTO:info@nocterrabrewing.com
END:VEVENT
BEGIN:VEVENT
DTSTART;TZID=UTC:20280919T190000
DTEND;TZID=UTC:20280919T210000
DTSTAMP:20260423T164154
CREATED:20260122T200823Z
LAST-MODIFIED:20260225T193747Z
UID:10001566-1853002800-1853010000@nocterrabrewing.com
SUMMARY:BINGO NIGHT! - POWELL
DESCRIPTION:Join us every Tuesday for a fun night of Bingo. We’ll be rolling balls and making calls. Listen for your number; you could go home with a fun prize!\nAs always\, it’s free to play and open to all ages.
URL:https://nocterrabrewing.com/event/bingo-night-powell-2/2028-09-19/
LOCATION:Nocterra Brewing Co. – Powell\, 41 Depot Street\, Powell\, OH\, 43065\, United States
CATEGORIES:Bingo,Entertainment,Family Fun,Powell
ATTACH;FMTTYPE=image/png:https://nocterrabrewing.com/wp-content/uploads/2025/02/Bingo-2025-3-FB-Event-.png
END:VEVENT
BEGIN:VEVENT
DTSTART;TZID=UTC:20280920T190000
DTEND;TZID=UTC:20280920T210000
DTSTAMP:20260423T164154
CREATED:20260225T195852Z
LAST-MODIFIED:20260318T214649Z
UID:10001889-1853089200-1853096400@nocterrabrewing.com
SUMMARY:TRIVIA NIGHTS! - POWELL
DESCRIPTION:Assemble your crew and test your knowledge at Nocterra Brewing Co.’s Trivia Night. Every Wednesday\, host Carmine will challenge you with general trivia. Prizes will be awarded to those lucky winners.\n\nAs always\, it’s free to play and open to all ages.
URL:https://nocterrabrewing.com/event/trivia-nights-powell-2-2/2028-09-20/
LOCATION:Nocterra Brewing Co. – Powell\, 41 Depot Street\, Powell\, OH\, 43065\, United States
CATEGORIES:Entertainment,Family Fun,Powell,Trivia
ATTACH;FMTTYPE=image/jpeg:https://nocterrabrewing.com/wp-content/uploads/2025/09/unnamed-3.jpg
END:VEVENT
BEGIN:VEVENT
DTSTART;TZID=UTC:20280921T181500
DTEND;TZID=UTC:20280921T201500
DTSTAMP:20260423T164154
CREATED:20260316T181447Z
LAST-MODIFIED:20260316T181447Z
UID:10002410-1853172900-1853180100@nocterrabrewing.com
SUMMARY:Run Club: Powell
DESCRIPTION:The Nocterra Run Club meets every Thursday at 6:15pm for a healthy run\, followed by a hangout in the taproom or beer garden.\nWe work with Columbus Running Company\, and our group incorporates all levels of ability\, pace\, or distance. It’s a great way to meet friends with similar goals and interests. We meet year-round. Open to the public. Join anytime. Cheers!
URL:https://nocterrabrewing.com/event/runclubpowell/2028-09-21/
LOCATION:Nocterra Brewing Co. – Powell\, 41 Depot Street\, Powell\, OH\, 43065\, United States
CATEGORIES:Powell
ATTACH;FMTTYPE=image/jpeg:https://nocterrabrewing.com/wp-content/uploads/2026/03/Nocterra_Run_Club_16x9.jpg
ORGANIZER;CN="Nocterra Brewing Co.":MAILTO:info@nocterrabrewing.com
END:VEVENT
BEGIN:VEVENT
DTSTART;TZID=UTC:20280926T190000
DTEND;TZID=UTC:20280926T210000
DTSTAMP:20260423T164154
CREATED:20260122T200823Z
LAST-MODIFIED:20260225T193747Z
UID:10001567-1853607600-1853614800@nocterrabrewing.com
SUMMARY:BINGO NIGHT! - POWELL
DESCRIPTION:Join us every Tuesday for a fun night of Bingo. We’ll be rolling balls and making calls. Listen for your number; you could go home with a fun prize!\nAs always\, it’s free to play and open to all ages.
URL:https://nocterrabrewing.com/event/bingo-night-powell-2/2028-09-26/
LOCATION:Nocterra Brewing Co. – Powell\, 41 Depot Street\, Powell\, OH\, 43065\, United States
CATEGORIES:Bingo,Entertainment,Family Fun,Powell
ATTACH;FMTTYPE=image/png:https://nocterrabrewing.com/wp-content/uploads/2025/02/Bingo-2025-3-FB-Event-.png
END:VEVENT
BEGIN:VEVENT
DTSTART;TZID=UTC:20280927T190000
DTEND;TZID=UTC:20280927T210000
DTSTAMP:20260423T164154
CREATED:20260225T195852Z
LAST-MODIFIED:20260318T214649Z
UID:10001890-1853694000-1853701200@nocterrabrewing.com
SUMMARY:TRIVIA NIGHTS! - POWELL
DESCRIPTION:Assemble your crew and test your knowledge at Nocterra Brewing Co.’s Trivia Night. Every Wednesday\, host Carmine will challenge you with general trivia. Prizes will be awarded to those lucky winners.\n\nAs always\, it’s free to play and open to all ages.
URL:https://nocterrabrewing.com/event/trivia-nights-powell-2-2/2028-09-27/
LOCATION:Nocterra Brewing Co. – Powell\, 41 Depot Street\, Powell\, OH\, 43065\, United States
CATEGORIES:Entertainment,Family Fun,Powell,Trivia
ATTACH;FMTTYPE=image/jpeg:https://nocterrabrewing.com/wp-content/uploads/2025/09/unnamed-3.jpg
END:VEVENT
BEGIN:VEVENT
DTSTART;TZID=UTC:20280928T181500
DTEND;TZID=UTC:20280928T201500
DTSTAMP:20260423T164154
CREATED:20260316T181447Z
LAST-MODIFIED:20260316T181447Z
UID:10002411-1853777700-1853784900@nocterrabrewing.com
SUMMARY:Run Club: Powell
DESCRIPTION:The Nocterra Run Club meets every Thursday at 6:15pm for a healthy run\, followed by a hangout in the taproom or beer garden.\nWe work with Columbus Running Company\, and our group incorporates all levels of ability\, pace\, or distance. It’s a great way to meet friends with similar goals and interests. We meet year-round. Open to the public. Join anytime. Cheers!
URL:https://nocterrabrewing.com/event/runclubpowell/2028-09-28/
LOCATION:Nocterra Brewing Co. – Powell\, 41 Depot Street\, Powell\, OH\, 43065\, United States
CATEGORIES:Powell
ATTACH;FMTTYPE=image/jpeg:https://nocterrabrewing.com/wp-content/uploads/2026/03/Nocterra_Run_Club_16x9.jpg
ORGANIZER;CN="Nocterra Brewing Co.":MAILTO:info@nocterrabrewing.com
END:VEVENT
BEGIN:VEVENT
DTSTART;TZID=UTC:20281003T190000
DTEND;TZID=UTC:20281003T210000
DTSTAMP:20260423T164154
CREATED:20260122T200823Z
LAST-MODIFIED:20260225T193747Z
UID:10001568-1854212400-1854219600@nocterrabrewing.com
SUMMARY:BINGO NIGHT! - POWELL
DESCRIPTION:Join us every Tuesday for a fun night of Bingo. We’ll be rolling balls and making calls. Listen for your number; you could go home with a fun prize!\nAs always\, it’s free to play and open to all ages.
URL:https://nocterrabrewing.com/event/bingo-night-powell-2/2028-10-03/
LOCATION:Nocterra Brewing Co. – Powell\, 41 Depot Street\, Powell\, OH\, 43065\, United States
CATEGORIES:Bingo,Entertainment,Family Fun,Powell
ATTACH;FMTTYPE=image/png:https://nocterrabrewing.com/wp-content/uploads/2025/02/Bingo-2025-3-FB-Event-.png
END:VEVENT
BEGIN:VEVENT
DTSTART;TZID=UTC:20281004T190000
DTEND;TZID=UTC:20281004T210000
DTSTAMP:20260423T164154
CREATED:20260225T195852Z
LAST-MODIFIED:20260318T214649Z
UID:10001891-1854298800-1854306000@nocterrabrewing.com
SUMMARY:TRIVIA NIGHTS! - POWELL
DESCRIPTION:Assemble your crew and test your knowledge at Nocterra Brewing Co.’s Trivia Night. Every Wednesday\, host Carmine will challenge you with general trivia. Prizes will be awarded to those lucky winners.\n\nAs always\, it’s free to play and open to all ages.
URL:https://nocterrabrewing.com/event/trivia-nights-powell-2-2/2028-10-04/
LOCATION:Nocterra Brewing Co. – Powell\, 41 Depot Street\, Powell\, OH\, 43065\, United States
CATEGORIES:Entertainment,Family Fun,Powell,Trivia
ATTACH;FMTTYPE=image/jpeg:https://nocterrabrewing.com/wp-content/uploads/2025/09/unnamed-3.jpg
END:VEVENT
BEGIN:VEVENT
DTSTART;TZID=UTC:20281005T181500
DTEND;TZID=UTC:20281005T201500
DTSTAMP:20260423T164154
CREATED:20260316T181447Z
LAST-MODIFIED:20260316T181447Z
UID:10002412-1854382500-1854389700@nocterrabrewing.com
SUMMARY:Run Club: Powell
DESCRIPTION:The Nocterra Run Club meets every Thursday at 6:15pm for a healthy run\, followed by a hangout in the taproom or beer garden.\nWe work with Columbus Running Company\, and our group incorporates all levels of ability\, pace\, or distance. It’s a great way to meet friends with similar goals and interests. We meet year-round. Open to the public. Join anytime. Cheers!
URL:https://nocterrabrewing.com/event/runclubpowell/2028-10-05/
LOCATION:Nocterra Brewing Co. – Powell\, 41 Depot Street\, Powell\, OH\, 43065\, United States
CATEGORIES:Powell
ATTACH;FMTTYPE=image/jpeg:https://nocterrabrewing.com/wp-content/uploads/2026/03/Nocterra_Run_Club_16x9.jpg
ORGANIZER;CN="Nocterra Brewing Co.":MAILTO:info@nocterrabrewing.com
END:VEVENT
BEGIN:VEVENT
DTSTART;TZID=UTC:20281010T190000
DTEND;TZID=UTC:20281010T210000
DTSTAMP:20260423T164154
CREATED:20260122T200823Z
LAST-MODIFIED:20260225T193747Z
UID:10001569-1854817200-1854824400@nocterrabrewing.com
SUMMARY:BINGO NIGHT! - POWELL
DESCRIPTION:Join us every Tuesday for a fun night of Bingo. We’ll be rolling balls and making calls. Listen for your number; you could go home with a fun prize!\nAs always\, it’s free to play and open to all ages.
URL:https://nocterrabrewing.com/event/bingo-night-powell-2/2028-10-10/
LOCATION:Nocterra Brewing Co. – Powell\, 41 Depot Street\, Powell\, OH\, 43065\, United States
CATEGORIES:Bingo,Entertainment,Family Fun,Powell
ATTACH;FMTTYPE=image/png:https://nocterrabrewing.com/wp-content/uploads/2025/02/Bingo-2025-3-FB-Event-.png
END:VEVENT
BEGIN:VEVENT
DTSTART;TZID=UTC:20281011T190000
DTEND;TZID=UTC:20281011T210000
DTSTAMP:20260423T164154
CREATED:20260225T195852Z
LAST-MODIFIED:20260318T214649Z
UID:10001892-1854903600-1854910800@nocterrabrewing.com
SUMMARY:TRIVIA NIGHTS! - POWELL
DESCRIPTION:Assemble your crew and test your knowledge at Nocterra Brewing Co.’s Trivia Night. Every Wednesday\, host Carmine will challenge you with general trivia. Prizes will be awarded to those lucky winners.\n\nAs always\, it’s free to play and open to all ages.
URL:https://nocterrabrewing.com/event/trivia-nights-powell-2-2/2028-10-11/
LOCATION:Nocterra Brewing Co. – Powell\, 41 Depot Street\, Powell\, OH\, 43065\, United States
CATEGORIES:Entertainment,Family Fun,Powell,Trivia
ATTACH;FMTTYPE=image/jpeg:https://nocterrabrewing.com/wp-content/uploads/2025/09/unnamed-3.jpg
END:VEVENT
BEGIN:VEVENT
DTSTART;TZID=UTC:20281012T181500
DTEND;TZID=UTC:20281012T201500
DTSTAMP:20260423T164154
CREATED:20260316T181447Z
LAST-MODIFIED:20260316T181447Z
UID:10002413-1854987300-1854994500@nocterrabrewing.com
SUMMARY:Run Club: Powell
DESCRIPTION:The Nocterra Run Club meets every Thursday at 6:15pm for a healthy run\, followed by a hangout in the taproom or beer garden.\nWe work with Columbus Running Company\, and our group incorporates all levels of ability\, pace\, or distance. It’s a great way to meet friends with similar goals and interests. We meet year-round. Open to the public. Join anytime. Cheers!
URL:https://nocterrabrewing.com/event/runclubpowell/2028-10-12/
LOCATION:Nocterra Brewing Co. – Powell\, 41 Depot Street\, Powell\, OH\, 43065\, United States
CATEGORIES:Powell
ATTACH;FMTTYPE=image/jpeg:https://nocterrabrewing.com/wp-content/uploads/2026/03/Nocterra_Run_Club_16x9.jpg
ORGANIZER;CN="Nocterra Brewing Co.":MAILTO:info@nocterrabrewing.com
END:VEVENT
BEGIN:VEVENT
DTSTART;TZID=UTC:20281017T190000
DTEND;TZID=UTC:20281017T210000
DTSTAMP:20260423T164154
CREATED:20260122T200823Z
LAST-MODIFIED:20260225T193747Z
UID:10001570-1855422000-1855429200@nocterrabrewing.com
SUMMARY:BINGO NIGHT! - POWELL
DESCRIPTION:Join us every Tuesday for a fun night of Bingo. We’ll be rolling balls and making calls. Listen for your number; you could go home with a fun prize!\nAs always\, it’s free to play and open to all ages.
URL:https://nocterrabrewing.com/event/bingo-night-powell-2/2028-10-17/
LOCATION:Nocterra Brewing Co. – Powell\, 41 Depot Street\, Powell\, OH\, 43065\, United States
CATEGORIES:Bingo,Entertainment,Family Fun,Powell
ATTACH;FMTTYPE=image/png:https://nocterrabrewing.com/wp-content/uploads/2025/02/Bingo-2025-3-FB-Event-.png
END:VEVENT
BEGIN:VEVENT
DTSTART;TZID=UTC:20281018T190000
DTEND;TZID=UTC:20281018T210000
DTSTAMP:20260423T164154
CREATED:20260225T195852Z
LAST-MODIFIED:20260318T214649Z
UID:10001893-1855508400-1855515600@nocterrabrewing.com
SUMMARY:TRIVIA NIGHTS! - POWELL
DESCRIPTION:Assemble your crew and test your knowledge at Nocterra Brewing Co.’s Trivia Night. Every Wednesday\, host Carmine will challenge you with general trivia. Prizes will be awarded to those lucky winners.\n\nAs always\, it’s free to play and open to all ages.
URL:https://nocterrabrewing.com/event/trivia-nights-powell-2-2/2028-10-18/
LOCATION:Nocterra Brewing Co. – Powell\, 41 Depot Street\, Powell\, OH\, 43065\, United States
CATEGORIES:Entertainment,Family Fun,Powell,Trivia
ATTACH;FMTTYPE=image/jpeg:https://nocterrabrewing.com/wp-content/uploads/2025/09/unnamed-3.jpg
END:VEVENT
BEGIN:VEVENT
DTSTART;TZID=UTC:20281019T181500
DTEND;TZID=UTC:20281019T201500
DTSTAMP:20260423T164154
CREATED:20260316T181447Z
LAST-MODIFIED:20260316T181447Z
UID:10002414-1855592100-1855599300@nocterrabrewing.com
SUMMARY:Run Club: Powell
DESCRIPTION:The Nocterra Run Club meets every Thursday at 6:15pm for a healthy run\, followed by a hangout in the taproom or beer garden.\nWe work with Columbus Running Company\, and our group incorporates all levels of ability\, pace\, or distance. It’s a great way to meet friends with similar goals and interests. We meet year-round. Open to the public. Join anytime. Cheers!
URL:https://nocterrabrewing.com/event/runclubpowell/2028-10-19/
LOCATION:Nocterra Brewing Co. – Powell\, 41 Depot Street\, Powell\, OH\, 43065\, United States
CATEGORIES:Powell
ATTACH;FMTTYPE=image/jpeg:https://nocterrabrewing.com/wp-content/uploads/2026/03/Nocterra_Run_Club_16x9.jpg
ORGANIZER;CN="Nocterra Brewing Co.":MAILTO:info@nocterrabrewing.com
END:VEVENT
BEGIN:VEVENT
DTSTART;TZID=UTC:20281024T190000
DTEND;TZID=UTC:20281024T210000
DTSTAMP:20260423T164154
CREATED:20260122T200823Z
LAST-MODIFIED:20260225T193747Z
UID:10001571-1856026800-1856034000@nocterrabrewing.com
SUMMARY:BINGO NIGHT! - POWELL
DESCRIPTION:Join us every Tuesday for a fun night of Bingo. We’ll be rolling balls and making calls. Listen for your number; you could go home with a fun prize!\nAs always\, it’s free to play and open to all ages.
URL:https://nocterrabrewing.com/event/bingo-night-powell-2/2028-10-24/
LOCATION:Nocterra Brewing Co. – Powell\, 41 Depot Street\, Powell\, OH\, 43065\, United States
CATEGORIES:Bingo,Entertainment,Family Fun,Powell
ATTACH;FMTTYPE=image/png:https://nocterrabrewing.com/wp-content/uploads/2025/02/Bingo-2025-3-FB-Event-.png
END:VEVENT
BEGIN:VEVENT
DTSTART;TZID=UTC:20281025T190000
DTEND;TZID=UTC:20281025T210000
DTSTAMP:20260423T164154
CREATED:20260225T195852Z
LAST-MODIFIED:20260318T214649Z
UID:10001894-1856113200-1856120400@nocterrabrewing.com
SUMMARY:TRIVIA NIGHTS! - POWELL
DESCRIPTION:Assemble your crew and test your knowledge at Nocterra Brewing Co.’s Trivia Night. Every Wednesday\, host Carmine will challenge you with general trivia. Prizes will be awarded to those lucky winners.\n\nAs always\, it’s free to play and open to all ages.
URL:https://nocterrabrewing.com/event/trivia-nights-powell-2-2/2028-10-25/
LOCATION:Nocterra Brewing Co. – Powell\, 41 Depot Street\, Powell\, OH\, 43065\, United States
CATEGORIES:Entertainment,Family Fun,Powell,Trivia
ATTACH;FMTTYPE=image/jpeg:https://nocterrabrewing.com/wp-content/uploads/2025/09/unnamed-3.jpg
END:VEVENT
END:VCALENDAR