BEGIN:VCALENDAR
VERSION:2.0
PRODID:-//Nocterra Brewing Co. - ECPv6.15.17//NONSGML v1.0//EN
CALSCALE:GREGORIAN
METHOD:PUBLISH
X-ORIGINAL-URL:https://nocterrabrewing.com
X-WR-CALDESC:Events for Nocterra Brewing Co.
REFRESH-INTERVAL;VALUE=DURATION:PT1H
X-Robots-Tag:noindex
X-PUBLISHED-TTL:PT1H
BEGIN:VTIMEZONE
TZID:UTC
BEGIN:STANDARD
TZOFFSETFROM:+0000
TZOFFSETTO:+0000
TZNAME:UTC
DTSTART:20260101T000000
END:STANDARD
END:VTIMEZONE
BEGIN:VEVENT
DTSTART;TZID=UTC:20270330T190000
DTEND;TZID=UTC:20270330T210000
DTSTAMP:20260422T112507
CREATED:20260122T200823Z
LAST-MODIFIED:20260225T193747Z
UID:10001489-1806433200-1806440400@nocterrabrewing.com
SUMMARY:BINGO NIGHT! - POWELL
DESCRIPTION:Join us every Tuesday for a fun night of Bingo. We’ll be rolling balls and making calls. Listen for your number; you could go home with a fun prize!\nAs always\, it’s free to play and open to all ages.
URL:https://nocterrabrewing.com/event/bingo-night-powell-2/2027-03-30/
LOCATION:Nocterra Brewing Co. – Powell\, 41 Depot Street\, Powell\, OH\, 43065\, United States
CATEGORIES:Bingo,Entertainment,Family Fun,Powell
ATTACH;FMTTYPE=image/png:https://nocterrabrewing.com/wp-content/uploads/2025/02/Bingo-2025-3-FB-Event-.png
END:VEVENT
BEGIN:VEVENT
DTSTART;TZID=UTC:20270331T190000
DTEND;TZID=UTC:20270331T210000
DTSTAMP:20260422T112507
CREATED:20260225T195852Z
LAST-MODIFIED:20260318T214649Z
UID:10001812-1806519600-1806526800@nocterrabrewing.com
SUMMARY:TRIVIA NIGHTS! - POWELL
DESCRIPTION:Assemble your crew and test your knowledge at Nocterra Brewing Co.’s Trivia Night. Every Wednesday\, host Carmine will challenge you with general trivia. Prizes will be awarded to those lucky winners.\n\nAs always\, it’s free to play and open to all ages.
URL:https://nocterrabrewing.com/event/trivia-nights-powell-2-2/2027-03-31/
LOCATION:Nocterra Brewing Co. – Powell\, 41 Depot Street\, Powell\, OH\, 43065\, United States
CATEGORIES:Entertainment,Family Fun,Powell,Trivia
ATTACH;FMTTYPE=image/jpeg:https://nocterrabrewing.com/wp-content/uploads/2025/09/unnamed-3.jpg
END:VEVENT
BEGIN:VEVENT
DTSTART;TZID=UTC:20270401T181500
DTEND;TZID=UTC:20270401T201500
DTSTAMP:20260422T112507
CREATED:20260316T181447Z
LAST-MODIFIED:20260316T181447Z
UID:10002333-1806603300-1806610500@nocterrabrewing.com
SUMMARY:Run Club: Powell
DESCRIPTION:The Nocterra Run Club meets every Thursday at 6:15pm for a healthy run\, followed by a hangout in the taproom or beer garden.\nWe work with Columbus Running Company\, and our group incorporates all levels of ability\, pace\, or distance. It’s a great way to meet friends with similar goals and interests. We meet year-round. Open to the public. Join anytime. Cheers!
URL:https://nocterrabrewing.com/event/runclubpowell/2027-04-01/
LOCATION:Nocterra Brewing Co. – Powell\, 41 Depot Street\, Powell\, OH\, 43065\, United States
CATEGORIES:Powell
ATTACH;FMTTYPE=image/jpeg:https://nocterrabrewing.com/wp-content/uploads/2026/03/Nocterra_Run_Club_16x9.jpg
ORGANIZER;CN="Nocterra Brewing Co.":MAILTO:info@nocterrabrewing.com
END:VEVENT
BEGIN:VEVENT
DTSTART;TZID=UTC:20270406T190000
DTEND;TZID=UTC:20270406T210000
DTSTAMP:20260422T112507
CREATED:20260122T200823Z
LAST-MODIFIED:20260225T193747Z
UID:10001490-1807038000-1807045200@nocterrabrewing.com
SUMMARY:BINGO NIGHT! - POWELL
DESCRIPTION:Join us every Tuesday for a fun night of Bingo. We’ll be rolling balls and making calls. Listen for your number; you could go home with a fun prize!\nAs always\, it’s free to play and open to all ages.
URL:https://nocterrabrewing.com/event/bingo-night-powell-2/2027-04-06/
LOCATION:Nocterra Brewing Co. – Powell\, 41 Depot Street\, Powell\, OH\, 43065\, United States
CATEGORIES:Bingo,Entertainment,Family Fun,Powell
ATTACH;FMTTYPE=image/png:https://nocterrabrewing.com/wp-content/uploads/2025/02/Bingo-2025-3-FB-Event-.png
END:VEVENT
BEGIN:VEVENT
DTSTART;TZID=UTC:20270407T190000
DTEND;TZID=UTC:20270407T210000
DTSTAMP:20260422T112507
CREATED:20260225T195852Z
LAST-MODIFIED:20260318T214649Z
UID:10001813-1807124400-1807131600@nocterrabrewing.com
SUMMARY:TRIVIA NIGHTS! - POWELL
DESCRIPTION:Assemble your crew and test your knowledge at Nocterra Brewing Co.’s Trivia Night. Every Wednesday\, host Carmine will challenge you with general trivia. Prizes will be awarded to those lucky winners.\n\nAs always\, it’s free to play and open to all ages.
URL:https://nocterrabrewing.com/event/trivia-nights-powell-2-2/2027-04-07/
LOCATION:Nocterra Brewing Co. – Powell\, 41 Depot Street\, Powell\, OH\, 43065\, United States
CATEGORIES:Entertainment,Family Fun,Powell,Trivia
ATTACH;FMTTYPE=image/jpeg:https://nocterrabrewing.com/wp-content/uploads/2025/09/unnamed-3.jpg
END:VEVENT
BEGIN:VEVENT
DTSTART;TZID=UTC:20270408T181500
DTEND;TZID=UTC:20270408T201500
DTSTAMP:20260422T112507
CREATED:20260316T181447Z
LAST-MODIFIED:20260316T181447Z
UID:10002334-1807208100-1807215300@nocterrabrewing.com
SUMMARY:Run Club: Powell
DESCRIPTION:The Nocterra Run Club meets every Thursday at 6:15pm for a healthy run\, followed by a hangout in the taproom or beer garden.\nWe work with Columbus Running Company\, and our group incorporates all levels of ability\, pace\, or distance. It’s a great way to meet friends with similar goals and interests. We meet year-round. Open to the public. Join anytime. Cheers!
URL:https://nocterrabrewing.com/event/runclubpowell/2027-04-08/
LOCATION:Nocterra Brewing Co. – Powell\, 41 Depot Street\, Powell\, OH\, 43065\, United States
CATEGORIES:Powell
ATTACH;FMTTYPE=image/jpeg:https://nocterrabrewing.com/wp-content/uploads/2026/03/Nocterra_Run_Club_16x9.jpg
ORGANIZER;CN="Nocterra Brewing Co.":MAILTO:info@nocterrabrewing.com
END:VEVENT
BEGIN:VEVENT
DTSTART;TZID=UTC:20270413T190000
DTEND;TZID=UTC:20270413T210000
DTSTAMP:20260422T112507
CREATED:20260122T200823Z
LAST-MODIFIED:20260225T193747Z
UID:10001491-1807642800-1807650000@nocterrabrewing.com
SUMMARY:BINGO NIGHT! - POWELL
DESCRIPTION:Join us every Tuesday for a fun night of Bingo. We’ll be rolling balls and making calls. Listen for your number; you could go home with a fun prize!\nAs always\, it’s free to play and open to all ages.
URL:https://nocterrabrewing.com/event/bingo-night-powell-2/2027-04-13/
LOCATION:Nocterra Brewing Co. – Powell\, 41 Depot Street\, Powell\, OH\, 43065\, United States
CATEGORIES:Bingo,Entertainment,Family Fun,Powell
ATTACH;FMTTYPE=image/png:https://nocterrabrewing.com/wp-content/uploads/2025/02/Bingo-2025-3-FB-Event-.png
END:VEVENT
BEGIN:VEVENT
DTSTART;TZID=UTC:20270414T190000
DTEND;TZID=UTC:20270414T210000
DTSTAMP:20260422T112507
CREATED:20260225T195852Z
LAST-MODIFIED:20260318T214649Z
UID:10001814-1807729200-1807736400@nocterrabrewing.com
SUMMARY:TRIVIA NIGHTS! - POWELL
DESCRIPTION:Assemble your crew and test your knowledge at Nocterra Brewing Co.’s Trivia Night. Every Wednesday\, host Carmine will challenge you with general trivia. Prizes will be awarded to those lucky winners.\n\nAs always\, it’s free to play and open to all ages.
URL:https://nocterrabrewing.com/event/trivia-nights-powell-2-2/2027-04-14/
LOCATION:Nocterra Brewing Co. – Powell\, 41 Depot Street\, Powell\, OH\, 43065\, United States
CATEGORIES:Entertainment,Family Fun,Powell,Trivia
ATTACH;FMTTYPE=image/jpeg:https://nocterrabrewing.com/wp-content/uploads/2025/09/unnamed-3.jpg
END:VEVENT
BEGIN:VEVENT
DTSTART;TZID=UTC:20270415T181500
DTEND;TZID=UTC:20270415T201500
DTSTAMP:20260422T112507
CREATED:20260316T181447Z
LAST-MODIFIED:20260316T181447Z
UID:10002335-1807812900-1807820100@nocterrabrewing.com
SUMMARY:Run Club: Powell
DESCRIPTION:The Nocterra Run Club meets every Thursday at 6:15pm for a healthy run\, followed by a hangout in the taproom or beer garden.\nWe work with Columbus Running Company\, and our group incorporates all levels of ability\, pace\, or distance. It’s a great way to meet friends with similar goals and interests. We meet year-round. Open to the public. Join anytime. Cheers!
URL:https://nocterrabrewing.com/event/runclubpowell/2027-04-15/
LOCATION:Nocterra Brewing Co. – Powell\, 41 Depot Street\, Powell\, OH\, 43065\, United States
CATEGORIES:Powell
ATTACH;FMTTYPE=image/jpeg:https://nocterrabrewing.com/wp-content/uploads/2026/03/Nocterra_Run_Club_16x9.jpg
ORGANIZER;CN="Nocterra Brewing Co.":MAILTO:info@nocterrabrewing.com
END:VEVENT
BEGIN:VEVENT
DTSTART;TZID=UTC:20270420T190000
DTEND;TZID=UTC:20270420T210000
DTSTAMP:20260422T112507
CREATED:20260122T200823Z
LAST-MODIFIED:20260225T193747Z
UID:10001492-1808247600-1808254800@nocterrabrewing.com
SUMMARY:BINGO NIGHT! - POWELL
DESCRIPTION:Join us every Tuesday for a fun night of Bingo. We’ll be rolling balls and making calls. Listen for your number; you could go home with a fun prize!\nAs always\, it’s free to play and open to all ages.
URL:https://nocterrabrewing.com/event/bingo-night-powell-2/2027-04-20/
LOCATION:Nocterra Brewing Co. – Powell\, 41 Depot Street\, Powell\, OH\, 43065\, United States
CATEGORIES:Bingo,Entertainment,Family Fun,Powell
ATTACH;FMTTYPE=image/png:https://nocterrabrewing.com/wp-content/uploads/2025/02/Bingo-2025-3-FB-Event-.png
END:VEVENT
BEGIN:VEVENT
DTSTART;TZID=UTC:20270421T190000
DTEND;TZID=UTC:20270421T210000
DTSTAMP:20260422T112507
CREATED:20260225T195852Z
LAST-MODIFIED:20260318T214649Z
UID:10001815-1808334000-1808341200@nocterrabrewing.com
SUMMARY:TRIVIA NIGHTS! - POWELL
DESCRIPTION:Assemble your crew and test your knowledge at Nocterra Brewing Co.’s Trivia Night. Every Wednesday\, host Carmine will challenge you with general trivia. Prizes will be awarded to those lucky winners.\n\nAs always\, it’s free to play and open to all ages.
URL:https://nocterrabrewing.com/event/trivia-nights-powell-2-2/2027-04-21/
LOCATION:Nocterra Brewing Co. – Powell\, 41 Depot Street\, Powell\, OH\, 43065\, United States
CATEGORIES:Entertainment,Family Fun,Powell,Trivia
ATTACH;FMTTYPE=image/jpeg:https://nocterrabrewing.com/wp-content/uploads/2025/09/unnamed-3.jpg
END:VEVENT
BEGIN:VEVENT
DTSTART;TZID=UTC:20270422T181500
DTEND;TZID=UTC:20270422T201500
DTSTAMP:20260422T112507
CREATED:20260316T181447Z
LAST-MODIFIED:20260316T181447Z
UID:10002336-1808417700-1808424900@nocterrabrewing.com
SUMMARY:Run Club: Powell
DESCRIPTION:The Nocterra Run Club meets every Thursday at 6:15pm for a healthy run\, followed by a hangout in the taproom or beer garden.\nWe work with Columbus Running Company\, and our group incorporates all levels of ability\, pace\, or distance. It’s a great way to meet friends with similar goals and interests. We meet year-round. Open to the public. Join anytime. Cheers!
URL:https://nocterrabrewing.com/event/runclubpowell/2027-04-22/
LOCATION:Nocterra Brewing Co. – Powell\, 41 Depot Street\, Powell\, OH\, 43065\, United States
CATEGORIES:Powell
ATTACH;FMTTYPE=image/jpeg:https://nocterrabrewing.com/wp-content/uploads/2026/03/Nocterra_Run_Club_16x9.jpg
ORGANIZER;CN="Nocterra Brewing Co.":MAILTO:info@nocterrabrewing.com
END:VEVENT
BEGIN:VEVENT
DTSTART;TZID=UTC:20270427T190000
DTEND;TZID=UTC:20270427T210000
DTSTAMP:20260422T112507
CREATED:20260122T200823Z
LAST-MODIFIED:20260225T193747Z
UID:10001493-1808852400-1808859600@nocterrabrewing.com
SUMMARY:BINGO NIGHT! - POWELL
DESCRIPTION:Join us every Tuesday for a fun night of Bingo. We’ll be rolling balls and making calls. Listen for your number; you could go home with a fun prize!\nAs always\, it’s free to play and open to all ages.
URL:https://nocterrabrewing.com/event/bingo-night-powell-2/2027-04-27/
LOCATION:Nocterra Brewing Co. – Powell\, 41 Depot Street\, Powell\, OH\, 43065\, United States
CATEGORIES:Bingo,Entertainment,Family Fun,Powell
ATTACH;FMTTYPE=image/png:https://nocterrabrewing.com/wp-content/uploads/2025/02/Bingo-2025-3-FB-Event-.png
END:VEVENT
BEGIN:VEVENT
DTSTART;TZID=UTC:20270428T190000
DTEND;TZID=UTC:20270428T210000
DTSTAMP:20260422T112507
CREATED:20260225T195852Z
LAST-MODIFIED:20260318T214649Z
UID:10001816-1808938800-1808946000@nocterrabrewing.com
SUMMARY:TRIVIA NIGHTS! - POWELL
DESCRIPTION:Assemble your crew and test your knowledge at Nocterra Brewing Co.’s Trivia Night. Every Wednesday\, host Carmine will challenge you with general trivia. Prizes will be awarded to those lucky winners.\n\nAs always\, it’s free to play and open to all ages.
URL:https://nocterrabrewing.com/event/trivia-nights-powell-2-2/2027-04-28/
LOCATION:Nocterra Brewing Co. – Powell\, 41 Depot Street\, Powell\, OH\, 43065\, United States
CATEGORIES:Entertainment,Family Fun,Powell,Trivia
ATTACH;FMTTYPE=image/jpeg:https://nocterrabrewing.com/wp-content/uploads/2025/09/unnamed-3.jpg
END:VEVENT
BEGIN:VEVENT
DTSTART;TZID=UTC:20270429T181500
DTEND;TZID=UTC:20270429T201500
DTSTAMP:20260422T112507
CREATED:20260316T181447Z
LAST-MODIFIED:20260316T181447Z
UID:10002337-1809022500-1809029700@nocterrabrewing.com
SUMMARY:Run Club: Powell
DESCRIPTION:The Nocterra Run Club meets every Thursday at 6:15pm for a healthy run\, followed by a hangout in the taproom or beer garden.\nWe work with Columbus Running Company\, and our group incorporates all levels of ability\, pace\, or distance. It’s a great way to meet friends with similar goals and interests. We meet year-round. Open to the public. Join anytime. Cheers!
URL:https://nocterrabrewing.com/event/runclubpowell/2027-04-29/
LOCATION:Nocterra Brewing Co. – Powell\, 41 Depot Street\, Powell\, OH\, 43065\, United States
CATEGORIES:Powell
ATTACH;FMTTYPE=image/jpeg:https://nocterrabrewing.com/wp-content/uploads/2026/03/Nocterra_Run_Club_16x9.jpg
ORGANIZER;CN="Nocterra Brewing Co.":MAILTO:info@nocterrabrewing.com
END:VEVENT
BEGIN:VEVENT
DTSTART;TZID=UTC:20270504T190000
DTEND;TZID=UTC:20270504T210000
DTSTAMP:20260422T112507
CREATED:20260122T200823Z
LAST-MODIFIED:20260225T193747Z
UID:10001494-1809457200-1809464400@nocterrabrewing.com
SUMMARY:BINGO NIGHT! - POWELL
DESCRIPTION:Join us every Tuesday for a fun night of Bingo. We’ll be rolling balls and making calls. Listen for your number; you could go home with a fun prize!\nAs always\, it’s free to play and open to all ages.
URL:https://nocterrabrewing.com/event/bingo-night-powell-2/2027-05-04/
LOCATION:Nocterra Brewing Co. – Powell\, 41 Depot Street\, Powell\, OH\, 43065\, United States
CATEGORIES:Bingo,Entertainment,Family Fun,Powell
ATTACH;FMTTYPE=image/png:https://nocterrabrewing.com/wp-content/uploads/2025/02/Bingo-2025-3-FB-Event-.png
END:VEVENT
BEGIN:VEVENT
DTSTART;TZID=UTC:20270505T190000
DTEND;TZID=UTC:20270505T210000
DTSTAMP:20260422T112507
CREATED:20260225T195852Z
LAST-MODIFIED:20260318T214649Z
UID:10001817-1809543600-1809550800@nocterrabrewing.com
SUMMARY:TRIVIA NIGHTS! - POWELL
DESCRIPTION:Assemble your crew and test your knowledge at Nocterra Brewing Co.’s Trivia Night. Every Wednesday\, host Carmine will challenge you with general trivia. Prizes will be awarded to those lucky winners.\n\nAs always\, it’s free to play and open to all ages.
URL:https://nocterrabrewing.com/event/trivia-nights-powell-2-2/2027-05-05/
LOCATION:Nocterra Brewing Co. – Powell\, 41 Depot Street\, Powell\, OH\, 43065\, United States
CATEGORIES:Entertainment,Family Fun,Powell,Trivia
ATTACH;FMTTYPE=image/jpeg:https://nocterrabrewing.com/wp-content/uploads/2025/09/unnamed-3.jpg
END:VEVENT
BEGIN:VEVENT
DTSTART;TZID=UTC:20270506T181500
DTEND;TZID=UTC:20270506T201500
DTSTAMP:20260422T112507
CREATED:20260316T181447Z
LAST-MODIFIED:20260316T181447Z
UID:10002338-1809627300-1809634500@nocterrabrewing.com
SUMMARY:Run Club: Powell
DESCRIPTION:The Nocterra Run Club meets every Thursday at 6:15pm for a healthy run\, followed by a hangout in the taproom or beer garden.\nWe work with Columbus Running Company\, and our group incorporates all levels of ability\, pace\, or distance. It’s a great way to meet friends with similar goals and interests. We meet year-round. Open to the public. Join anytime. Cheers!
URL:https://nocterrabrewing.com/event/runclubpowell/2027-05-06/
LOCATION:Nocterra Brewing Co. – Powell\, 41 Depot Street\, Powell\, OH\, 43065\, United States
CATEGORIES:Powell
ATTACH;FMTTYPE=image/jpeg:https://nocterrabrewing.com/wp-content/uploads/2026/03/Nocterra_Run_Club_16x9.jpg
ORGANIZER;CN="Nocterra Brewing Co.":MAILTO:info@nocterrabrewing.com
END:VEVENT
BEGIN:VEVENT
DTSTART;TZID=UTC:20270511T190000
DTEND;TZID=UTC:20270511T210000
DTSTAMP:20260422T112507
CREATED:20260122T200823Z
LAST-MODIFIED:20260225T193747Z
UID:10001495-1810062000-1810069200@nocterrabrewing.com
SUMMARY:BINGO NIGHT! - POWELL
DESCRIPTION:Join us every Tuesday for a fun night of Bingo. We’ll be rolling balls and making calls. Listen for your number; you could go home with a fun prize!\nAs always\, it’s free to play and open to all ages.
URL:https://nocterrabrewing.com/event/bingo-night-powell-2/2027-05-11/
LOCATION:Nocterra Brewing Co. – Powell\, 41 Depot Street\, Powell\, OH\, 43065\, United States
CATEGORIES:Bingo,Entertainment,Family Fun,Powell
ATTACH;FMTTYPE=image/png:https://nocterrabrewing.com/wp-content/uploads/2025/02/Bingo-2025-3-FB-Event-.png
END:VEVENT
BEGIN:VEVENT
DTSTART;TZID=UTC:20270512T190000
DTEND;TZID=UTC:20270512T210000
DTSTAMP:20260422T112507
CREATED:20260225T195852Z
LAST-MODIFIED:20260318T214649Z
UID:10001818-1810148400-1810155600@nocterrabrewing.com
SUMMARY:TRIVIA NIGHTS! - POWELL
DESCRIPTION:Assemble your crew and test your knowledge at Nocterra Brewing Co.’s Trivia Night. Every Wednesday\, host Carmine will challenge you with general trivia. Prizes will be awarded to those lucky winners.\n\nAs always\, it’s free to play and open to all ages.
URL:https://nocterrabrewing.com/event/trivia-nights-powell-2-2/2027-05-12/
LOCATION:Nocterra Brewing Co. – Powell\, 41 Depot Street\, Powell\, OH\, 43065\, United States
CATEGORIES:Entertainment,Family Fun,Powell,Trivia
ATTACH;FMTTYPE=image/jpeg:https://nocterrabrewing.com/wp-content/uploads/2025/09/unnamed-3.jpg
END:VEVENT
BEGIN:VEVENT
DTSTART;TZID=UTC:20270513T181500
DTEND;TZID=UTC:20270513T201500
DTSTAMP:20260422T112507
CREATED:20260316T181447Z
LAST-MODIFIED:20260316T181447Z
UID:10002339-1810232100-1810239300@nocterrabrewing.com
SUMMARY:Run Club: Powell
DESCRIPTION:The Nocterra Run Club meets every Thursday at 6:15pm for a healthy run\, followed by a hangout in the taproom or beer garden.\nWe work with Columbus Running Company\, and our group incorporates all levels of ability\, pace\, or distance. It’s a great way to meet friends with similar goals and interests. We meet year-round. Open to the public. Join anytime. Cheers!
URL:https://nocterrabrewing.com/event/runclubpowell/2027-05-13/
LOCATION:Nocterra Brewing Co. – Powell\, 41 Depot Street\, Powell\, OH\, 43065\, United States
CATEGORIES:Powell
ATTACH;FMTTYPE=image/jpeg:https://nocterrabrewing.com/wp-content/uploads/2026/03/Nocterra_Run_Club_16x9.jpg
ORGANIZER;CN="Nocterra Brewing Co.":MAILTO:info@nocterrabrewing.com
END:VEVENT
BEGIN:VEVENT
DTSTART;TZID=UTC:20270518T190000
DTEND;TZID=UTC:20270518T210000
DTSTAMP:20260422T112507
CREATED:20260122T200823Z
LAST-MODIFIED:20260225T193747Z
UID:10001496-1810666800-1810674000@nocterrabrewing.com
SUMMARY:BINGO NIGHT! - POWELL
DESCRIPTION:Join us every Tuesday for a fun night of Bingo. We’ll be rolling balls and making calls. Listen for your number; you could go home with a fun prize!\nAs always\, it’s free to play and open to all ages.
URL:https://nocterrabrewing.com/event/bingo-night-powell-2/2027-05-18/
LOCATION:Nocterra Brewing Co. – Powell\, 41 Depot Street\, Powell\, OH\, 43065\, United States
CATEGORIES:Bingo,Entertainment,Family Fun,Powell
ATTACH;FMTTYPE=image/png:https://nocterrabrewing.com/wp-content/uploads/2025/02/Bingo-2025-3-FB-Event-.png
END:VEVENT
BEGIN:VEVENT
DTSTART;TZID=UTC:20270519T190000
DTEND;TZID=UTC:20270519T210000
DTSTAMP:20260422T112507
CREATED:20260225T195852Z
LAST-MODIFIED:20260318T214649Z
UID:10001819-1810753200-1810760400@nocterrabrewing.com
SUMMARY:TRIVIA NIGHTS! - POWELL
DESCRIPTION:Assemble your crew and test your knowledge at Nocterra Brewing Co.’s Trivia Night. Every Wednesday\, host Carmine will challenge you with general trivia. Prizes will be awarded to those lucky winners.\n\nAs always\, it’s free to play and open to all ages.
URL:https://nocterrabrewing.com/event/trivia-nights-powell-2-2/2027-05-19/
LOCATION:Nocterra Brewing Co. – Powell\, 41 Depot Street\, Powell\, OH\, 43065\, United States
CATEGORIES:Entertainment,Family Fun,Powell,Trivia
ATTACH;FMTTYPE=image/jpeg:https://nocterrabrewing.com/wp-content/uploads/2025/09/unnamed-3.jpg
END:VEVENT
BEGIN:VEVENT
DTSTART;TZID=UTC:20270520T181500
DTEND;TZID=UTC:20270520T201500
DTSTAMP:20260422T112507
CREATED:20260316T181447Z
LAST-MODIFIED:20260316T181447Z
UID:10002340-1810836900-1810844100@nocterrabrewing.com
SUMMARY:Run Club: Powell
DESCRIPTION:The Nocterra Run Club meets every Thursday at 6:15pm for a healthy run\, followed by a hangout in the taproom or beer garden.\nWe work with Columbus Running Company\, and our group incorporates all levels of ability\, pace\, or distance. It’s a great way to meet friends with similar goals and interests. We meet year-round. Open to the public. Join anytime. Cheers!
URL:https://nocterrabrewing.com/event/runclubpowell/2027-05-20/
LOCATION:Nocterra Brewing Co. – Powell\, 41 Depot Street\, Powell\, OH\, 43065\, United States
CATEGORIES:Powell
ATTACH;FMTTYPE=image/jpeg:https://nocterrabrewing.com/wp-content/uploads/2026/03/Nocterra_Run_Club_16x9.jpg
ORGANIZER;CN="Nocterra Brewing Co.":MAILTO:info@nocterrabrewing.com
END:VEVENT
BEGIN:VEVENT
DTSTART;TZID=UTC:20270525T190000
DTEND;TZID=UTC:20270525T210000
DTSTAMP:20260422T112507
CREATED:20260122T200823Z
LAST-MODIFIED:20260225T193747Z
UID:10001497-1811271600-1811278800@nocterrabrewing.com
SUMMARY:BINGO NIGHT! - POWELL
DESCRIPTION:Join us every Tuesday for a fun night of Bingo. We’ll be rolling balls and making calls. Listen for your number; you could go home with a fun prize!\nAs always\, it’s free to play and open to all ages.
URL:https://nocterrabrewing.com/event/bingo-night-powell-2/2027-05-25/
LOCATION:Nocterra Brewing Co. – Powell\, 41 Depot Street\, Powell\, OH\, 43065\, United States
CATEGORIES:Bingo,Entertainment,Family Fun,Powell
ATTACH;FMTTYPE=image/png:https://nocterrabrewing.com/wp-content/uploads/2025/02/Bingo-2025-3-FB-Event-.png
END:VEVENT
BEGIN:VEVENT
DTSTART;TZID=UTC:20270526T190000
DTEND;TZID=UTC:20270526T210000
DTSTAMP:20260422T112507
CREATED:20260225T195852Z
LAST-MODIFIED:20260318T214649Z
UID:10001820-1811358000-1811365200@nocterrabrewing.com
SUMMARY:TRIVIA NIGHTS! - POWELL
DESCRIPTION:Assemble your crew and test your knowledge at Nocterra Brewing Co.’s Trivia Night. Every Wednesday\, host Carmine will challenge you with general trivia. Prizes will be awarded to those lucky winners.\n\nAs always\, it’s free to play and open to all ages.
URL:https://nocterrabrewing.com/event/trivia-nights-powell-2-2/2027-05-26/
LOCATION:Nocterra Brewing Co. – Powell\, 41 Depot Street\, Powell\, OH\, 43065\, United States
CATEGORIES:Entertainment,Family Fun,Powell,Trivia
ATTACH;FMTTYPE=image/jpeg:https://nocterrabrewing.com/wp-content/uploads/2025/09/unnamed-3.jpg
END:VEVENT
BEGIN:VEVENT
DTSTART;TZID=UTC:20270527T181500
DTEND;TZID=UTC:20270527T201500
DTSTAMP:20260422T112507
CREATED:20260316T181447Z
LAST-MODIFIED:20260316T181447Z
UID:10002341-1811441700-1811448900@nocterrabrewing.com
SUMMARY:Run Club: Powell
DESCRIPTION:The Nocterra Run Club meets every Thursday at 6:15pm for a healthy run\, followed by a hangout in the taproom or beer garden.\nWe work with Columbus Running Company\, and our group incorporates all levels of ability\, pace\, or distance. It’s a great way to meet friends with similar goals and interests. We meet year-round. Open to the public. Join anytime. Cheers!
URL:https://nocterrabrewing.com/event/runclubpowell/2027-05-27/
LOCATION:Nocterra Brewing Co. – Powell\, 41 Depot Street\, Powell\, OH\, 43065\, United States
CATEGORIES:Powell
ATTACH;FMTTYPE=image/jpeg:https://nocterrabrewing.com/wp-content/uploads/2026/03/Nocterra_Run_Club_16x9.jpg
ORGANIZER;CN="Nocterra Brewing Co.":MAILTO:info@nocterrabrewing.com
END:VEVENT
BEGIN:VEVENT
DTSTART;TZID=UTC:20270601T190000
DTEND;TZID=UTC:20270601T210000
DTSTAMP:20260422T112507
CREATED:20260122T200823Z
LAST-MODIFIED:20260225T193747Z
UID:10001498-1811876400-1811883600@nocterrabrewing.com
SUMMARY:BINGO NIGHT! - POWELL
DESCRIPTION:Join us every Tuesday for a fun night of Bingo. We’ll be rolling balls and making calls. Listen for your number; you could go home with a fun prize!\nAs always\, it’s free to play and open to all ages.
URL:https://nocterrabrewing.com/event/bingo-night-powell-2/2027-06-01/
LOCATION:Nocterra Brewing Co. – Powell\, 41 Depot Street\, Powell\, OH\, 43065\, United States
CATEGORIES:Bingo,Entertainment,Family Fun,Powell
ATTACH;FMTTYPE=image/png:https://nocterrabrewing.com/wp-content/uploads/2025/02/Bingo-2025-3-FB-Event-.png
END:VEVENT
BEGIN:VEVENT
DTSTART;TZID=UTC:20270602T190000
DTEND;TZID=UTC:20270602T210000
DTSTAMP:20260422T112507
CREATED:20260225T195852Z
LAST-MODIFIED:20260318T214649Z
UID:10001821-1811962800-1811970000@nocterrabrewing.com
SUMMARY:TRIVIA NIGHTS! - POWELL
DESCRIPTION:Assemble your crew and test your knowledge at Nocterra Brewing Co.’s Trivia Night. Every Wednesday\, host Carmine will challenge you with general trivia. Prizes will be awarded to those lucky winners.\n\nAs always\, it’s free to play and open to all ages.
URL:https://nocterrabrewing.com/event/trivia-nights-powell-2-2/2027-06-02/
LOCATION:Nocterra Brewing Co. – Powell\, 41 Depot Street\, Powell\, OH\, 43065\, United States
CATEGORIES:Entertainment,Family Fun,Powell,Trivia
ATTACH;FMTTYPE=image/jpeg:https://nocterrabrewing.com/wp-content/uploads/2025/09/unnamed-3.jpg
END:VEVENT
BEGIN:VEVENT
DTSTART;TZID=UTC:20270603T181500
DTEND;TZID=UTC:20270603T201500
DTSTAMP:20260422T112507
CREATED:20260316T181447Z
LAST-MODIFIED:20260316T181447Z
UID:10002342-1812046500-1812053700@nocterrabrewing.com
SUMMARY:Run Club: Powell
DESCRIPTION:The Nocterra Run Club meets every Thursday at 6:15pm for a healthy run\, followed by a hangout in the taproom or beer garden.\nWe work with Columbus Running Company\, and our group incorporates all levels of ability\, pace\, or distance. It’s a great way to meet friends with similar goals and interests. We meet year-round. Open to the public. Join anytime. Cheers!
URL:https://nocterrabrewing.com/event/runclubpowell/2027-06-03/
LOCATION:Nocterra Brewing Co. – Powell\, 41 Depot Street\, Powell\, OH\, 43065\, United States
CATEGORIES:Powell
ATTACH;FMTTYPE=image/jpeg:https://nocterrabrewing.com/wp-content/uploads/2026/03/Nocterra_Run_Club_16x9.jpg
ORGANIZER;CN="Nocterra Brewing Co.":MAILTO:info@nocterrabrewing.com
END:VEVENT
END:VCALENDAR