BEGIN:VCALENDAR
VERSION:2.0
PRODID:-//Nocterra Brewing Co. - ECPv6.15.17//NONSGML v1.0//EN
CALSCALE:GREGORIAN
METHOD:PUBLISH
X-ORIGINAL-URL:https://nocterrabrewing.com
X-WR-CALDESC:Events for Nocterra Brewing Co.
REFRESH-INTERVAL;VALUE=DURATION:PT1H
X-Robots-Tag:noindex
X-PUBLISHED-TTL:PT1H
BEGIN:VTIMEZONE
TZID:UTC
BEGIN:STANDARD
TZOFFSETFROM:+0000
TZOFFSETTO:+0000
TZNAME:UTC
DTSTART:20230101T000000
END:STANDARD
END:VTIMEZONE
BEGIN:VEVENT
DTSTART;TZID=UTC:20250516T200000
DTEND;TZID=UTC:20250516T230000
DTSTAMP:20260420T203042
CREATED:20250410T170323Z
LAST-MODIFIED:20250410T170323Z
UID:10000936-1747425600-1747436400@nocterrabrewing.com
SUMMARY:REEL ROCK 19 - POWELL
DESCRIPTION:Reel Rock in the Beer Garden!\nAs soon as the sun sets\, we’re firing up the projector for this year’s Reel Rock! This FREE\, family-friendly event features some of the best climbing films to date.\n Trail Magic Kitchen serving up dinner Beta Flash on tap Epic climbing films under the stars\nGrab your friends\, bring your stoke\, and let’s make it a night to remember! \n\nFilm description below \nReel Rock 19 showcases three world-premiere climbing films spanning disciplines\, characters\, and continents: a heartfelt story of second chances in love and climbing on Squamish’s legendary Cobra Crack; an outrageous 18-day big wall epic on Patagonia’s towering Torre Central; and the pursuit of a lifelong dream—a 5.15 first ascent—made possible by an unlikely partnership. Reel Rock 19 is on tour worldwide starting March 2025.\nPresented by The North Face\, supported by Black Diamond and Yeti
URL:https://nocterrabrewing.com/event/reel-rock-19-powell/
LOCATION:Nocterra Brewing Co. – Powell\, 41 Depot Street\, Powell\, OH\, 43065\, United States
CATEGORIES:Entertainment,Film screening,Movie screening,Powell
ATTACH;FMTTYPE=image/jpeg:https://nocterrabrewing.com/wp-content/uploads/2025/04/487875079_1113055380836236_7544241890506126981_n.jpg
END:VEVENT
BEGIN:VEVENT
DTSTART;TZID=UTC:20241004T173000
DTEND;TZID=UTC:20241004T210000
DTSTAMP:20260420T203042
CREATED:20240927T162728Z
LAST-MODIFIED:20240927T162728Z
UID:10000787-1728063000-1728075600@nocterrabrewing.com
SUMMARY:International Fly Fishing Film Festival (IF4™)
DESCRIPTION:Join the TU Mad River Chapter for an exciting evening of fly fishing\, film\, and community at Nocterra Brewing! We’re proud to host the International Fly Fishing Film Festival (IF4™) to unite Central Ohio’s fly fishing enthusiasts and raise crucial funds for our upcoming stream restoration and conservation projects on the Mad River. \n  \nWhat to Expect: \n• Free Admission! \n• Vendor Garden:Explore fly fishing related gear and talk to people representing non-profits doing good things through the healing power of fly fishing starting at 5:30 PM. \n• Raffles & Silent Auction:Fantastic prizes\, fly gear\, and stuff– all supporting conservation efforts. \n• Film Screening: Get ready for jaw-dropping fly fishing adventures on the big screen as the IF4™ film starts around 7:00 PM (when the sun sets). \nSpecial Bonus: \n\nRegister for a FREE ticket\, and you’ll automatically be entered into a raffle for a special prize! (You must be present to win.) \nWhether you’re a seasoned angler or just curious\, come enjoy craft brews\, connect with the local fly fishing scene\, and make a difference for the Mad River. Donations will be graciously accepted at the door to support our conservation efforts. \nFor more information\, contact Pam Allen at pamallen@tumadriver.org or visit flyfilmfest.com for details.
URL:https://nocterrabrewing.com/event/international-fly-fishing-film-festival-if4/
LOCATION:Nocterra Brewing Co. – Powell\, 41 Depot Street\, Powell\, OH\, 43065\, United States
CATEGORIES:Entertainment,Family Fun,Film screening,Movie screening,Powell
ATTACH;FMTTYPE=image/png:https://nocterrabrewing.com/wp-content/uploads/2024/09/IF4F-FB-Event.png
END:VEVENT
BEGIN:VEVENT
DTSTART;TZID=UTC:20240426T200000
DTEND;TZID=UTC:20240426T220000
DTSTAMP:20260420T203042
CREATED:20240228T214415Z
LAST-MODIFIED:20240409T161514Z
UID:10000339-1714161600-1714168800@nocterrabrewing.com
SUMMARY:Reel Rock 18
DESCRIPTION:
URL:https://nocterrabrewing.com/event/reel-rock-18/
LOCATION:Nocterra Brewing Co. – Powell\, 41 Depot Street\, Powell\, OH\, 43065\, United States
CATEGORIES:Entertainment,Movie screening,Nightlife,Powell
ATTACH;FMTTYPE=image/jpeg:https://nocterrabrewing.com/wp-content/uploads/2024/02/Optimized_Taproom_5.jpg
ORGANIZER;CN="Nocterra Brewing Co.":MAILTO:info@nocterrabrewing.com
END:VEVENT
BEGIN:VEVENT
DTSTART;TZID=UTC:20240419T190000
DTEND;TZID=UTC:20240419T220000
DTSTAMP:20260420T203042
CREATED:20240405T175203Z
LAST-MODIFIED:20240409T162909Z
UID:10000351-1713553200-1713564000@nocterrabrewing.com
SUMMARY:Screening of DIRT by Huckberry
DESCRIPTION:Join us for a FREE screening of DIRT\, Huckberry’s first adventure travel show. DIRT takes audiences to a place and digs deeper to find the true terroir through people\, adventures\, and culture.  There will be Huckberry giveaways plus you’ll have the chance to meet the Huckberry team! The first 20 people in the door will receive a swag bag!
URL:https://nocterrabrewing.com/event/screeing-of-dirt-by-huckberry/
LOCATION:OH
CATEGORIES:Film screening,Movie screening,Powell
ATTACH;FMTTYPE=image/jpeg:https://nocterrabrewing.com/wp-content/uploads/2024/04/Dirt_Movie-1.jpg
END:VEVENT
BEGIN:VEVENT
DTSTART;TZID=UTC:20240308T180000
DTEND;TZID=UTC:20240308T220000
DTSTAMP:20260420T203042
CREATED:20240214T211012Z
LAST-MODIFIED:20240226T202239Z
UID:10000321-1709920800-1709935200@nocterrabrewing.com
SUMMARY:No Man's Land Film Screening
DESCRIPTION:In celebration of International Women’s Day\, Nocterra is teaming up with Public Lands to present No Man’s Land-the premier all women adventure film. Nocterra will be releasing their Women’s Day beer\, All Places Ginger Pale Ale. Social hour from 6-7 pm and the film will begin at 7 pm.
URL:https://nocterrabrewing.com/event/no-mans-land-film-screening/
LOCATION:Nocterra Brewing Co. – Powell\, 41 Depot Street\, Powell\, OH\, 43065\, United States
CATEGORIES:Movie screening,Powell
ATTACH;FMTTYPE=image/png:https://nocterrabrewing.com/wp-content/uploads/2024/02/Screenshot-2024-02-16-at-9.47.23-AM.png
END:VEVENT
END:VCALENDAR