BEGIN:VCALENDAR
VERSION:2.0
PRODID:-//Nocterra Brewing Co. - ECPv6.15.17//NONSGML v1.0//EN
CALSCALE:GREGORIAN
METHOD:PUBLISH
X-ORIGINAL-URL:https://nocterrabrewing.com
X-WR-CALDESC:Events for Nocterra Brewing Co.
REFRESH-INTERVAL;VALUE=DURATION:PT1H
X-Robots-Tag:noindex
X-PUBLISHED-TTL:PT1H
BEGIN:VTIMEZONE
TZID:UTC
BEGIN:STANDARD
TZOFFSETFROM:+0000
TZOFFSETTO:+0000
TZNAME:UTC
DTSTART:20230101T000000
END:STANDARD
END:VTIMEZONE
BEGIN:VEVENT
DTSTART;VALUE=DATE:20241207
DTEND;VALUE=DATE:20241208
DTSTAMP:20260419T214919
CREATED:20241113T160353Z
LAST-MODIFIED:20241113T160927Z
UID:10000819-1733529600-1733615999@nocterrabrewing.com
SUMMARY:TREE WELL DAY! - POWELL
DESCRIPTION:Celebrate the season and the spirit of community with us at Nocterra Brewing Co. as we kick off the release ofTree Well\, our winter seasonal White Pine IPA. This unique beer is made with 45lbs. of pine needles hand-harvested by our dedicated staff and community members at Dawes Arboretum\, and we’re excited to share it with you in a fun\, festive atmosphere!\n\nWhat to Expect:\n\n– First Pour at Noon: Be there when we tap the first keg of Tree Well and enjoy a pint of this one-of-a-kind brew.\n– Wear Your Festive Best: Dress in your holiday finest—ugly sweater\, cozy flannel\, or anything that gets you in the seasonal spirit!\n– “Anything But An Ornament” Tree Decorating: Help us deck out our taproom tree by bringing a unique item (not an ornament!) to hang and share your holiday creativity.\n– Live Music: Groove to seasonal tunes played by a live band to keep you in the holiday mood.\n– Dawes Arboretum Staff on Site: Learn about the important conservation work happening at Dawes Arboretum and how the local community is helping preserve our natural beauty.\n– Limited Edition Glassware: Take home a piece of the celebration with exclusive Tree Well glassware\, available only at the event.\n– Weekend-Only Infusions: In addition to the standard Tree Well\, we’ll be pouring special infusions of this pine-infused IPA just for the weekend!\n\nThis event is all about bringing people together\, raising a glass to the season\, and supporting local conservation efforts. We can’t wait to celebrate with you—see you at the Tree Well Kick-Off Party! 
URL:https://nocterrabrewing.com/event/tree-well-day-powell/
LOCATION:Nocterra Brewing Co. – Powell\, 41 Depot Street\, Powell\, OH\, 43065\, United States
CATEGORIES:Entertainment,Family Fun,Live music,Party,Powell
ATTACH;FMTTYPE=image/jpeg:https://nocterrabrewing.com/wp-content/uploads/2024/11/466627966_1000102005464908_6435142596682854599_n.jpg
END:VEVENT
END:VCALENDAR