BEGIN:VCALENDAR
VERSION:2.0
PRODID:-//Nocterra Brewing Co. - ECPv6.15.17//NONSGML v1.0//EN
CALSCALE:GREGORIAN
METHOD:PUBLISH
X-ORIGINAL-URL:https://nocterrabrewing.com
X-WR-CALDESC:Events for Nocterra Brewing Co.
REFRESH-INTERVAL;VALUE=DURATION:PT1H
X-Robots-Tag:noindex
X-PUBLISHED-TTL:PT1H
BEGIN:VTIMEZONE
TZID:UTC
BEGIN:STANDARD
TZOFFSETFROM:+0000
TZOFFSETTO:+0000
TZNAME:UTC
DTSTART:20230101T000000
END:STANDARD
END:VTIMEZONE
BEGIN:VEVENT
DTSTART;TZID=UTC:20240427T190000
DTEND;TZID=UTC:20240427T210000
DTSTAMP:20260420T003245
CREATED:20240409T153651Z
LAST-MODIFIED:20240409T161328Z
UID:10000353-1714244400-1714251600@nocterrabrewing.com
SUMMARY:Stillhouse Junkies
DESCRIPTION:“A crowd-thrilling trio from the hills of Colorado\, Stillhouse Junkies share the kind of strangely charmed chemistry that elevates both artist and audience alike. Since forming in 2017\, the Durango-bred band has offered up a hypnotic and high-energy form of roots music anchored in the free-flowing interplay among the three lifelong musicians (Fred Kosak on guitar and mandolin\, Cody Tinnin on upright bass\, Alissa Wolf on fiddle). While they’ve gained major traction in the bluegrass world in recent years — including winning the IBMA Momentum Band of the Year award in 2021 — Stillhouse  Junkies ultimately inhabit a genre-blurring and subtly inventive sound informed by everything from blues to classical to Texas swing. When matched with their nuanced songcraft and soul-stirring harmonies\, the result is a one-of-a-kind musical experience that immediately transports the listener into a more enchanted state of mind.”
URL:https://nocterrabrewing.com/event/stillhouse-junkies/
LOCATION:OH
CATEGORIES:Concert,Live music,Powell
ATTACH;FMTTYPE=image/jpeg:https://nocterrabrewing.com/wp-content/uploads/2024/04/Stillhouse_Junkies.jpg
END:VEVENT
END:VCALENDAR