BEGIN:VCALENDAR
VERSION:2.0
PRODID:-//Nocterra Brewing Co. - ECPv6.15.17//NONSGML v1.0//EN
CALSCALE:GREGORIAN
METHOD:PUBLISH
X-ORIGINAL-URL:https://nocterrabrewing.com
X-WR-CALDESC:Events for Nocterra Brewing Co.
REFRESH-INTERVAL;VALUE=DURATION:PT1H
X-Robots-Tag:noindex
X-PUBLISHED-TTL:PT1H
BEGIN:VTIMEZONE
TZID:UTC
BEGIN:STANDARD
TZOFFSETFROM:+0000
TZOFFSETTO:+0000
TZNAME:UTC
DTSTART:20230101T000000
END:STANDARD
END:VTIMEZONE
BEGIN:VEVENT
DTSTART;TZID=UTC:20260325T180000
DTEND;TZID=UTC:20260325T210000
DTSTAMP:20260420T035400
CREATED:20260325T202423Z
LAST-MODIFIED:20260325T202423Z
UID:10002605-1774461600-1774472400@nocterrabrewing.com
SUMMARY:Reverse Raffle for Columbus AAZK
DESCRIPTION:Event put on by the Columbus Chapter of the American Association of Zookeepers. Here is what they have to say…\n\n“It’s time for the Reverse Raffle! Get your tickets to have a chance to win the $1\,000 grand prize!\n\n\n\nBack again for another year of thrill\, anticipation\, and fun Columbus AAZK’s Reverse Raffle is bound to be another good time! \nThere have been a few changes including a change in venue! This year we will be hosted by Nocterra Audubon. We are also making the event a little more intimate with only 100 tickets\, so make sure you get your tickets early. General admission tickets include dinner and a number for the main board. Drinks and side board tickets will be available for purchase. There are no assigned seats at the venue\, but your ticket will include a seat number which will be your number for the Big Board. If you are craving a specific number you can pick it on the seat map\, but do it quick because it is first come first serve. \nWhat is a Reverse Raffle? Well\, it is the complete opposite of a normal raffle! Instead of wanting your number to be called\, you want your number to be the last one called. If you are the lucky person who has the last number called\, then you win the grand prize of $1\,000! Of course there are also some twists and turns along the way\, and even if your main number is called\, there are still other ways to win some green! \nAll profits from the event go to support the Columbus Chapter of the American Association of Zoo Keepers. These funds go towards furthering keeper professional development and various conservation projects that support different animals like rhinos\, polar bears\, turtles and tortoises\, and so much more! The Columbus AAZK Chapter has donated nearly $200\,000 to conservation organizations around the globe! \n\n\n\nWe have a few changes for our 23rd Annual Reverse Raffle event this year!1. Location change: Nocterra Audubon\, attached to Scioto Audubon Metro Park. (Don’t worry because there is plenty of parking so bring your friends!)\n2. Reduced the number of tickets sold: 100 big board numbers and\, therefore\, reduced the grand prize is $1\,000.\n3. Nocterra will be providing the amazing food: charcuterie trays\, cheese trays\, crudite trays\, hummus trays\, chorizo meatballs\, potato and cheese croquettes\, birria sliders\, and deviled eggs. (Drinks are purchased separately but this is a Nocterra establishment so you know the drinks will be top tier!) \nSee less”\n\n\nRegister on Eventbrite.\n\ntinyurl.com/AAZKReverseRaffle
URL:https://nocterrabrewing.com/event/aazkreverseraffle/
LOCATION:Nocterra Brewing Co. – Audubon\, 516 Maier Place\, Columbus\, OH\, 43215
CATEGORIES:Audubon,Fundraiser,Party
ATTACH;FMTTYPE=image/jpeg:https://nocterrabrewing.com/wp-content/uploads/2026/03/AAZK_Reverse_Raffle_FBEvent.jpg
END:VEVENT
BEGIN:VEVENT
DTSTART;TZID=UTC:20250914T150000
DTEND;TZID=UTC:20250914T200000
DTSTAMP:20260420T035400
CREATED:20250808T175938Z
LAST-MODIFIED:20250808T175938Z
UID:10001113-1757862000-1757880000@nocterrabrewing.com
SUMMARY:PINTS 4 PENGUINS - POWELL
DESCRIPTION:The Penguins are coming!!!\nWe’re hosting “Pints 4 Penguins 2025” and raising money for conservation from 3-8pm on Sunday September 14th.\nPenguins and their animal friends from the Columbus Zoo and Aquarium will be visiting from 5-6pm\, and you’ll get a chance to interact with them. The event is FREE and open to the public. We just hope you’ll enjoy a Nocterra beer or hard seltzer while you’re here.\nWe’ll have three “Penguin Beers” on tap – IPA\, lager & hard seltzer – and we’ll be donating $1 per pint to SANCCOB saves seabirds.\nPlus\, the penguins will be painting some pictures that will be available\, along with other cool items\, in a silent auction.We’ll have a scavenger hunt for the kids and a penguin-inspired costume contest at 7:30pm\, for anyone who wants to dress up and show off their penguin love.\nThis event is hosted by the Columbus AAZK ChapterParental Policy – This is a family-friendly\, family-encouraged event. Parents are still responsible for supervising their children. Please encourage safe & courteous behavior for the enjoyment of all. Most importantly\, have fun while you learn about animals & conservation.\nNOTE ABOUT ANIMAL AMBASSADORS – The zoo decides which animals are allowed to travel based on weather\, medical safety & the mood of the animals. We hope penguins will join us\, but there is a chance it will be other animal ambassadors. Regardless of who can come\, the goal is to raise money and awareness for conservation.
URL:https://nocterrabrewing.com/event/pints-4-penguins-powell/
LOCATION:Nocterra Brewing Co. – Powell\, 41 Depot Street\, Powell\, OH\, 43065\, United States
CATEGORIES:Family Fun,Fundraiser,Powell
ATTACH;FMTTYPE=image/jpeg:https://nocterrabrewing.com/wp-content/uploads/2025/08/528534203_1219910526817387_7665021778533565571_n.jpg
END:VEVENT
BEGIN:VEVENT
DTSTART;TZID=UTC:20250529T170000
DTEND;TZID=UTC:20250529T210000
DTSTAMP:20260420T035400
CREATED:20250522T154024Z
LAST-MODIFIED:20250522T154024Z
UID:10000938-1748538000-1748552400@nocterrabrewing.com
SUMMARY:TAP TAKEOVER FOR TURTLES - POWELL
DESCRIPTION:Help the Columbus AAZK Chapter fundraise for turtle and tortoise conservation\, benefiting the Turtle Conservancy and Turtle Survival Alliance\, and have fun meeting zoo animal ambassadors and Tommy C. Turtle. You can also grab some merchandise and a beverage!
URL:https://nocterrabrewing.com/event/tap-takeover-for-turtles-powell/
LOCATION:Nocterra Brewing Co. – Powell\, 41 Depot Street\, Powell\, OH\, 43065\, United States
CATEGORIES:Family Fun,Fundraiser,Powell
ATTACH;FMTTYPE=image/jpeg:https://nocterrabrewing.com/wp-content/uploads/2025/05/Tap-Takeover-For-Turtles-3-Website-.jpg
END:VEVENT
BEGIN:VEVENT
DTSTART;TZID=UTC:20250222T120000
DTEND;TZID=UTC:20250222T180000
DTSTAMP:20260420T035400
CREATED:20240124T182434Z
LAST-MODIFIED:20250210T212501Z
UID:10000316-1740225600-1740247200@nocterrabrewing.com
SUMMARY:Party for Polar Bears! - POWELL
DESCRIPTION:PARTY FOR POLAR BEARS 2025! We’re celebrating International Polar Bear Day with a visit from animals at the Columbus Zoo and Aquarium and our favorite mascot – Polly the Polar Bear! \nBring the family and help us raise money for Polar Bear conservation. We’ll donate $1 per pint of every “winter beer” served to the cause. Join us for a day of plunging\, meeting Columbus Zoo and Aquarium ambassador animals\, and a chance bid on fun raffle prizes! \nThis event is hosted by the Columbus AAZK Chapter. \nThe fundraiser is Saturday\, February 22\, 12:00-6:00 pm. This will be a Family-friendly event.
URL:https://nocterrabrewing.com/event/party-for-polars/
LOCATION:Nocterra Brewing Co. – Powell\, 41 Depot Street\, Powell\, OH\, 43065\, United States
CATEGORIES:Entertainment,Family Fun,Fundraiser,Party,Powell
ATTACH;FMTTYPE=image/jpeg:https://nocterrabrewing.com/wp-content/uploads/2024/01/476293976_1054249920066919_6763296739282222553_n.jpg
END:VEVENT
BEGIN:VEVENT
DTSTART;TZID=UTC:20241214T180000
DTEND;TZID=UTC:20241214T210000
DTSTAMP:20260420T035400
CREATED:20241126T194400Z
LAST-MODIFIED:20241126T205011Z
UID:10000826-1734199200-1734210000@nocterrabrewing.com
SUMMARY:MY MOTHERLAND FUNDRAISER - POWELL
DESCRIPTION:Roots & Rhythm Fundraiser\nJoin us for an unforgettable evening as we celebrate culture and inspire futures!\n When: December 14\, 2024\, 6–9 PM Where: Nocterra Brewing\, 41 Depot St.\, Powell\, OH\n What to Expect:\n Live reggae performance by Bob Ras Great beer from Nocterra Brewing Delicious food truck eats Silent auction A sneak peek at our documentary trailer Zimbabwe hand-made artwork available for purchase to support My Motherland … and much more!\nAll proceeds will support My Motherland\, helping provide children in rural Zimbabwe with access to education that fosters curiosity\, leadership\, and creativity—empowering them to forge their own futures.\nTogether\, we can make a difference!Visit MyMotherland.org for more details or to donate. See you there!
URL:https://nocterrabrewing.com/event/my-motherland-fundraiser/
LOCATION:Nocterra Brewing Co. – Powell\, 41 Depot Street\, Powell\, OH\, 43065\, United States
CATEGORIES:Fundraiser,Powell
ATTACH;FMTTYPE=image/jpeg:https://nocterrabrewing.com/wp-content/uploads/2024/11/My-Motherland.jpg
END:VEVENT
BEGIN:VEVENT
DTSTART;TZID=UTC:20241117T140000
DTEND;TZID=UTC:20241117T160000
DTSTAMP:20260420T035400
CREATED:20241113T161432Z
LAST-MODIFIED:20241113T161432Z
UID:10000822-1731852000-1731859200@nocterrabrewing.com
SUMMARY:BREWS & RESCUES - POWELL
DESCRIPTION:HSDC is excited to invite the community to “Brews & Rescues\,” a fun\, family-friendly fundraiser at Nocterra Brewing Company in Powell on Sunday\, November 17\, 2024\, from 2 to 4 pm. Bring your kids and dogs for an afternoon filled with entertainment\, including face painting\, a photo booth\, and live music from DJ BASSDADDY. Gift baskets valued at $100 or more will also be up for the taking Admission is free\, and donations are encouraged to support the HSDC’s mission of saving lives and finding loving homes for animals in need.
URL:https://nocterrabrewing.com/event/brews-rescues-powell/
LOCATION:Nocterra Brewing Co. – Powell\, 41 Depot Street\, Powell\, OH\, 43065\, United States
CATEGORIES:Entertainment,Family Fun,Fundraiser,Live music,Powell
ATTACH;FMTTYPE=image/jpeg:https://nocterrabrewing.com/wp-content/uploads/2024/11/466163134_961649699330079_3737638412659914426_n.jpg
END:VEVENT
BEGIN:VEVENT
DTSTART;TZID=UTC:20241110T140000
DTEND;TZID=UTC:20241110T160000
DTSTAMP:20260420T035400
CREATED:20241107T152817Z
LAST-MODIFIED:20241107T152817Z
UID:10000815-1731247200-1731254400@nocterrabrewing.com
SUMMARY:BREWS & RESCUES ft. ARCH CITY - POWELL
DESCRIPTION:Join us on Sunday\, November 10th at Nocterra Brewing for “Brews and Rescues”\, and help support The Humane Society of Delaware County!\nArchCity will be providing the music for the event\, and rocking the beer garden!\n\nABOUT THE EVENT: “Brews and Rescues” is a Board sponsored event to bring awareness to the HSDC\, their mission\, services\, and promote fostering and adoptions.There will be Raffle Items and other Goodies available! See you there!
URL:https://nocterrabrewing.com/event/brews-rescues-ft-arch-city-powell/
LOCATION:Nocterra Brewing Co. – Powell\, 41 Depot Street\, Powell\, OH\, 43065\, United States
CATEGORIES:Concert,Family Fun,Fundraiser,Live music,Powell
ATTACH;FMTTYPE=image/jpeg:https://nocterrabrewing.com/wp-content/uploads/2024/11/461748213_122177052962240312_9100187506217412537_n.jpg
END:VEVENT
BEGIN:VEVENT
DTSTART;TZID=UTC:20241107T180000
DTEND;TZID=UTC:20241107T210000
DTSTAMP:20260420T035400
CREATED:20241030T175812Z
LAST-MODIFIED:20241030T175812Z
UID:10000814-1731002400-1731013200@nocterrabrewing.com
SUMMARY:CONSERVATION KARAOKE
DESCRIPTION:Bring your friends and support AAZK’s Conservation efforts in song\, 50/50 raffle\, and fun merch! With DJCorey from Five Knox Sounds on music and Nocterra staff at the bar\, it will be fun for all!! Proceeds go to our conservation funding to support various organizations’ needs for emergency funding.
URL:https://nocterrabrewing.com/event/conservation-karaoke/
LOCATION:Nocterra Brewing Co. – Powell\, 41 Depot Street\, Powell\, OH\, 43065\, United States
CATEGORIES:Entertainment,Family Fun,Fundraiser,Powell
ATTACH;FMTTYPE=image/jpeg:https://nocterrabrewing.com/wp-content/uploads/2024/10/unnamed-2.jpg
END:VEVENT
BEGIN:VEVENT
DTSTART;TZID=UTC:20240926T180000
DTEND;TZID=UTC:20240926T200000
DTSTAMP:20260420T035400
CREATED:20240820T203555Z
LAST-MODIFIED:20240826T141532Z
UID:10000775-1727373600-1727380800@nocterrabrewing.com
SUMMARY:Worth Wild Africa Fundraising Event
DESCRIPTION:🎉 Join Us for the Worth Wild Africa Fundraising Event! 🌍 \n📅 Date: September 26th\n⏰ Time: 6:00 PM – 8:00 PM \nCome together to support wildlife conservation efforts in Africa with an evening full of exciting activities & special guests! \n✨ Event Highlights: \n\nSilent Auction & Raffle: Bid on exclusive items & experiences\, with all proceeds supporting Worth Wild Africa.\nFeatured Beer: A dedicated Nocterra beer will have $1 from every pint donated directly to Worth Wild Africa.\nSpecial Guests: Meet our international colleagues\, Dr. Peter Neville and Andrew Rae\, who will share their insights & experiences in wildlife conservation.\n\nThis is a unique opportunity to make a difference while enjoying a night of fun\, education\, & community. Don’t miss out on the chance to support a worthy cause & learn more about the vital work being done to protect Africa’s incredible wildlife! \nWe look forward to seeing you there! 🐘🦒🦓
URL:https://nocterrabrewing.com/event/worth-wild-africa-fundraising-event/
LOCATION:Nocterra Brewing Co. – Powell\, 41 Depot Street\, Powell\, OH\, 43065\, United States
CATEGORIES:Family Fun,Fundraiser,Powell
ATTACH;FMTTYPE=image/jpeg:https://nocterrabrewing.com/wp-content/uploads/2024/08/WWA-100-1.jpg
END:VEVENT
BEGIN:VEVENT
DTSTART;TZID=UTC:20240907T170000
DTEND;TZID=UTC:20240907T210000
DTSTAMP:20260420T035400
CREATED:20240808T171933Z
LAST-MODIFIED:20240808T210210Z
UID:10000774-1725728400-1725742800@nocterrabrewing.com
SUMMARY:Brave Wilderness 10 Year Anniversary Bash - Save The Horns!
DESCRIPTION: **Join Us for the Brave Wilderness 10 Year Anniversary Bash!**  \n **Date:** September 7th \n **Time:** 5:00-9:00 PM \n **Location:** Nocterra Brewing Co. \nWe’re celebrating a decade of thrilling adventures with a special event to remember! Here’s what’s in store: \n **Exclusive Posters for Sale** \nGrab a limited edition Brave Wilderness poster with all proceeds benefiting **”Save The Horns”**—a cause close to our hearts. Every time you buy a poster you’ll be entered for a raffle to win an adventure with Coyote Peterson! \n **Special Brews at Nocterra** \nSip on two unique “Save The Horns” beers\, with **$1 from each draft** going straight to the cause. Cheers to good times and great causes!  \n **Special Guest Appearance** \nMeet the man behind the adventures\, **Coyote Peterson**! He’ll be on-site to share a few words and celebrate with us. \nDon’t miss out on this epic event—come for the fun\, the brews\, the posters\, and the chance to make a difference! See you there!
URL:https://nocterrabrewing.com/event/brave-wilderness-save-the-horns/
LOCATION:Nocterra Brewing Co. – Powell\, 41 Depot Street\, Powell\, OH\, 43065\, United States
CATEGORIES:Family Fun,Fundraiser,Meeting,Powell
ATTACH;FMTTYPE=image/jpeg:https://nocterrabrewing.com/wp-content/uploads/2024/08/Event-Cover-Photo.jpg
END:VEVENT
BEGIN:VEVENT
DTSTART;TZID=UTC:20240523T170000
DTEND;TZID=UTC:20240523T210000
DTSTAMP:20260420T035400
CREATED:20240509T194740Z
LAST-MODIFIED:20240509T194849Z
UID:10000617-1716483600-1716498000@nocterrabrewing.com
SUMMARY:Tap Takeover For Turtles
DESCRIPTION:The turtles & their animal friends from the Columbus Zoo are coming to Nocterra. We are hosting “Tap Takeover for the Turtles” Thursday\, May 23 from 5-9pm\, where 3 taps will be dedicated to raising money for the Turtle Survival Alliance\, and $1 per pint will be donated to the cause. (Turtle taps will probably be a lager\, an IPA & a hard seltzer) \nZookeepers will be bringing animal ambassadors from 6-7pm. Of course\, there will be some tortoises\, but it’ll be fun to see who else can show up. Plus\, Tommy C. Turtle\, the zoo’s mascot\, will be here to greet your family. \nThis fun event is FREE and open to the public. We just hope you’ll enjoy some delicious Nocterra beverages while you are here. \nThis “Drink beer\, save turtles” event is hosted by the Columbus Chapter of the American Association of Zookeepers. \nTrail Magic will be on site serving food for the evening. There will be soda\, juice & snacks at the bar. \nParental Policy – This is a family-friendly\, family-encouraged event. Parents are still responsible for supervising their children. Please encourage safe & courteous behavior for the enjoyment of all. Most importantly\, have fun while you learn about animals & conservation.
URL:https://nocterrabrewing.com/event/tap-takeover-for-turtles/
LOCATION:Nocterra Brewing Co. – Powell\, 41 Depot Street\, Powell\, OH\, 43065\, United States
CATEGORIES:Family Fun,Fundraiser,Powell
ATTACH;FMTTYPE=image/jpeg:https://nocterrabrewing.com/wp-content/uploads/2024/05/Turtle_Takeover.jpg
END:VEVENT
BEGIN:VEVENT
DTSTART;TZID=UTC:20240215T180000
DTEND;TZID=UTC:20240215T200000
DTSTAMP:20260420T035400
CREATED:20240214T211010Z
LAST-MODIFIED:20240214T212113Z
UID:10000318-1708020000-1708027200@nocterrabrewing.com
SUMMARY:Mayfly Project Take a Hike Social
DESCRIPTION:The Mayfly Project uses fly fishing as a catalyst to mentor and support children in foster care. Nocterra and Public Lands have teamed up to support this important mission. Come join us for a fun social hour and raffle. With the match from Public Lands\, $4 from every pint of Nocterra’s Take a Hike beer will be donated to The Mayfly Project. It’s a great opportunity to meet other fly fishing enthusiasts and raise money for a helpful cause.
URL:https://nocterrabrewing.com/event/mayfly-project-take-a-hike-social/
LOCATION:Nocterra Brewing Co. – Powell\, 41 Depot Street\, Powell\, OH\, 43065\, United States
CATEGORIES:Family Fun,Fundraiser,Powell
ATTACH;FMTTYPE=image/jpeg:https://nocterrabrewing.com/wp-content/uploads/2024/02/Mayfly_Project_Rock__Logo_4x3-scaled.jpg
END:VEVENT
END:VCALENDAR