BEGIN:VCALENDAR
VERSION:2.0
PRODID:-//Nocterra Brewing Co. - ECPv6.15.17//NONSGML v1.0//EN
CALSCALE:GREGORIAN
METHOD:PUBLISH
X-ORIGINAL-URL:https://nocterrabrewing.com
X-WR-CALDESC:Events for Nocterra Brewing Co.
REFRESH-INTERVAL;VALUE=DURATION:PT1H
X-Robots-Tag:noindex
X-PUBLISHED-TTL:PT1H
BEGIN:VTIMEZONE
TZID:UTC
BEGIN:STANDARD
TZOFFSETFROM:+0000
TZOFFSETTO:+0000
TZNAME:UTC
DTSTART:20250101T000000
END:STANDARD
END:VTIMEZONE
BEGIN:VEVENT
DTSTART;TZID=UTC:20260324T190000
DTEND;TZID=UTC:20260324T210000
DTSTAMP:20260423T000546
CREATED:20260122T200823Z
LAST-MODIFIED:20260225T193747Z
UID:10001436-1774378800-1774386000@nocterrabrewing.com
SUMMARY:BINGO NIGHT! - POWELL
DESCRIPTION:Join us every Tuesday for a fun night of Bingo. We’ll be rolling balls and making calls. Listen for your number; you could go home with a fun prize!\nAs always\, it’s free to play and open to all ages.
URL:https://nocterrabrewing.com/event/bingo-night-powell-2/2026-03-24/
LOCATION:Nocterra Brewing Co. – Powell\, 41 Depot Street\, Powell\, OH\, 43065\, United States
CATEGORIES:Bingo,Entertainment,Family Fun,Powell
ATTACH;FMTTYPE=image/png:https://nocterrabrewing.com/wp-content/uploads/2025/02/Bingo-2025-3-FB-Event-.png
END:VEVENT
BEGIN:VEVENT
DTSTART;TZID=UTC:20260325T190000
DTEND;TZID=UTC:20260325T210000
DTSTAMP:20260423T000546
CREATED:20260225T195852Z
LAST-MODIFIED:20260318T214649Z
UID:10001759-1774465200-1774472400@nocterrabrewing.com
SUMMARY:TRIVIA NIGHTS! - POWELL
DESCRIPTION:Assemble your crew and test your knowledge at Nocterra Brewing Co.’s Trivia Night. Every Wednesday\, host Carmine will challenge you with general trivia. Prizes will be awarded to those lucky winners.\n\nAs always\, it’s free to play and open to all ages.
URL:https://nocterrabrewing.com/event/trivia-nights-powell-2-2/2026-03-25/
LOCATION:Nocterra Brewing Co. – Powell\, 41 Depot Street\, Powell\, OH\, 43065\, United States
CATEGORIES:Entertainment,Family Fun,Powell,Trivia
ATTACH;FMTTYPE=image/jpeg:https://nocterrabrewing.com/wp-content/uploads/2025/09/unnamed-3.jpg
END:VEVENT
BEGIN:VEVENT
DTSTART;TZID=UTC:20260327T180000
DTEND;TZID=UTC:20260327T200000
DTSTAMP:20260423T000546
CREATED:20251202T180233Z
LAST-MODIFIED:20251212T144728Z
UID:10001171-1774634400-1774641600@nocterrabrewing.com
SUMMARY:DISC GOLF MART & NOCTERRA - PUTTING LEAGUE - AUDUBON
DESCRIPTION:Join us every Friday from 6–8 PM for The Weekly Offseason Putting League\, brought to you by Disc Golf Mart and Nocterra Brewing Co. It’s just $5 to play\, and all players get $1 off drinks throughout the night. We mix things up with both indoor and outdoor stations\, so make sure to bring a coat when the weather gets cold. With weekly prizes\, good vibes\, and plenty of putts\, it’s the perfect way to kick off your weekend.
URL:https://nocterrabrewing.com/event/disc-golf-mart-nocterra-putting-league/2026-03-27/
LOCATION:Nocterra Brewing Co. – Audubon\, 516 Maier Place\, Columbus\, OH\, 43215
CATEGORIES:Audubon,Competition,Entertainment,League
ATTACH;FMTTYPE=image/jpeg:https://nocterrabrewing.com/wp-content/uploads/2025/12/Putting_League.jpg
END:VEVENT
END:VCALENDAR