BEGIN:VCALENDAR
VERSION:2.0
PRODID:-//Nocterra Brewing Co. - ECPv6.15.17//NONSGML v1.0//EN
CALSCALE:GREGORIAN
METHOD:PUBLISH
X-ORIGINAL-URL:https://nocterrabrewing.com
X-WR-CALDESC:Events for Nocterra Brewing Co.
REFRESH-INTERVAL;VALUE=DURATION:PT1H
X-Robots-Tag:noindex
X-PUBLISHED-TTL:PT1H
BEGIN:VTIMEZONE
TZID:UTC
BEGIN:STANDARD
TZOFFSETFROM:+0000
TZOFFSETTO:+0000
TZNAME:UTC
DTSTART:20290101T000000
END:STANDARD
END:VTIMEZONE
BEGIN:VEVENT
DTSTART;TZID=UTC:20300208T180000
DTEND;TZID=UTC:20300208T200000
DTSTAMP:20260426T032442
CREATED:20251202T180233Z
LAST-MODIFIED:20251212T144728Z
UID:10001373-1896804000-1896811200@nocterrabrewing.com
SUMMARY:DISC GOLF MART & NOCTERRA - PUTTING LEAGUE - AUDUBON
DESCRIPTION:Join us every Friday from 6–8 PM for The Weekly Offseason Putting League\, brought to you by Disc Golf Mart and Nocterra Brewing Co. It’s just $5 to play\, and all players get $1 off drinks throughout the night. We mix things up with both indoor and outdoor stations\, so make sure to bring a coat when the weather gets cold. With weekly prizes\, good vibes\, and plenty of putts\, it’s the perfect way to kick off your weekend.
URL:https://nocterrabrewing.com/event/disc-golf-mart-nocterra-putting-league/2030-02-08/
LOCATION:Nocterra Brewing Co. – Audubon\, 516 Maier Place\, Columbus\, OH\, 43215
CATEGORIES:Audubon,Competition,Entertainment,League
ATTACH;FMTTYPE=image/jpeg:https://nocterrabrewing.com/wp-content/uploads/2025/12/Putting_League.jpg
END:VEVENT
BEGIN:VEVENT
DTSTART;TZID=UTC:20300212T190000
DTEND;TZID=UTC:20300212T210000
DTSTAMP:20260426T032442
CREATED:20260122T200823Z
LAST-MODIFIED:20260225T193747Z
UID:10001639-1897153200-1897160400@nocterrabrewing.com
SUMMARY:BINGO NIGHT! - POWELL
DESCRIPTION:Join us every Tuesday for a fun night of Bingo. We’ll be rolling balls and making calls. Listen for your number; you could go home with a fun prize!\nAs always\, it’s free to play and open to all ages.
URL:https://nocterrabrewing.com/event/bingo-night-powell-2/2030-02-12/
LOCATION:Nocterra Brewing Co. – Powell\, 41 Depot Street\, Powell\, OH\, 43065\, United States
CATEGORIES:Bingo,Entertainment,Family Fun,Powell
ATTACH;FMTTYPE=image/png:https://nocterrabrewing.com/wp-content/uploads/2025/02/Bingo-2025-3-FB-Event-.png
END:VEVENT
BEGIN:VEVENT
DTSTART;TZID=UTC:20300213T190000
DTEND;TZID=UTC:20300213T210000
DTSTAMP:20260426T032442
CREATED:20260225T195852Z
LAST-MODIFIED:20260318T214649Z
UID:10001962-1897239600-1897246800@nocterrabrewing.com
SUMMARY:TRIVIA NIGHTS! - POWELL
DESCRIPTION:Assemble your crew and test your knowledge at Nocterra Brewing Co.’s Trivia Night. Every Wednesday\, host Carmine will challenge you with general trivia. Prizes will be awarded to those lucky winners.\n\nAs always\, it’s free to play and open to all ages.
URL:https://nocterrabrewing.com/event/trivia-nights-powell-2-2/2030-02-13/
LOCATION:Nocterra Brewing Co. – Powell\, 41 Depot Street\, Powell\, OH\, 43065\, United States
CATEGORIES:Entertainment,Family Fun,Powell,Trivia
ATTACH;FMTTYPE=image/jpeg:https://nocterrabrewing.com/wp-content/uploads/2025/09/unnamed-3.jpg
END:VEVENT
BEGIN:VEVENT
DTSTART;TZID=UTC:20300215T180000
DTEND;TZID=UTC:20300215T200000
DTSTAMP:20260426T032442
CREATED:20251202T180233Z
LAST-MODIFIED:20251212T144728Z
UID:10001374-1897408800-1897416000@nocterrabrewing.com
SUMMARY:DISC GOLF MART & NOCTERRA - PUTTING LEAGUE - AUDUBON
DESCRIPTION:Join us every Friday from 6–8 PM for The Weekly Offseason Putting League\, brought to you by Disc Golf Mart and Nocterra Brewing Co. It’s just $5 to play\, and all players get $1 off drinks throughout the night. We mix things up with both indoor and outdoor stations\, so make sure to bring a coat when the weather gets cold. With weekly prizes\, good vibes\, and plenty of putts\, it’s the perfect way to kick off your weekend.
URL:https://nocterrabrewing.com/event/disc-golf-mart-nocterra-putting-league/2030-02-15/
LOCATION:Nocterra Brewing Co. – Audubon\, 516 Maier Place\, Columbus\, OH\, 43215
CATEGORIES:Audubon,Competition,Entertainment,League
ATTACH;FMTTYPE=image/jpeg:https://nocterrabrewing.com/wp-content/uploads/2025/12/Putting_League.jpg
END:VEVENT
BEGIN:VEVENT
DTSTART;TZID=UTC:20300219T190000
DTEND;TZID=UTC:20300219T210000
DTSTAMP:20260426T032442
CREATED:20260122T200823Z
LAST-MODIFIED:20260225T193747Z
UID:10001640-1897758000-1897765200@nocterrabrewing.com
SUMMARY:BINGO NIGHT! - POWELL
DESCRIPTION:Join us every Tuesday for a fun night of Bingo. We’ll be rolling balls and making calls. Listen for your number; you could go home with a fun prize!\nAs always\, it’s free to play and open to all ages.
URL:https://nocterrabrewing.com/event/bingo-night-powell-2/2030-02-19/
LOCATION:Nocterra Brewing Co. – Powell\, 41 Depot Street\, Powell\, OH\, 43065\, United States
CATEGORIES:Bingo,Entertainment,Family Fun,Powell
ATTACH;FMTTYPE=image/png:https://nocterrabrewing.com/wp-content/uploads/2025/02/Bingo-2025-3-FB-Event-.png
END:VEVENT
BEGIN:VEVENT
DTSTART;TZID=UTC:20300220T190000
DTEND;TZID=UTC:20300220T210000
DTSTAMP:20260426T032442
CREATED:20260225T195852Z
LAST-MODIFIED:20260318T214649Z
UID:10001963-1897844400-1897851600@nocterrabrewing.com
SUMMARY:TRIVIA NIGHTS! - POWELL
DESCRIPTION:Assemble your crew and test your knowledge at Nocterra Brewing Co.’s Trivia Night. Every Wednesday\, host Carmine will challenge you with general trivia. Prizes will be awarded to those lucky winners.\n\nAs always\, it’s free to play and open to all ages.
URL:https://nocterrabrewing.com/event/trivia-nights-powell-2-2/2030-02-20/
LOCATION:Nocterra Brewing Co. – Powell\, 41 Depot Street\, Powell\, OH\, 43065\, United States
CATEGORIES:Entertainment,Family Fun,Powell,Trivia
ATTACH;FMTTYPE=image/jpeg:https://nocterrabrewing.com/wp-content/uploads/2025/09/unnamed-3.jpg
END:VEVENT
BEGIN:VEVENT
DTSTART;TZID=UTC:20300222T180000
DTEND;TZID=UTC:20300222T200000
DTSTAMP:20260426T032442
CREATED:20251202T180233Z
LAST-MODIFIED:20251212T144728Z
UID:10001375-1898013600-1898020800@nocterrabrewing.com
SUMMARY:DISC GOLF MART & NOCTERRA - PUTTING LEAGUE - AUDUBON
DESCRIPTION:Join us every Friday from 6–8 PM for The Weekly Offseason Putting League\, brought to you by Disc Golf Mart and Nocterra Brewing Co. It’s just $5 to play\, and all players get $1 off drinks throughout the night. We mix things up with both indoor and outdoor stations\, so make sure to bring a coat when the weather gets cold. With weekly prizes\, good vibes\, and plenty of putts\, it’s the perfect way to kick off your weekend.
URL:https://nocterrabrewing.com/event/disc-golf-mart-nocterra-putting-league/2030-02-22/
LOCATION:Nocterra Brewing Co. – Audubon\, 516 Maier Place\, Columbus\, OH\, 43215
CATEGORIES:Audubon,Competition,Entertainment,League
ATTACH;FMTTYPE=image/jpeg:https://nocterrabrewing.com/wp-content/uploads/2025/12/Putting_League.jpg
END:VEVENT
BEGIN:VEVENT
DTSTART;TZID=UTC:20300226T190000
DTEND;TZID=UTC:20300226T210000
DTSTAMP:20260426T032442
CREATED:20260122T200823Z
LAST-MODIFIED:20260225T193747Z
UID:10001641-1898362800-1898370000@nocterrabrewing.com
SUMMARY:BINGO NIGHT! - POWELL
DESCRIPTION:Join us every Tuesday for a fun night of Bingo. We’ll be rolling balls and making calls. Listen for your number; you could go home with a fun prize!\nAs always\, it’s free to play and open to all ages.
URL:https://nocterrabrewing.com/event/bingo-night-powell-2/2030-02-26/
LOCATION:Nocterra Brewing Co. – Powell\, 41 Depot Street\, Powell\, OH\, 43065\, United States
CATEGORIES:Bingo,Entertainment,Family Fun,Powell
ATTACH;FMTTYPE=image/png:https://nocterrabrewing.com/wp-content/uploads/2025/02/Bingo-2025-3-FB-Event-.png
END:VEVENT
BEGIN:VEVENT
DTSTART;TZID=UTC:20300227T190000
DTEND;TZID=UTC:20300227T210000
DTSTAMP:20260426T032442
CREATED:20260225T195852Z
LAST-MODIFIED:20260318T214649Z
UID:10001964-1898449200-1898456400@nocterrabrewing.com
SUMMARY:TRIVIA NIGHTS! - POWELL
DESCRIPTION:Assemble your crew and test your knowledge at Nocterra Brewing Co.’s Trivia Night. Every Wednesday\, host Carmine will challenge you with general trivia. Prizes will be awarded to those lucky winners.\n\nAs always\, it’s free to play and open to all ages.
URL:https://nocterrabrewing.com/event/trivia-nights-powell-2-2/2030-02-27/
LOCATION:Nocterra Brewing Co. – Powell\, 41 Depot Street\, Powell\, OH\, 43065\, United States
CATEGORIES:Entertainment,Family Fun,Powell,Trivia
ATTACH;FMTTYPE=image/jpeg:https://nocterrabrewing.com/wp-content/uploads/2025/09/unnamed-3.jpg
END:VEVENT
BEGIN:VEVENT
DTSTART;TZID=UTC:20300301T180000
DTEND;TZID=UTC:20300301T200000
DTSTAMP:20260426T032442
CREATED:20251202T180233Z
LAST-MODIFIED:20251212T144728Z
UID:10001376-1898618400-1898625600@nocterrabrewing.com
SUMMARY:DISC GOLF MART & NOCTERRA - PUTTING LEAGUE - AUDUBON
DESCRIPTION:Join us every Friday from 6–8 PM for The Weekly Offseason Putting League\, brought to you by Disc Golf Mart and Nocterra Brewing Co. It’s just $5 to play\, and all players get $1 off drinks throughout the night. We mix things up with both indoor and outdoor stations\, so make sure to bring a coat when the weather gets cold. With weekly prizes\, good vibes\, and plenty of putts\, it’s the perfect way to kick off your weekend.
URL:https://nocterrabrewing.com/event/disc-golf-mart-nocterra-putting-league/2030-03-01/
LOCATION:Nocterra Brewing Co. – Audubon\, 516 Maier Place\, Columbus\, OH\, 43215
CATEGORIES:Audubon,Competition,Entertainment,League
ATTACH;FMTTYPE=image/jpeg:https://nocterrabrewing.com/wp-content/uploads/2025/12/Putting_League.jpg
END:VEVENT
BEGIN:VEVENT
DTSTART;TZID=UTC:20300305T190000
DTEND;TZID=UTC:20300305T210000
DTSTAMP:20260426T032442
CREATED:20260122T200823Z
LAST-MODIFIED:20260225T193747Z
UID:10001642-1898967600-1898974800@nocterrabrewing.com
SUMMARY:BINGO NIGHT! - POWELL
DESCRIPTION:Join us every Tuesday for a fun night of Bingo. We’ll be rolling balls and making calls. Listen for your number; you could go home with a fun prize!\nAs always\, it’s free to play and open to all ages.
URL:https://nocterrabrewing.com/event/bingo-night-powell-2/2030-03-05/
LOCATION:Nocterra Brewing Co. – Powell\, 41 Depot Street\, Powell\, OH\, 43065\, United States
CATEGORIES:Bingo,Entertainment,Family Fun,Powell
ATTACH;FMTTYPE=image/png:https://nocterrabrewing.com/wp-content/uploads/2025/02/Bingo-2025-3-FB-Event-.png
END:VEVENT
BEGIN:VEVENT
DTSTART;TZID=UTC:20300306T190000
DTEND;TZID=UTC:20300306T210000
DTSTAMP:20260426T032442
CREATED:20260225T195852Z
LAST-MODIFIED:20260318T214649Z
UID:10001965-1899054000-1899061200@nocterrabrewing.com
SUMMARY:TRIVIA NIGHTS! - POWELL
DESCRIPTION:Assemble your crew and test your knowledge at Nocterra Brewing Co.’s Trivia Night. Every Wednesday\, host Carmine will challenge you with general trivia. Prizes will be awarded to those lucky winners.\n\nAs always\, it’s free to play and open to all ages.
URL:https://nocterrabrewing.com/event/trivia-nights-powell-2-2/2030-03-06/
LOCATION:Nocterra Brewing Co. – Powell\, 41 Depot Street\, Powell\, OH\, 43065\, United States
CATEGORIES:Entertainment,Family Fun,Powell,Trivia
ATTACH;FMTTYPE=image/jpeg:https://nocterrabrewing.com/wp-content/uploads/2025/09/unnamed-3.jpg
END:VEVENT
BEGIN:VEVENT
DTSTART;TZID=UTC:20300308T180000
DTEND;TZID=UTC:20300308T200000
DTSTAMP:20260426T032442
CREATED:20251202T180233Z
LAST-MODIFIED:20251212T144728Z
UID:10001377-1899223200-1899230400@nocterrabrewing.com
SUMMARY:DISC GOLF MART & NOCTERRA - PUTTING LEAGUE - AUDUBON
DESCRIPTION:Join us every Friday from 6–8 PM for The Weekly Offseason Putting League\, brought to you by Disc Golf Mart and Nocterra Brewing Co. It’s just $5 to play\, and all players get $1 off drinks throughout the night. We mix things up with both indoor and outdoor stations\, so make sure to bring a coat when the weather gets cold. With weekly prizes\, good vibes\, and plenty of putts\, it’s the perfect way to kick off your weekend.
URL:https://nocterrabrewing.com/event/disc-golf-mart-nocterra-putting-league/2030-03-08/
LOCATION:Nocterra Brewing Co. – Audubon\, 516 Maier Place\, Columbus\, OH\, 43215
CATEGORIES:Audubon,Competition,Entertainment,League
ATTACH;FMTTYPE=image/jpeg:https://nocterrabrewing.com/wp-content/uploads/2025/12/Putting_League.jpg
END:VEVENT
BEGIN:VEVENT
DTSTART;TZID=UTC:20300312T190000
DTEND;TZID=UTC:20300312T210000
DTSTAMP:20260426T032442
CREATED:20260122T200823Z
LAST-MODIFIED:20260225T193747Z
UID:10001643-1899572400-1899579600@nocterrabrewing.com
SUMMARY:BINGO NIGHT! - POWELL
DESCRIPTION:Join us every Tuesday for a fun night of Bingo. We’ll be rolling balls and making calls. Listen for your number; you could go home with a fun prize!\nAs always\, it’s free to play and open to all ages.
URL:https://nocterrabrewing.com/event/bingo-night-powell-2/2030-03-12/
LOCATION:Nocterra Brewing Co. – Powell\, 41 Depot Street\, Powell\, OH\, 43065\, United States
CATEGORIES:Bingo,Entertainment,Family Fun,Powell
ATTACH;FMTTYPE=image/png:https://nocterrabrewing.com/wp-content/uploads/2025/02/Bingo-2025-3-FB-Event-.png
END:VEVENT
BEGIN:VEVENT
DTSTART;TZID=UTC:20300313T190000
DTEND;TZID=UTC:20300313T210000
DTSTAMP:20260426T032442
CREATED:20260225T195852Z
LAST-MODIFIED:20260318T214649Z
UID:10001966-1899658800-1899666000@nocterrabrewing.com
SUMMARY:TRIVIA NIGHTS! - POWELL
DESCRIPTION:Assemble your crew and test your knowledge at Nocterra Brewing Co.’s Trivia Night. Every Wednesday\, host Carmine will challenge you with general trivia. Prizes will be awarded to those lucky winners.\n\nAs always\, it’s free to play and open to all ages.
URL:https://nocterrabrewing.com/event/trivia-nights-powell-2-2/2030-03-13/
LOCATION:Nocterra Brewing Co. – Powell\, 41 Depot Street\, Powell\, OH\, 43065\, United States
CATEGORIES:Entertainment,Family Fun,Powell,Trivia
ATTACH;FMTTYPE=image/jpeg:https://nocterrabrewing.com/wp-content/uploads/2025/09/unnamed-3.jpg
END:VEVENT
BEGIN:VEVENT
DTSTART;TZID=UTC:20300315T180000
DTEND;TZID=UTC:20300315T200000
DTSTAMP:20260426T032442
CREATED:20251202T180233Z
LAST-MODIFIED:20251212T144728Z
UID:10001378-1899828000-1899835200@nocterrabrewing.com
SUMMARY:DISC GOLF MART & NOCTERRA - PUTTING LEAGUE - AUDUBON
DESCRIPTION:Join us every Friday from 6–8 PM for The Weekly Offseason Putting League\, brought to you by Disc Golf Mart and Nocterra Brewing Co. It’s just $5 to play\, and all players get $1 off drinks throughout the night. We mix things up with both indoor and outdoor stations\, so make sure to bring a coat when the weather gets cold. With weekly prizes\, good vibes\, and plenty of putts\, it’s the perfect way to kick off your weekend.
URL:https://nocterrabrewing.com/event/disc-golf-mart-nocterra-putting-league/2030-03-15/
LOCATION:Nocterra Brewing Co. – Audubon\, 516 Maier Place\, Columbus\, OH\, 43215
CATEGORIES:Audubon,Competition,Entertainment,League
ATTACH;FMTTYPE=image/jpeg:https://nocterrabrewing.com/wp-content/uploads/2025/12/Putting_League.jpg
END:VEVENT
BEGIN:VEVENT
DTSTART;TZID=UTC:20300319T190000
DTEND;TZID=UTC:20300319T210000
DTSTAMP:20260426T032442
CREATED:20260122T200823Z
LAST-MODIFIED:20260225T193747Z
UID:10001644-1900177200-1900184400@nocterrabrewing.com
SUMMARY:BINGO NIGHT! - POWELL
DESCRIPTION:Join us every Tuesday for a fun night of Bingo. We’ll be rolling balls and making calls. Listen for your number; you could go home with a fun prize!\nAs always\, it’s free to play and open to all ages.
URL:https://nocterrabrewing.com/event/bingo-night-powell-2/2030-03-19/
LOCATION:Nocterra Brewing Co. – Powell\, 41 Depot Street\, Powell\, OH\, 43065\, United States
CATEGORIES:Bingo,Entertainment,Family Fun,Powell
ATTACH;FMTTYPE=image/png:https://nocterrabrewing.com/wp-content/uploads/2025/02/Bingo-2025-3-FB-Event-.png
END:VEVENT
BEGIN:VEVENT
DTSTART;TZID=UTC:20300320T190000
DTEND;TZID=UTC:20300320T210000
DTSTAMP:20260426T032442
CREATED:20260225T195852Z
LAST-MODIFIED:20260318T214649Z
UID:10001967-1900263600-1900270800@nocterrabrewing.com
SUMMARY:TRIVIA NIGHTS! - POWELL
DESCRIPTION:Assemble your crew and test your knowledge at Nocterra Brewing Co.’s Trivia Night. Every Wednesday\, host Carmine will challenge you with general trivia. Prizes will be awarded to those lucky winners.\n\nAs always\, it’s free to play and open to all ages.
URL:https://nocterrabrewing.com/event/trivia-nights-powell-2-2/2030-03-20/
LOCATION:Nocterra Brewing Co. – Powell\, 41 Depot Street\, Powell\, OH\, 43065\, United States
CATEGORIES:Entertainment,Family Fun,Powell,Trivia
ATTACH;FMTTYPE=image/jpeg:https://nocterrabrewing.com/wp-content/uploads/2025/09/unnamed-3.jpg
END:VEVENT
BEGIN:VEVENT
DTSTART;TZID=UTC:20300322T180000
DTEND;TZID=UTC:20300322T200000
DTSTAMP:20260426T032442
CREATED:20251202T180233Z
LAST-MODIFIED:20251212T144728Z
UID:10001379-1900432800-1900440000@nocterrabrewing.com
SUMMARY:DISC GOLF MART & NOCTERRA - PUTTING LEAGUE - AUDUBON
DESCRIPTION:Join us every Friday from 6–8 PM for The Weekly Offseason Putting League\, brought to you by Disc Golf Mart and Nocterra Brewing Co. It’s just $5 to play\, and all players get $1 off drinks throughout the night. We mix things up with both indoor and outdoor stations\, so make sure to bring a coat when the weather gets cold. With weekly prizes\, good vibes\, and plenty of putts\, it’s the perfect way to kick off your weekend.
URL:https://nocterrabrewing.com/event/disc-golf-mart-nocterra-putting-league/2030-03-22/
LOCATION:Nocterra Brewing Co. – Audubon\, 516 Maier Place\, Columbus\, OH\, 43215
CATEGORIES:Audubon,Competition,Entertainment,League
ATTACH;FMTTYPE=image/jpeg:https://nocterrabrewing.com/wp-content/uploads/2025/12/Putting_League.jpg
END:VEVENT
BEGIN:VEVENT
DTSTART;TZID=UTC:20300326T190000
DTEND;TZID=UTC:20300326T210000
DTSTAMP:20260426T032442
CREATED:20260122T200823Z
LAST-MODIFIED:20260225T193747Z
UID:10001645-1900782000-1900789200@nocterrabrewing.com
SUMMARY:BINGO NIGHT! - POWELL
DESCRIPTION:Join us every Tuesday for a fun night of Bingo. We’ll be rolling balls and making calls. Listen for your number; you could go home with a fun prize!\nAs always\, it’s free to play and open to all ages.
URL:https://nocterrabrewing.com/event/bingo-night-powell-2/2030-03-26/
LOCATION:Nocterra Brewing Co. – Powell\, 41 Depot Street\, Powell\, OH\, 43065\, United States
CATEGORIES:Bingo,Entertainment,Family Fun,Powell
ATTACH;FMTTYPE=image/png:https://nocterrabrewing.com/wp-content/uploads/2025/02/Bingo-2025-3-FB-Event-.png
END:VEVENT
BEGIN:VEVENT
DTSTART;TZID=UTC:20300327T190000
DTEND;TZID=UTC:20300327T210000
DTSTAMP:20260426T032442
CREATED:20260225T195852Z
LAST-MODIFIED:20260318T214649Z
UID:10001968-1900868400-1900875600@nocterrabrewing.com
SUMMARY:TRIVIA NIGHTS! - POWELL
DESCRIPTION:Assemble your crew and test your knowledge at Nocterra Brewing Co.’s Trivia Night. Every Wednesday\, host Carmine will challenge you with general trivia. Prizes will be awarded to those lucky winners.\n\nAs always\, it’s free to play and open to all ages.
URL:https://nocterrabrewing.com/event/trivia-nights-powell-2-2/2030-03-27/
LOCATION:Nocterra Brewing Co. – Powell\, 41 Depot Street\, Powell\, OH\, 43065\, United States
CATEGORIES:Entertainment,Family Fun,Powell,Trivia
ATTACH;FMTTYPE=image/jpeg:https://nocterrabrewing.com/wp-content/uploads/2025/09/unnamed-3.jpg
END:VEVENT
BEGIN:VEVENT
DTSTART;TZID=UTC:20300329T180000
DTEND;TZID=UTC:20300329T200000
DTSTAMP:20260426T032442
CREATED:20251202T180233Z
LAST-MODIFIED:20251212T144728Z
UID:10001380-1901037600-1901044800@nocterrabrewing.com
SUMMARY:DISC GOLF MART & NOCTERRA - PUTTING LEAGUE - AUDUBON
DESCRIPTION:Join us every Friday from 6–8 PM for The Weekly Offseason Putting League\, brought to you by Disc Golf Mart and Nocterra Brewing Co. It’s just $5 to play\, and all players get $1 off drinks throughout the night. We mix things up with both indoor and outdoor stations\, so make sure to bring a coat when the weather gets cold. With weekly prizes\, good vibes\, and plenty of putts\, it’s the perfect way to kick off your weekend.
URL:https://nocterrabrewing.com/event/disc-golf-mart-nocterra-putting-league/2030-03-29/
LOCATION:Nocterra Brewing Co. – Audubon\, 516 Maier Place\, Columbus\, OH\, 43215
CATEGORIES:Audubon,Competition,Entertainment,League
ATTACH;FMTTYPE=image/jpeg:https://nocterrabrewing.com/wp-content/uploads/2025/12/Putting_League.jpg
END:VEVENT
BEGIN:VEVENT
DTSTART;TZID=UTC:20300402T190000
DTEND;TZID=UTC:20300402T210000
DTSTAMP:20260426T032442
CREATED:20260122T200823Z
LAST-MODIFIED:20260225T193747Z
UID:10001646-1901386800-1901394000@nocterrabrewing.com
SUMMARY:BINGO NIGHT! - POWELL
DESCRIPTION:Join us every Tuesday for a fun night of Bingo. We’ll be rolling balls and making calls. Listen for your number; you could go home with a fun prize!\nAs always\, it’s free to play and open to all ages.
URL:https://nocterrabrewing.com/event/bingo-night-powell-2/2030-04-02/
LOCATION:Nocterra Brewing Co. – Powell\, 41 Depot Street\, Powell\, OH\, 43065\, United States
CATEGORIES:Bingo,Entertainment,Family Fun,Powell
ATTACH;FMTTYPE=image/png:https://nocterrabrewing.com/wp-content/uploads/2025/02/Bingo-2025-3-FB-Event-.png
END:VEVENT
BEGIN:VEVENT
DTSTART;TZID=UTC:20300403T190000
DTEND;TZID=UTC:20300403T210000
DTSTAMP:20260426T032442
CREATED:20260225T195852Z
LAST-MODIFIED:20260318T214649Z
UID:10001969-1901473200-1901480400@nocterrabrewing.com
SUMMARY:TRIVIA NIGHTS! - POWELL
DESCRIPTION:Assemble your crew and test your knowledge at Nocterra Brewing Co.’s Trivia Night. Every Wednesday\, host Carmine will challenge you with general trivia. Prizes will be awarded to those lucky winners.\n\nAs always\, it’s free to play and open to all ages.
URL:https://nocterrabrewing.com/event/trivia-nights-powell-2-2/2030-04-03/
LOCATION:Nocterra Brewing Co. – Powell\, 41 Depot Street\, Powell\, OH\, 43065\, United States
CATEGORIES:Entertainment,Family Fun,Powell,Trivia
ATTACH;FMTTYPE=image/jpeg:https://nocterrabrewing.com/wp-content/uploads/2025/09/unnamed-3.jpg
END:VEVENT
BEGIN:VEVENT
DTSTART;TZID=UTC:20300405T180000
DTEND;TZID=UTC:20300405T200000
DTSTAMP:20260426T032442
CREATED:20251202T180233Z
LAST-MODIFIED:20251212T144728Z
UID:10001381-1901642400-1901649600@nocterrabrewing.com
SUMMARY:DISC GOLF MART & NOCTERRA - PUTTING LEAGUE - AUDUBON
DESCRIPTION:Join us every Friday from 6–8 PM for The Weekly Offseason Putting League\, brought to you by Disc Golf Mart and Nocterra Brewing Co. It’s just $5 to play\, and all players get $1 off drinks throughout the night. We mix things up with both indoor and outdoor stations\, so make sure to bring a coat when the weather gets cold. With weekly prizes\, good vibes\, and plenty of putts\, it’s the perfect way to kick off your weekend.
URL:https://nocterrabrewing.com/event/disc-golf-mart-nocterra-putting-league/2030-04-05/
LOCATION:Nocterra Brewing Co. – Audubon\, 516 Maier Place\, Columbus\, OH\, 43215
CATEGORIES:Audubon,Competition,Entertainment,League
ATTACH;FMTTYPE=image/jpeg:https://nocterrabrewing.com/wp-content/uploads/2025/12/Putting_League.jpg
END:VEVENT
BEGIN:VEVENT
DTSTART;TZID=UTC:20300409T190000
DTEND;TZID=UTC:20300409T210000
DTSTAMP:20260426T032442
CREATED:20260122T200823Z
LAST-MODIFIED:20260225T193747Z
UID:10001647-1901991600-1901998800@nocterrabrewing.com
SUMMARY:BINGO NIGHT! - POWELL
DESCRIPTION:Join us every Tuesday for a fun night of Bingo. We’ll be rolling balls and making calls. Listen for your number; you could go home with a fun prize!\nAs always\, it’s free to play and open to all ages.
URL:https://nocterrabrewing.com/event/bingo-night-powell-2/2030-04-09/
LOCATION:Nocterra Brewing Co. – Powell\, 41 Depot Street\, Powell\, OH\, 43065\, United States
CATEGORIES:Bingo,Entertainment,Family Fun,Powell
ATTACH;FMTTYPE=image/png:https://nocterrabrewing.com/wp-content/uploads/2025/02/Bingo-2025-3-FB-Event-.png
END:VEVENT
BEGIN:VEVENT
DTSTART;TZID=UTC:20300410T190000
DTEND;TZID=UTC:20300410T210000
DTSTAMP:20260426T032442
CREATED:20260225T195852Z
LAST-MODIFIED:20260318T214649Z
UID:10001970-1902078000-1902085200@nocterrabrewing.com
SUMMARY:TRIVIA NIGHTS! - POWELL
DESCRIPTION:Assemble your crew and test your knowledge at Nocterra Brewing Co.’s Trivia Night. Every Wednesday\, host Carmine will challenge you with general trivia. Prizes will be awarded to those lucky winners.\n\nAs always\, it’s free to play and open to all ages.
URL:https://nocterrabrewing.com/event/trivia-nights-powell-2-2/2030-04-10/
LOCATION:Nocterra Brewing Co. – Powell\, 41 Depot Street\, Powell\, OH\, 43065\, United States
CATEGORIES:Entertainment,Family Fun,Powell,Trivia
ATTACH;FMTTYPE=image/jpeg:https://nocterrabrewing.com/wp-content/uploads/2025/09/unnamed-3.jpg
END:VEVENT
BEGIN:VEVENT
DTSTART;TZID=UTC:20300412T180000
DTEND;TZID=UTC:20300412T200000
DTSTAMP:20260426T032442
CREATED:20251202T180233Z
LAST-MODIFIED:20251212T144728Z
UID:10001382-1902247200-1902254400@nocterrabrewing.com
SUMMARY:DISC GOLF MART & NOCTERRA - PUTTING LEAGUE - AUDUBON
DESCRIPTION:Join us every Friday from 6–8 PM for The Weekly Offseason Putting League\, brought to you by Disc Golf Mart and Nocterra Brewing Co. It’s just $5 to play\, and all players get $1 off drinks throughout the night. We mix things up with both indoor and outdoor stations\, so make sure to bring a coat when the weather gets cold. With weekly prizes\, good vibes\, and plenty of putts\, it’s the perfect way to kick off your weekend.
URL:https://nocterrabrewing.com/event/disc-golf-mart-nocterra-putting-league/2030-04-12/
LOCATION:Nocterra Brewing Co. – Audubon\, 516 Maier Place\, Columbus\, OH\, 43215
CATEGORIES:Audubon,Competition,Entertainment,League
ATTACH;FMTTYPE=image/jpeg:https://nocterrabrewing.com/wp-content/uploads/2025/12/Putting_League.jpg
END:VEVENT
BEGIN:VEVENT
DTSTART;TZID=UTC:20300416T190000
DTEND;TZID=UTC:20300416T210000
DTSTAMP:20260426T032442
CREATED:20260122T200823Z
LAST-MODIFIED:20260225T193747Z
UID:10001648-1902596400-1902603600@nocterrabrewing.com
SUMMARY:BINGO NIGHT! - POWELL
DESCRIPTION:Join us every Tuesday for a fun night of Bingo. We’ll be rolling balls and making calls. Listen for your number; you could go home with a fun prize!\nAs always\, it’s free to play and open to all ages.
URL:https://nocterrabrewing.com/event/bingo-night-powell-2/2030-04-16/
LOCATION:Nocterra Brewing Co. – Powell\, 41 Depot Street\, Powell\, OH\, 43065\, United States
CATEGORIES:Bingo,Entertainment,Family Fun,Powell
ATTACH;FMTTYPE=image/png:https://nocterrabrewing.com/wp-content/uploads/2025/02/Bingo-2025-3-FB-Event-.png
END:VEVENT
BEGIN:VEVENT
DTSTART;TZID=UTC:20300417T190000
DTEND;TZID=UTC:20300417T210000
DTSTAMP:20260426T032442
CREATED:20260225T195852Z
LAST-MODIFIED:20260318T214649Z
UID:10001971-1902682800-1902690000@nocterrabrewing.com
SUMMARY:TRIVIA NIGHTS! - POWELL
DESCRIPTION:Assemble your crew and test your knowledge at Nocterra Brewing Co.’s Trivia Night. Every Wednesday\, host Carmine will challenge you with general trivia. Prizes will be awarded to those lucky winners.\n\nAs always\, it’s free to play and open to all ages.
URL:https://nocterrabrewing.com/event/trivia-nights-powell-2-2/2030-04-17/
LOCATION:Nocterra Brewing Co. – Powell\, 41 Depot Street\, Powell\, OH\, 43065\, United States
CATEGORIES:Entertainment,Family Fun,Powell,Trivia
ATTACH;FMTTYPE=image/jpeg:https://nocterrabrewing.com/wp-content/uploads/2025/09/unnamed-3.jpg
END:VEVENT
END:VCALENDAR