BEGIN:VCALENDAR
VERSION:2.0
PRODID:-//Nocterra Brewing Co. - ECPv6.15.17//NONSGML v1.0//EN
CALSCALE:GREGORIAN
METHOD:PUBLISH
X-ORIGINAL-URL:https://nocterrabrewing.com
X-WR-CALDESC:Events for Nocterra Brewing Co.
REFRESH-INTERVAL;VALUE=DURATION:PT1H
X-Robots-Tag:noindex
X-PUBLISHED-TTL:PT1H
BEGIN:VTIMEZONE
TZID:UTC
BEGIN:STANDARD
TZOFFSETFROM:+0000
TZOFFSETTO:+0000
TZNAME:UTC
DTSTART:20280101T000000
END:STANDARD
END:VTIMEZONE
BEGIN:VEVENT
DTSTART;TZID=UTC:20290629T180000
DTEND;TZID=UTC:20290629T200000
DTSTAMP:20260425T160301
CREATED:20251202T180233Z
LAST-MODIFIED:20251212T144728Z
UID:10001341-1877450400-1877457600@nocterrabrewing.com
SUMMARY:DISC GOLF MART & NOCTERRA - PUTTING LEAGUE - AUDUBON
DESCRIPTION:Join us every Friday from 6–8 PM for The Weekly Offseason Putting League\, brought to you by Disc Golf Mart and Nocterra Brewing Co. It’s just $5 to play\, and all players get $1 off drinks throughout the night. We mix things up with both indoor and outdoor stations\, so make sure to bring a coat when the weather gets cold. With weekly prizes\, good vibes\, and plenty of putts\, it’s the perfect way to kick off your weekend.
URL:https://nocterrabrewing.com/event/disc-golf-mart-nocterra-putting-league/2029-06-29/
LOCATION:Nocterra Brewing Co. – Audubon\, 516 Maier Place\, Columbus\, OH\, 43215
CATEGORIES:Audubon,Competition,Entertainment,League
ATTACH;FMTTYPE=image/jpeg:https://nocterrabrewing.com/wp-content/uploads/2025/12/Putting_League.jpg
END:VEVENT
BEGIN:VEVENT
DTSTART;TZID=UTC:20290703T190000
DTEND;TZID=UTC:20290703T210000
DTSTAMP:20260425T160301
CREATED:20260122T200823Z
LAST-MODIFIED:20260225T193747Z
UID:10001607-1877799600-1877806800@nocterrabrewing.com
SUMMARY:BINGO NIGHT! - POWELL
DESCRIPTION:Join us every Tuesday for a fun night of Bingo. We’ll be rolling balls and making calls. Listen for your number; you could go home with a fun prize!\nAs always\, it’s free to play and open to all ages.
URL:https://nocterrabrewing.com/event/bingo-night-powell-2/2029-07-03/
LOCATION:Nocterra Brewing Co. – Powell\, 41 Depot Street\, Powell\, OH\, 43065\, United States
CATEGORIES:Bingo,Entertainment,Family Fun,Powell
ATTACH;FMTTYPE=image/png:https://nocterrabrewing.com/wp-content/uploads/2025/02/Bingo-2025-3-FB-Event-.png
END:VEVENT
BEGIN:VEVENT
DTSTART;TZID=UTC:20290704T190000
DTEND;TZID=UTC:20290704T210000
DTSTAMP:20260425T160301
CREATED:20260225T195852Z
LAST-MODIFIED:20260318T214649Z
UID:10001930-1877886000-1877893200@nocterrabrewing.com
SUMMARY:TRIVIA NIGHTS! - POWELL
DESCRIPTION:Assemble your crew and test your knowledge at Nocterra Brewing Co.’s Trivia Night. Every Wednesday\, host Carmine will challenge you with general trivia. Prizes will be awarded to those lucky winners.\n\nAs always\, it’s free to play and open to all ages.
URL:https://nocterrabrewing.com/event/trivia-nights-powell-2-2/2029-07-04/
LOCATION:Nocterra Brewing Co. – Powell\, 41 Depot Street\, Powell\, OH\, 43065\, United States
CATEGORIES:Entertainment,Family Fun,Powell,Trivia
ATTACH;FMTTYPE=image/jpeg:https://nocterrabrewing.com/wp-content/uploads/2025/09/unnamed-3.jpg
END:VEVENT
BEGIN:VEVENT
DTSTART;TZID=UTC:20290706T180000
DTEND;TZID=UTC:20290706T200000
DTSTAMP:20260425T160301
CREATED:20251202T180233Z
LAST-MODIFIED:20251212T144728Z
UID:10001342-1878055200-1878062400@nocterrabrewing.com
SUMMARY:DISC GOLF MART & NOCTERRA - PUTTING LEAGUE - AUDUBON
DESCRIPTION:Join us every Friday from 6–8 PM for The Weekly Offseason Putting League\, brought to you by Disc Golf Mart and Nocterra Brewing Co. It’s just $5 to play\, and all players get $1 off drinks throughout the night. We mix things up with both indoor and outdoor stations\, so make sure to bring a coat when the weather gets cold. With weekly prizes\, good vibes\, and plenty of putts\, it’s the perfect way to kick off your weekend.
URL:https://nocterrabrewing.com/event/disc-golf-mart-nocterra-putting-league/2029-07-06/
LOCATION:Nocterra Brewing Co. – Audubon\, 516 Maier Place\, Columbus\, OH\, 43215
CATEGORIES:Audubon,Competition,Entertainment,League
ATTACH;FMTTYPE=image/jpeg:https://nocterrabrewing.com/wp-content/uploads/2025/12/Putting_League.jpg
END:VEVENT
BEGIN:VEVENT
DTSTART;TZID=UTC:20290710T190000
DTEND;TZID=UTC:20290710T210000
DTSTAMP:20260425T160301
CREATED:20260122T200823Z
LAST-MODIFIED:20260225T193747Z
UID:10001608-1878404400-1878411600@nocterrabrewing.com
SUMMARY:BINGO NIGHT! - POWELL
DESCRIPTION:Join us every Tuesday for a fun night of Bingo. We’ll be rolling balls and making calls. Listen for your number; you could go home with a fun prize!\nAs always\, it’s free to play and open to all ages.
URL:https://nocterrabrewing.com/event/bingo-night-powell-2/2029-07-10/
LOCATION:Nocterra Brewing Co. – Powell\, 41 Depot Street\, Powell\, OH\, 43065\, United States
CATEGORIES:Bingo,Entertainment,Family Fun,Powell
ATTACH;FMTTYPE=image/png:https://nocterrabrewing.com/wp-content/uploads/2025/02/Bingo-2025-3-FB-Event-.png
END:VEVENT
BEGIN:VEVENT
DTSTART;TZID=UTC:20290711T190000
DTEND;TZID=UTC:20290711T210000
DTSTAMP:20260425T160301
CREATED:20260225T195852Z
LAST-MODIFIED:20260318T214649Z
UID:10001931-1878490800-1878498000@nocterrabrewing.com
SUMMARY:TRIVIA NIGHTS! - POWELL
DESCRIPTION:Assemble your crew and test your knowledge at Nocterra Brewing Co.’s Trivia Night. Every Wednesday\, host Carmine will challenge you with general trivia. Prizes will be awarded to those lucky winners.\n\nAs always\, it’s free to play and open to all ages.
URL:https://nocterrabrewing.com/event/trivia-nights-powell-2-2/2029-07-11/
LOCATION:Nocterra Brewing Co. – Powell\, 41 Depot Street\, Powell\, OH\, 43065\, United States
CATEGORIES:Entertainment,Family Fun,Powell,Trivia
ATTACH;FMTTYPE=image/jpeg:https://nocterrabrewing.com/wp-content/uploads/2025/09/unnamed-3.jpg
END:VEVENT
BEGIN:VEVENT
DTSTART;TZID=UTC:20290713T180000
DTEND;TZID=UTC:20290713T200000
DTSTAMP:20260425T160301
CREATED:20251202T180233Z
LAST-MODIFIED:20251212T144728Z
UID:10001343-1878660000-1878667200@nocterrabrewing.com
SUMMARY:DISC GOLF MART & NOCTERRA - PUTTING LEAGUE - AUDUBON
DESCRIPTION:Join us every Friday from 6–8 PM for The Weekly Offseason Putting League\, brought to you by Disc Golf Mart and Nocterra Brewing Co. It’s just $5 to play\, and all players get $1 off drinks throughout the night. We mix things up with both indoor and outdoor stations\, so make sure to bring a coat when the weather gets cold. With weekly prizes\, good vibes\, and plenty of putts\, it’s the perfect way to kick off your weekend.
URL:https://nocterrabrewing.com/event/disc-golf-mart-nocterra-putting-league/2029-07-13/
LOCATION:Nocterra Brewing Co. – Audubon\, 516 Maier Place\, Columbus\, OH\, 43215
CATEGORIES:Audubon,Competition,Entertainment,League
ATTACH;FMTTYPE=image/jpeg:https://nocterrabrewing.com/wp-content/uploads/2025/12/Putting_League.jpg
END:VEVENT
BEGIN:VEVENT
DTSTART;TZID=UTC:20290717T190000
DTEND;TZID=UTC:20290717T210000
DTSTAMP:20260425T160301
CREATED:20260122T200823Z
LAST-MODIFIED:20260225T193747Z
UID:10001609-1879009200-1879016400@nocterrabrewing.com
SUMMARY:BINGO NIGHT! - POWELL
DESCRIPTION:Join us every Tuesday for a fun night of Bingo. We’ll be rolling balls and making calls. Listen for your number; you could go home with a fun prize!\nAs always\, it’s free to play and open to all ages.
URL:https://nocterrabrewing.com/event/bingo-night-powell-2/2029-07-17/
LOCATION:Nocterra Brewing Co. – Powell\, 41 Depot Street\, Powell\, OH\, 43065\, United States
CATEGORIES:Bingo,Entertainment,Family Fun,Powell
ATTACH;FMTTYPE=image/png:https://nocterrabrewing.com/wp-content/uploads/2025/02/Bingo-2025-3-FB-Event-.png
END:VEVENT
BEGIN:VEVENT
DTSTART;TZID=UTC:20290718T190000
DTEND;TZID=UTC:20290718T210000
DTSTAMP:20260425T160301
CREATED:20260225T195852Z
LAST-MODIFIED:20260318T214649Z
UID:10001932-1879095600-1879102800@nocterrabrewing.com
SUMMARY:TRIVIA NIGHTS! - POWELL
DESCRIPTION:Assemble your crew and test your knowledge at Nocterra Brewing Co.’s Trivia Night. Every Wednesday\, host Carmine will challenge you with general trivia. Prizes will be awarded to those lucky winners.\n\nAs always\, it’s free to play and open to all ages.
URL:https://nocterrabrewing.com/event/trivia-nights-powell-2-2/2029-07-18/
LOCATION:Nocterra Brewing Co. – Powell\, 41 Depot Street\, Powell\, OH\, 43065\, United States
CATEGORIES:Entertainment,Family Fun,Powell,Trivia
ATTACH;FMTTYPE=image/jpeg:https://nocterrabrewing.com/wp-content/uploads/2025/09/unnamed-3.jpg
END:VEVENT
BEGIN:VEVENT
DTSTART;TZID=UTC:20290720T180000
DTEND;TZID=UTC:20290720T200000
DTSTAMP:20260425T160301
CREATED:20251202T180233Z
LAST-MODIFIED:20251212T144728Z
UID:10001344-1879264800-1879272000@nocterrabrewing.com
SUMMARY:DISC GOLF MART & NOCTERRA - PUTTING LEAGUE - AUDUBON
DESCRIPTION:Join us every Friday from 6–8 PM for The Weekly Offseason Putting League\, brought to you by Disc Golf Mart and Nocterra Brewing Co. It’s just $5 to play\, and all players get $1 off drinks throughout the night. We mix things up with both indoor and outdoor stations\, so make sure to bring a coat when the weather gets cold. With weekly prizes\, good vibes\, and plenty of putts\, it’s the perfect way to kick off your weekend.
URL:https://nocterrabrewing.com/event/disc-golf-mart-nocterra-putting-league/2029-07-20/
LOCATION:Nocterra Brewing Co. – Audubon\, 516 Maier Place\, Columbus\, OH\, 43215
CATEGORIES:Audubon,Competition,Entertainment,League
ATTACH;FMTTYPE=image/jpeg:https://nocterrabrewing.com/wp-content/uploads/2025/12/Putting_League.jpg
END:VEVENT
BEGIN:VEVENT
DTSTART;TZID=UTC:20290724T190000
DTEND;TZID=UTC:20290724T210000
DTSTAMP:20260425T160301
CREATED:20260122T200823Z
LAST-MODIFIED:20260225T193747Z
UID:10001610-1879614000-1879621200@nocterrabrewing.com
SUMMARY:BINGO NIGHT! - POWELL
DESCRIPTION:Join us every Tuesday for a fun night of Bingo. We’ll be rolling balls and making calls. Listen for your number; you could go home with a fun prize!\nAs always\, it’s free to play and open to all ages.
URL:https://nocterrabrewing.com/event/bingo-night-powell-2/2029-07-24/
LOCATION:Nocterra Brewing Co. – Powell\, 41 Depot Street\, Powell\, OH\, 43065\, United States
CATEGORIES:Bingo,Entertainment,Family Fun,Powell
ATTACH;FMTTYPE=image/png:https://nocterrabrewing.com/wp-content/uploads/2025/02/Bingo-2025-3-FB-Event-.png
END:VEVENT
BEGIN:VEVENT
DTSTART;TZID=UTC:20290725T190000
DTEND;TZID=UTC:20290725T210000
DTSTAMP:20260425T160301
CREATED:20260225T195852Z
LAST-MODIFIED:20260318T214649Z
UID:10001933-1879700400-1879707600@nocterrabrewing.com
SUMMARY:TRIVIA NIGHTS! - POWELL
DESCRIPTION:Assemble your crew and test your knowledge at Nocterra Brewing Co.’s Trivia Night. Every Wednesday\, host Carmine will challenge you with general trivia. Prizes will be awarded to those lucky winners.\n\nAs always\, it’s free to play and open to all ages.
URL:https://nocterrabrewing.com/event/trivia-nights-powell-2-2/2029-07-25/
LOCATION:Nocterra Brewing Co. – Powell\, 41 Depot Street\, Powell\, OH\, 43065\, United States
CATEGORIES:Entertainment,Family Fun,Powell,Trivia
ATTACH;FMTTYPE=image/jpeg:https://nocterrabrewing.com/wp-content/uploads/2025/09/unnamed-3.jpg
END:VEVENT
BEGIN:VEVENT
DTSTART;TZID=UTC:20290727T180000
DTEND;TZID=UTC:20290727T200000
DTSTAMP:20260425T160301
CREATED:20251202T180233Z
LAST-MODIFIED:20251212T144728Z
UID:10001345-1879869600-1879876800@nocterrabrewing.com
SUMMARY:DISC GOLF MART & NOCTERRA - PUTTING LEAGUE - AUDUBON
DESCRIPTION:Join us every Friday from 6–8 PM for The Weekly Offseason Putting League\, brought to you by Disc Golf Mart and Nocterra Brewing Co. It’s just $5 to play\, and all players get $1 off drinks throughout the night. We mix things up with both indoor and outdoor stations\, so make sure to bring a coat when the weather gets cold. With weekly prizes\, good vibes\, and plenty of putts\, it’s the perfect way to kick off your weekend.
URL:https://nocterrabrewing.com/event/disc-golf-mart-nocterra-putting-league/2029-07-27/
LOCATION:Nocterra Brewing Co. – Audubon\, 516 Maier Place\, Columbus\, OH\, 43215
CATEGORIES:Audubon,Competition,Entertainment,League
ATTACH;FMTTYPE=image/jpeg:https://nocterrabrewing.com/wp-content/uploads/2025/12/Putting_League.jpg
END:VEVENT
BEGIN:VEVENT
DTSTART;TZID=UTC:20290731T190000
DTEND;TZID=UTC:20290731T210000
DTSTAMP:20260425T160301
CREATED:20260122T200823Z
LAST-MODIFIED:20260225T193747Z
UID:10001611-1880218800-1880226000@nocterrabrewing.com
SUMMARY:BINGO NIGHT! - POWELL
DESCRIPTION:Join us every Tuesday for a fun night of Bingo. We’ll be rolling balls and making calls. Listen for your number; you could go home with a fun prize!\nAs always\, it’s free to play and open to all ages.
URL:https://nocterrabrewing.com/event/bingo-night-powell-2/2029-07-31/
LOCATION:Nocterra Brewing Co. – Powell\, 41 Depot Street\, Powell\, OH\, 43065\, United States
CATEGORIES:Bingo,Entertainment,Family Fun,Powell
ATTACH;FMTTYPE=image/png:https://nocterrabrewing.com/wp-content/uploads/2025/02/Bingo-2025-3-FB-Event-.png
END:VEVENT
BEGIN:VEVENT
DTSTART;TZID=UTC:20290801T190000
DTEND;TZID=UTC:20290801T210000
DTSTAMP:20260425T160301
CREATED:20260225T195852Z
LAST-MODIFIED:20260318T214649Z
UID:10001934-1880305200-1880312400@nocterrabrewing.com
SUMMARY:TRIVIA NIGHTS! - POWELL
DESCRIPTION:Assemble your crew and test your knowledge at Nocterra Brewing Co.’s Trivia Night. Every Wednesday\, host Carmine will challenge you with general trivia. Prizes will be awarded to those lucky winners.\n\nAs always\, it’s free to play and open to all ages.
URL:https://nocterrabrewing.com/event/trivia-nights-powell-2-2/2029-08-01/
LOCATION:Nocterra Brewing Co. – Powell\, 41 Depot Street\, Powell\, OH\, 43065\, United States
CATEGORIES:Entertainment,Family Fun,Powell,Trivia
ATTACH;FMTTYPE=image/jpeg:https://nocterrabrewing.com/wp-content/uploads/2025/09/unnamed-3.jpg
END:VEVENT
BEGIN:VEVENT
DTSTART;TZID=UTC:20290803T180000
DTEND;TZID=UTC:20290803T200000
DTSTAMP:20260425T160301
CREATED:20251202T180233Z
LAST-MODIFIED:20251212T144728Z
UID:10001346-1880474400-1880481600@nocterrabrewing.com
SUMMARY:DISC GOLF MART & NOCTERRA - PUTTING LEAGUE - AUDUBON
DESCRIPTION:Join us every Friday from 6–8 PM for The Weekly Offseason Putting League\, brought to you by Disc Golf Mart and Nocterra Brewing Co. It’s just $5 to play\, and all players get $1 off drinks throughout the night. We mix things up with both indoor and outdoor stations\, so make sure to bring a coat when the weather gets cold. With weekly prizes\, good vibes\, and plenty of putts\, it’s the perfect way to kick off your weekend.
URL:https://nocterrabrewing.com/event/disc-golf-mart-nocterra-putting-league/2029-08-03/
LOCATION:Nocterra Brewing Co. – Audubon\, 516 Maier Place\, Columbus\, OH\, 43215
CATEGORIES:Audubon,Competition,Entertainment,League
ATTACH;FMTTYPE=image/jpeg:https://nocterrabrewing.com/wp-content/uploads/2025/12/Putting_League.jpg
END:VEVENT
BEGIN:VEVENT
DTSTART;TZID=UTC:20290807T190000
DTEND;TZID=UTC:20290807T210000
DTSTAMP:20260425T160301
CREATED:20260122T200823Z
LAST-MODIFIED:20260225T193747Z
UID:10001612-1880823600-1880830800@nocterrabrewing.com
SUMMARY:BINGO NIGHT! - POWELL
DESCRIPTION:Join us every Tuesday for a fun night of Bingo. We’ll be rolling balls and making calls. Listen for your number; you could go home with a fun prize!\nAs always\, it’s free to play and open to all ages.
URL:https://nocterrabrewing.com/event/bingo-night-powell-2/2029-08-07/
LOCATION:Nocterra Brewing Co. – Powell\, 41 Depot Street\, Powell\, OH\, 43065\, United States
CATEGORIES:Bingo,Entertainment,Family Fun,Powell
ATTACH;FMTTYPE=image/png:https://nocterrabrewing.com/wp-content/uploads/2025/02/Bingo-2025-3-FB-Event-.png
END:VEVENT
BEGIN:VEVENT
DTSTART;TZID=UTC:20290808T190000
DTEND;TZID=UTC:20290808T210000
DTSTAMP:20260425T160301
CREATED:20260225T195852Z
LAST-MODIFIED:20260318T214649Z
UID:10001935-1880910000-1880917200@nocterrabrewing.com
SUMMARY:TRIVIA NIGHTS! - POWELL
DESCRIPTION:Assemble your crew and test your knowledge at Nocterra Brewing Co.’s Trivia Night. Every Wednesday\, host Carmine will challenge you with general trivia. Prizes will be awarded to those lucky winners.\n\nAs always\, it’s free to play and open to all ages.
URL:https://nocterrabrewing.com/event/trivia-nights-powell-2-2/2029-08-08/
LOCATION:Nocterra Brewing Co. – Powell\, 41 Depot Street\, Powell\, OH\, 43065\, United States
CATEGORIES:Entertainment,Family Fun,Powell,Trivia
ATTACH;FMTTYPE=image/jpeg:https://nocterrabrewing.com/wp-content/uploads/2025/09/unnamed-3.jpg
END:VEVENT
BEGIN:VEVENT
DTSTART;TZID=UTC:20290810T180000
DTEND;TZID=UTC:20290810T200000
DTSTAMP:20260425T160301
CREATED:20251202T180233Z
LAST-MODIFIED:20251212T144728Z
UID:10001347-1881079200-1881086400@nocterrabrewing.com
SUMMARY:DISC GOLF MART & NOCTERRA - PUTTING LEAGUE - AUDUBON
DESCRIPTION:Join us every Friday from 6–8 PM for The Weekly Offseason Putting League\, brought to you by Disc Golf Mart and Nocterra Brewing Co. It’s just $5 to play\, and all players get $1 off drinks throughout the night. We mix things up with both indoor and outdoor stations\, so make sure to bring a coat when the weather gets cold. With weekly prizes\, good vibes\, and plenty of putts\, it’s the perfect way to kick off your weekend.
URL:https://nocterrabrewing.com/event/disc-golf-mart-nocterra-putting-league/2029-08-10/
LOCATION:Nocterra Brewing Co. – Audubon\, 516 Maier Place\, Columbus\, OH\, 43215
CATEGORIES:Audubon,Competition,Entertainment,League
ATTACH;FMTTYPE=image/jpeg:https://nocterrabrewing.com/wp-content/uploads/2025/12/Putting_League.jpg
END:VEVENT
BEGIN:VEVENT
DTSTART;TZID=UTC:20290814T190000
DTEND;TZID=UTC:20290814T210000
DTSTAMP:20260425T160301
CREATED:20260122T200823Z
LAST-MODIFIED:20260225T193747Z
UID:10001613-1881428400-1881435600@nocterrabrewing.com
SUMMARY:BINGO NIGHT! - POWELL
DESCRIPTION:Join us every Tuesday for a fun night of Bingo. We’ll be rolling balls and making calls. Listen for your number; you could go home with a fun prize!\nAs always\, it’s free to play and open to all ages.
URL:https://nocterrabrewing.com/event/bingo-night-powell-2/2029-08-14/
LOCATION:Nocterra Brewing Co. – Powell\, 41 Depot Street\, Powell\, OH\, 43065\, United States
CATEGORIES:Bingo,Entertainment,Family Fun,Powell
ATTACH;FMTTYPE=image/png:https://nocterrabrewing.com/wp-content/uploads/2025/02/Bingo-2025-3-FB-Event-.png
END:VEVENT
BEGIN:VEVENT
DTSTART;TZID=UTC:20290815T190000
DTEND;TZID=UTC:20290815T210000
DTSTAMP:20260425T160301
CREATED:20260225T195852Z
LAST-MODIFIED:20260318T214649Z
UID:10001936-1881514800-1881522000@nocterrabrewing.com
SUMMARY:TRIVIA NIGHTS! - POWELL
DESCRIPTION:Assemble your crew and test your knowledge at Nocterra Brewing Co.’s Trivia Night. Every Wednesday\, host Carmine will challenge you with general trivia. Prizes will be awarded to those lucky winners.\n\nAs always\, it’s free to play and open to all ages.
URL:https://nocterrabrewing.com/event/trivia-nights-powell-2-2/2029-08-15/
LOCATION:Nocterra Brewing Co. – Powell\, 41 Depot Street\, Powell\, OH\, 43065\, United States
CATEGORIES:Entertainment,Family Fun,Powell,Trivia
ATTACH;FMTTYPE=image/jpeg:https://nocterrabrewing.com/wp-content/uploads/2025/09/unnamed-3.jpg
END:VEVENT
BEGIN:VEVENT
DTSTART;TZID=UTC:20290817T180000
DTEND;TZID=UTC:20290817T200000
DTSTAMP:20260425T160301
CREATED:20251202T180233Z
LAST-MODIFIED:20251212T144728Z
UID:10001348-1881684000-1881691200@nocterrabrewing.com
SUMMARY:DISC GOLF MART & NOCTERRA - PUTTING LEAGUE - AUDUBON
DESCRIPTION:Join us every Friday from 6–8 PM for The Weekly Offseason Putting League\, brought to you by Disc Golf Mart and Nocterra Brewing Co. It’s just $5 to play\, and all players get $1 off drinks throughout the night. We mix things up with both indoor and outdoor stations\, so make sure to bring a coat when the weather gets cold. With weekly prizes\, good vibes\, and plenty of putts\, it’s the perfect way to kick off your weekend.
URL:https://nocterrabrewing.com/event/disc-golf-mart-nocterra-putting-league/2029-08-17/
LOCATION:Nocterra Brewing Co. – Audubon\, 516 Maier Place\, Columbus\, OH\, 43215
CATEGORIES:Audubon,Competition,Entertainment,League
ATTACH;FMTTYPE=image/jpeg:https://nocterrabrewing.com/wp-content/uploads/2025/12/Putting_League.jpg
END:VEVENT
BEGIN:VEVENT
DTSTART;TZID=UTC:20290821T190000
DTEND;TZID=UTC:20290821T210000
DTSTAMP:20260425T160301
CREATED:20260122T200823Z
LAST-MODIFIED:20260225T193747Z
UID:10001614-1882033200-1882040400@nocterrabrewing.com
SUMMARY:BINGO NIGHT! - POWELL
DESCRIPTION:Join us every Tuesday for a fun night of Bingo. We’ll be rolling balls and making calls. Listen for your number; you could go home with a fun prize!\nAs always\, it’s free to play and open to all ages.
URL:https://nocterrabrewing.com/event/bingo-night-powell-2/2029-08-21/
LOCATION:Nocterra Brewing Co. – Powell\, 41 Depot Street\, Powell\, OH\, 43065\, United States
CATEGORIES:Bingo,Entertainment,Family Fun,Powell
ATTACH;FMTTYPE=image/png:https://nocterrabrewing.com/wp-content/uploads/2025/02/Bingo-2025-3-FB-Event-.png
END:VEVENT
BEGIN:VEVENT
DTSTART;TZID=UTC:20290822T190000
DTEND;TZID=UTC:20290822T210000
DTSTAMP:20260425T160301
CREATED:20260225T195852Z
LAST-MODIFIED:20260318T214649Z
UID:10001937-1882119600-1882126800@nocterrabrewing.com
SUMMARY:TRIVIA NIGHTS! - POWELL
DESCRIPTION:Assemble your crew and test your knowledge at Nocterra Brewing Co.’s Trivia Night. Every Wednesday\, host Carmine will challenge you with general trivia. Prizes will be awarded to those lucky winners.\n\nAs always\, it’s free to play and open to all ages.
URL:https://nocterrabrewing.com/event/trivia-nights-powell-2-2/2029-08-22/
LOCATION:Nocterra Brewing Co. – Powell\, 41 Depot Street\, Powell\, OH\, 43065\, United States
CATEGORIES:Entertainment,Family Fun,Powell,Trivia
ATTACH;FMTTYPE=image/jpeg:https://nocterrabrewing.com/wp-content/uploads/2025/09/unnamed-3.jpg
END:VEVENT
BEGIN:VEVENT
DTSTART;TZID=UTC:20290824T180000
DTEND;TZID=UTC:20290824T200000
DTSTAMP:20260425T160301
CREATED:20251202T180233Z
LAST-MODIFIED:20251212T144728Z
UID:10001349-1882288800-1882296000@nocterrabrewing.com
SUMMARY:DISC GOLF MART & NOCTERRA - PUTTING LEAGUE - AUDUBON
DESCRIPTION:Join us every Friday from 6–8 PM for The Weekly Offseason Putting League\, brought to you by Disc Golf Mart and Nocterra Brewing Co. It’s just $5 to play\, and all players get $1 off drinks throughout the night. We mix things up with both indoor and outdoor stations\, so make sure to bring a coat when the weather gets cold. With weekly prizes\, good vibes\, and plenty of putts\, it’s the perfect way to kick off your weekend.
URL:https://nocterrabrewing.com/event/disc-golf-mart-nocterra-putting-league/2029-08-24/
LOCATION:Nocterra Brewing Co. – Audubon\, 516 Maier Place\, Columbus\, OH\, 43215
CATEGORIES:Audubon,Competition,Entertainment,League
ATTACH;FMTTYPE=image/jpeg:https://nocterrabrewing.com/wp-content/uploads/2025/12/Putting_League.jpg
END:VEVENT
BEGIN:VEVENT
DTSTART;TZID=UTC:20290828T190000
DTEND;TZID=UTC:20290828T210000
DTSTAMP:20260425T160301
CREATED:20260122T200823Z
LAST-MODIFIED:20260225T193747Z
UID:10001615-1882638000-1882645200@nocterrabrewing.com
SUMMARY:BINGO NIGHT! - POWELL
DESCRIPTION:Join us every Tuesday for a fun night of Bingo. We’ll be rolling balls and making calls. Listen for your number; you could go home with a fun prize!\nAs always\, it’s free to play and open to all ages.
URL:https://nocterrabrewing.com/event/bingo-night-powell-2/2029-08-28/
LOCATION:Nocterra Brewing Co. – Powell\, 41 Depot Street\, Powell\, OH\, 43065\, United States
CATEGORIES:Bingo,Entertainment,Family Fun,Powell
ATTACH;FMTTYPE=image/png:https://nocterrabrewing.com/wp-content/uploads/2025/02/Bingo-2025-3-FB-Event-.png
END:VEVENT
BEGIN:VEVENT
DTSTART;TZID=UTC:20290829T190000
DTEND;TZID=UTC:20290829T210000
DTSTAMP:20260425T160301
CREATED:20260225T195852Z
LAST-MODIFIED:20260318T214649Z
UID:10001938-1882724400-1882731600@nocterrabrewing.com
SUMMARY:TRIVIA NIGHTS! - POWELL
DESCRIPTION:Assemble your crew and test your knowledge at Nocterra Brewing Co.’s Trivia Night. Every Wednesday\, host Carmine will challenge you with general trivia. Prizes will be awarded to those lucky winners.\n\nAs always\, it’s free to play and open to all ages.
URL:https://nocterrabrewing.com/event/trivia-nights-powell-2-2/2029-08-29/
LOCATION:Nocterra Brewing Co. – Powell\, 41 Depot Street\, Powell\, OH\, 43065\, United States
CATEGORIES:Entertainment,Family Fun,Powell,Trivia
ATTACH;FMTTYPE=image/jpeg:https://nocterrabrewing.com/wp-content/uploads/2025/09/unnamed-3.jpg
END:VEVENT
BEGIN:VEVENT
DTSTART;TZID=UTC:20290831T180000
DTEND;TZID=UTC:20290831T200000
DTSTAMP:20260425T160301
CREATED:20251202T180233Z
LAST-MODIFIED:20251212T144728Z
UID:10001350-1882893600-1882900800@nocterrabrewing.com
SUMMARY:DISC GOLF MART & NOCTERRA - PUTTING LEAGUE - AUDUBON
DESCRIPTION:Join us every Friday from 6–8 PM for The Weekly Offseason Putting League\, brought to you by Disc Golf Mart and Nocterra Brewing Co. It’s just $5 to play\, and all players get $1 off drinks throughout the night. We mix things up with both indoor and outdoor stations\, so make sure to bring a coat when the weather gets cold. With weekly prizes\, good vibes\, and plenty of putts\, it’s the perfect way to kick off your weekend.
URL:https://nocterrabrewing.com/event/disc-golf-mart-nocterra-putting-league/2029-08-31/
LOCATION:Nocterra Brewing Co. – Audubon\, 516 Maier Place\, Columbus\, OH\, 43215
CATEGORIES:Audubon,Competition,Entertainment,League
ATTACH;FMTTYPE=image/jpeg:https://nocterrabrewing.com/wp-content/uploads/2025/12/Putting_League.jpg
END:VEVENT
BEGIN:VEVENT
DTSTART;TZID=UTC:20290904T190000
DTEND;TZID=UTC:20290904T210000
DTSTAMP:20260425T160301
CREATED:20260122T200823Z
LAST-MODIFIED:20260225T193747Z
UID:10001616-1883242800-1883250000@nocterrabrewing.com
SUMMARY:BINGO NIGHT! - POWELL
DESCRIPTION:Join us every Tuesday for a fun night of Bingo. We’ll be rolling balls and making calls. Listen for your number; you could go home with a fun prize!\nAs always\, it’s free to play and open to all ages.
URL:https://nocterrabrewing.com/event/bingo-night-powell-2/2029-09-04/
LOCATION:Nocterra Brewing Co. – Powell\, 41 Depot Street\, Powell\, OH\, 43065\, United States
CATEGORIES:Bingo,Entertainment,Family Fun,Powell
ATTACH;FMTTYPE=image/png:https://nocterrabrewing.com/wp-content/uploads/2025/02/Bingo-2025-3-FB-Event-.png
END:VEVENT
BEGIN:VEVENT
DTSTART;TZID=UTC:20290905T190000
DTEND;TZID=UTC:20290905T210000
DTSTAMP:20260425T160301
CREATED:20260225T195852Z
LAST-MODIFIED:20260318T214649Z
UID:10001939-1883329200-1883336400@nocterrabrewing.com
SUMMARY:TRIVIA NIGHTS! - POWELL
DESCRIPTION:Assemble your crew and test your knowledge at Nocterra Brewing Co.’s Trivia Night. Every Wednesday\, host Carmine will challenge you with general trivia. Prizes will be awarded to those lucky winners.\n\nAs always\, it’s free to play and open to all ages.
URL:https://nocterrabrewing.com/event/trivia-nights-powell-2-2/2029-09-05/
LOCATION:Nocterra Brewing Co. – Powell\, 41 Depot Street\, Powell\, OH\, 43065\, United States
CATEGORIES:Entertainment,Family Fun,Powell,Trivia
ATTACH;FMTTYPE=image/jpeg:https://nocterrabrewing.com/wp-content/uploads/2025/09/unnamed-3.jpg
END:VEVENT
END:VCALENDAR