BEGIN:VCALENDAR
VERSION:2.0
PRODID:-//Nocterra Brewing Co. - ECPv6.15.17//NONSGML v1.0//EN
CALSCALE:GREGORIAN
METHOD:PUBLISH
X-ORIGINAL-URL:https://nocterrabrewing.com
X-WR-CALDESC:Events for Nocterra Brewing Co.
REFRESH-INTERVAL;VALUE=DURATION:PT1H
X-Robots-Tag:noindex
X-PUBLISHED-TTL:PT1H
BEGIN:VTIMEZONE
TZID:UTC
BEGIN:STANDARD
TZOFFSETFROM:+0000
TZOFFSETTO:+0000
TZNAME:UTC
DTSTART:20270101T000000
END:STANDARD
END:VTIMEZONE
BEGIN:VEVENT
DTSTART;TZID=UTC:20281020T180000
DTEND;TZID=UTC:20281020T200000
DTSTAMP:20260425T131822
CREATED:20251202T180233Z
LAST-MODIFIED:20251212T144728Z
UID:10001305-1855677600-1855684800@nocterrabrewing.com
SUMMARY:DISC GOLF MART & NOCTERRA - PUTTING LEAGUE - AUDUBON
DESCRIPTION:Join us every Friday from 6–8 PM for The Weekly Offseason Putting League\, brought to you by Disc Golf Mart and Nocterra Brewing Co. It’s just $5 to play\, and all players get $1 off drinks throughout the night. We mix things up with both indoor and outdoor stations\, so make sure to bring a coat when the weather gets cold. With weekly prizes\, good vibes\, and plenty of putts\, it’s the perfect way to kick off your weekend.
URL:https://nocterrabrewing.com/event/disc-golf-mart-nocterra-putting-league/2028-10-20/
LOCATION:Nocterra Brewing Co. – Audubon\, 516 Maier Place\, Columbus\, OH\, 43215
CATEGORIES:Audubon,Competition,Entertainment,League
ATTACH;FMTTYPE=image/jpeg:https://nocterrabrewing.com/wp-content/uploads/2025/12/Putting_League.jpg
END:VEVENT
BEGIN:VEVENT
DTSTART;TZID=UTC:20281024T190000
DTEND;TZID=UTC:20281024T210000
DTSTAMP:20260425T131822
CREATED:20260122T200823Z
LAST-MODIFIED:20260225T193747Z
UID:10001571-1856026800-1856034000@nocterrabrewing.com
SUMMARY:BINGO NIGHT! - POWELL
DESCRIPTION:Join us every Tuesday for a fun night of Bingo. We’ll be rolling balls and making calls. Listen for your number; you could go home with a fun prize!\nAs always\, it’s free to play and open to all ages.
URL:https://nocterrabrewing.com/event/bingo-night-powell-2/2028-10-24/
LOCATION:Nocterra Brewing Co. – Powell\, 41 Depot Street\, Powell\, OH\, 43065\, United States
CATEGORIES:Bingo,Entertainment,Family Fun,Powell
ATTACH;FMTTYPE=image/png:https://nocterrabrewing.com/wp-content/uploads/2025/02/Bingo-2025-3-FB-Event-.png
END:VEVENT
BEGIN:VEVENT
DTSTART;TZID=UTC:20281025T190000
DTEND;TZID=UTC:20281025T210000
DTSTAMP:20260425T131822
CREATED:20260225T195852Z
LAST-MODIFIED:20260318T214649Z
UID:10001894-1856113200-1856120400@nocterrabrewing.com
SUMMARY:TRIVIA NIGHTS! - POWELL
DESCRIPTION:Assemble your crew and test your knowledge at Nocterra Brewing Co.’s Trivia Night. Every Wednesday\, host Carmine will challenge you with general trivia. Prizes will be awarded to those lucky winners.\n\nAs always\, it’s free to play and open to all ages.
URL:https://nocterrabrewing.com/event/trivia-nights-powell-2-2/2028-10-25/
LOCATION:Nocterra Brewing Co. – Powell\, 41 Depot Street\, Powell\, OH\, 43065\, United States
CATEGORIES:Entertainment,Family Fun,Powell,Trivia
ATTACH;FMTTYPE=image/jpeg:https://nocterrabrewing.com/wp-content/uploads/2025/09/unnamed-3.jpg
END:VEVENT
BEGIN:VEVENT
DTSTART;TZID=UTC:20281027T180000
DTEND;TZID=UTC:20281027T200000
DTSTAMP:20260425T131822
CREATED:20251202T180233Z
LAST-MODIFIED:20251212T144728Z
UID:10001306-1856282400-1856289600@nocterrabrewing.com
SUMMARY:DISC GOLF MART & NOCTERRA - PUTTING LEAGUE - AUDUBON
DESCRIPTION:Join us every Friday from 6–8 PM for The Weekly Offseason Putting League\, brought to you by Disc Golf Mart and Nocterra Brewing Co. It’s just $5 to play\, and all players get $1 off drinks throughout the night. We mix things up with both indoor and outdoor stations\, so make sure to bring a coat when the weather gets cold. With weekly prizes\, good vibes\, and plenty of putts\, it’s the perfect way to kick off your weekend.
URL:https://nocterrabrewing.com/event/disc-golf-mart-nocterra-putting-league/2028-10-27/
LOCATION:Nocterra Brewing Co. – Audubon\, 516 Maier Place\, Columbus\, OH\, 43215
CATEGORIES:Audubon,Competition,Entertainment,League
ATTACH;FMTTYPE=image/jpeg:https://nocterrabrewing.com/wp-content/uploads/2025/12/Putting_League.jpg
END:VEVENT
BEGIN:VEVENT
DTSTART;TZID=UTC:20281031T190000
DTEND;TZID=UTC:20281031T210000
DTSTAMP:20260425T131822
CREATED:20260122T200823Z
LAST-MODIFIED:20260225T193747Z
UID:10001572-1856631600-1856638800@nocterrabrewing.com
SUMMARY:BINGO NIGHT! - POWELL
DESCRIPTION:Join us every Tuesday for a fun night of Bingo. We’ll be rolling balls and making calls. Listen for your number; you could go home with a fun prize!\nAs always\, it’s free to play and open to all ages.
URL:https://nocterrabrewing.com/event/bingo-night-powell-2/2028-10-31/
LOCATION:Nocterra Brewing Co. – Powell\, 41 Depot Street\, Powell\, OH\, 43065\, United States
CATEGORIES:Bingo,Entertainment,Family Fun,Powell
ATTACH;FMTTYPE=image/png:https://nocterrabrewing.com/wp-content/uploads/2025/02/Bingo-2025-3-FB-Event-.png
END:VEVENT
BEGIN:VEVENT
DTSTART;TZID=UTC:20281101T190000
DTEND;TZID=UTC:20281101T210000
DTSTAMP:20260425T131822
CREATED:20260225T195852Z
LAST-MODIFIED:20260318T214649Z
UID:10001895-1856718000-1856725200@nocterrabrewing.com
SUMMARY:TRIVIA NIGHTS! - POWELL
DESCRIPTION:Assemble your crew and test your knowledge at Nocterra Brewing Co.’s Trivia Night. Every Wednesday\, host Carmine will challenge you with general trivia. Prizes will be awarded to those lucky winners.\n\nAs always\, it’s free to play and open to all ages.
URL:https://nocterrabrewing.com/event/trivia-nights-powell-2-2/2028-11-01/
LOCATION:Nocterra Brewing Co. – Powell\, 41 Depot Street\, Powell\, OH\, 43065\, United States
CATEGORIES:Entertainment,Family Fun,Powell,Trivia
ATTACH;FMTTYPE=image/jpeg:https://nocterrabrewing.com/wp-content/uploads/2025/09/unnamed-3.jpg
END:VEVENT
BEGIN:VEVENT
DTSTART;TZID=UTC:20281103T180000
DTEND;TZID=UTC:20281103T200000
DTSTAMP:20260425T131822
CREATED:20251202T180233Z
LAST-MODIFIED:20251212T144728Z
UID:10001307-1856887200-1856894400@nocterrabrewing.com
SUMMARY:DISC GOLF MART & NOCTERRA - PUTTING LEAGUE - AUDUBON
DESCRIPTION:Join us every Friday from 6–8 PM for The Weekly Offseason Putting League\, brought to you by Disc Golf Mart and Nocterra Brewing Co. It’s just $5 to play\, and all players get $1 off drinks throughout the night. We mix things up with both indoor and outdoor stations\, so make sure to bring a coat when the weather gets cold. With weekly prizes\, good vibes\, and plenty of putts\, it’s the perfect way to kick off your weekend.
URL:https://nocterrabrewing.com/event/disc-golf-mart-nocterra-putting-league/2028-11-03/
LOCATION:Nocterra Brewing Co. – Audubon\, 516 Maier Place\, Columbus\, OH\, 43215
CATEGORIES:Audubon,Competition,Entertainment,League
ATTACH;FMTTYPE=image/jpeg:https://nocterrabrewing.com/wp-content/uploads/2025/12/Putting_League.jpg
END:VEVENT
BEGIN:VEVENT
DTSTART;TZID=UTC:20281107T190000
DTEND;TZID=UTC:20281107T210000
DTSTAMP:20260425T131822
CREATED:20260122T200823Z
LAST-MODIFIED:20260225T193747Z
UID:10001573-1857236400-1857243600@nocterrabrewing.com
SUMMARY:BINGO NIGHT! - POWELL
DESCRIPTION:Join us every Tuesday for a fun night of Bingo. We’ll be rolling balls and making calls. Listen for your number; you could go home with a fun prize!\nAs always\, it’s free to play and open to all ages.
URL:https://nocterrabrewing.com/event/bingo-night-powell-2/2028-11-07/
LOCATION:Nocterra Brewing Co. – Powell\, 41 Depot Street\, Powell\, OH\, 43065\, United States
CATEGORIES:Bingo,Entertainment,Family Fun,Powell
ATTACH;FMTTYPE=image/png:https://nocterrabrewing.com/wp-content/uploads/2025/02/Bingo-2025-3-FB-Event-.png
END:VEVENT
BEGIN:VEVENT
DTSTART;TZID=UTC:20281108T190000
DTEND;TZID=UTC:20281108T210000
DTSTAMP:20260425T131822
CREATED:20260225T195852Z
LAST-MODIFIED:20260318T214649Z
UID:10001896-1857322800-1857330000@nocterrabrewing.com
SUMMARY:TRIVIA NIGHTS! - POWELL
DESCRIPTION:Assemble your crew and test your knowledge at Nocterra Brewing Co.’s Trivia Night. Every Wednesday\, host Carmine will challenge you with general trivia. Prizes will be awarded to those lucky winners.\n\nAs always\, it’s free to play and open to all ages.
URL:https://nocterrabrewing.com/event/trivia-nights-powell-2-2/2028-11-08/
LOCATION:Nocterra Brewing Co. – Powell\, 41 Depot Street\, Powell\, OH\, 43065\, United States
CATEGORIES:Entertainment,Family Fun,Powell,Trivia
ATTACH;FMTTYPE=image/jpeg:https://nocterrabrewing.com/wp-content/uploads/2025/09/unnamed-3.jpg
END:VEVENT
BEGIN:VEVENT
DTSTART;TZID=UTC:20281110T180000
DTEND;TZID=UTC:20281110T200000
DTSTAMP:20260425T131822
CREATED:20251202T180233Z
LAST-MODIFIED:20251212T144728Z
UID:10001308-1857492000-1857499200@nocterrabrewing.com
SUMMARY:DISC GOLF MART & NOCTERRA - PUTTING LEAGUE - AUDUBON
DESCRIPTION:Join us every Friday from 6–8 PM for The Weekly Offseason Putting League\, brought to you by Disc Golf Mart and Nocterra Brewing Co. It’s just $5 to play\, and all players get $1 off drinks throughout the night. We mix things up with both indoor and outdoor stations\, so make sure to bring a coat when the weather gets cold. With weekly prizes\, good vibes\, and plenty of putts\, it’s the perfect way to kick off your weekend.
URL:https://nocterrabrewing.com/event/disc-golf-mart-nocterra-putting-league/2028-11-10/
LOCATION:Nocterra Brewing Co. – Audubon\, 516 Maier Place\, Columbus\, OH\, 43215
CATEGORIES:Audubon,Competition,Entertainment,League
ATTACH;FMTTYPE=image/jpeg:https://nocterrabrewing.com/wp-content/uploads/2025/12/Putting_League.jpg
END:VEVENT
BEGIN:VEVENT
DTSTART;TZID=UTC:20281114T190000
DTEND;TZID=UTC:20281114T210000
DTSTAMP:20260425T131822
CREATED:20260122T200823Z
LAST-MODIFIED:20260225T193747Z
UID:10001574-1857841200-1857848400@nocterrabrewing.com
SUMMARY:BINGO NIGHT! - POWELL
DESCRIPTION:Join us every Tuesday for a fun night of Bingo. We’ll be rolling balls and making calls. Listen for your number; you could go home with a fun prize!\nAs always\, it’s free to play and open to all ages.
URL:https://nocterrabrewing.com/event/bingo-night-powell-2/2028-11-14/
LOCATION:Nocterra Brewing Co. – Powell\, 41 Depot Street\, Powell\, OH\, 43065\, United States
CATEGORIES:Bingo,Entertainment,Family Fun,Powell
ATTACH;FMTTYPE=image/png:https://nocterrabrewing.com/wp-content/uploads/2025/02/Bingo-2025-3-FB-Event-.png
END:VEVENT
BEGIN:VEVENT
DTSTART;TZID=UTC:20281115T190000
DTEND;TZID=UTC:20281115T210000
DTSTAMP:20260425T131822
CREATED:20260225T195852Z
LAST-MODIFIED:20260318T214649Z
UID:10001897-1857927600-1857934800@nocterrabrewing.com
SUMMARY:TRIVIA NIGHTS! - POWELL
DESCRIPTION:Assemble your crew and test your knowledge at Nocterra Brewing Co.’s Trivia Night. Every Wednesday\, host Carmine will challenge you with general trivia. Prizes will be awarded to those lucky winners.\n\nAs always\, it’s free to play and open to all ages.
URL:https://nocterrabrewing.com/event/trivia-nights-powell-2-2/2028-11-15/
LOCATION:Nocterra Brewing Co. – Powell\, 41 Depot Street\, Powell\, OH\, 43065\, United States
CATEGORIES:Entertainment,Family Fun,Powell,Trivia
ATTACH;FMTTYPE=image/jpeg:https://nocterrabrewing.com/wp-content/uploads/2025/09/unnamed-3.jpg
END:VEVENT
BEGIN:VEVENT
DTSTART;TZID=UTC:20281117T180000
DTEND;TZID=UTC:20281117T200000
DTSTAMP:20260425T131822
CREATED:20251202T180233Z
LAST-MODIFIED:20251212T144728Z
UID:10001309-1858096800-1858104000@nocterrabrewing.com
SUMMARY:DISC GOLF MART & NOCTERRA - PUTTING LEAGUE - AUDUBON
DESCRIPTION:Join us every Friday from 6–8 PM for The Weekly Offseason Putting League\, brought to you by Disc Golf Mart and Nocterra Brewing Co. It’s just $5 to play\, and all players get $1 off drinks throughout the night. We mix things up with both indoor and outdoor stations\, so make sure to bring a coat when the weather gets cold. With weekly prizes\, good vibes\, and plenty of putts\, it’s the perfect way to kick off your weekend.
URL:https://nocterrabrewing.com/event/disc-golf-mart-nocterra-putting-league/2028-11-17/
LOCATION:Nocterra Brewing Co. – Audubon\, 516 Maier Place\, Columbus\, OH\, 43215
CATEGORIES:Audubon,Competition,Entertainment,League
ATTACH;FMTTYPE=image/jpeg:https://nocterrabrewing.com/wp-content/uploads/2025/12/Putting_League.jpg
END:VEVENT
BEGIN:VEVENT
DTSTART;TZID=UTC:20281121T190000
DTEND;TZID=UTC:20281121T210000
DTSTAMP:20260425T131822
CREATED:20260122T200823Z
LAST-MODIFIED:20260225T193747Z
UID:10001575-1858446000-1858453200@nocterrabrewing.com
SUMMARY:BINGO NIGHT! - POWELL
DESCRIPTION:Join us every Tuesday for a fun night of Bingo. We’ll be rolling balls and making calls. Listen for your number; you could go home with a fun prize!\nAs always\, it’s free to play and open to all ages.
URL:https://nocterrabrewing.com/event/bingo-night-powell-2/2028-11-21/
LOCATION:Nocterra Brewing Co. – Powell\, 41 Depot Street\, Powell\, OH\, 43065\, United States
CATEGORIES:Bingo,Entertainment,Family Fun,Powell
ATTACH;FMTTYPE=image/png:https://nocterrabrewing.com/wp-content/uploads/2025/02/Bingo-2025-3-FB-Event-.png
END:VEVENT
BEGIN:VEVENT
DTSTART;TZID=UTC:20281122T190000
DTEND;TZID=UTC:20281122T210000
DTSTAMP:20260425T131822
CREATED:20260225T195852Z
LAST-MODIFIED:20260318T214649Z
UID:10001898-1858532400-1858539600@nocterrabrewing.com
SUMMARY:TRIVIA NIGHTS! - POWELL
DESCRIPTION:Assemble your crew and test your knowledge at Nocterra Brewing Co.’s Trivia Night. Every Wednesday\, host Carmine will challenge you with general trivia. Prizes will be awarded to those lucky winners.\n\nAs always\, it’s free to play and open to all ages.
URL:https://nocterrabrewing.com/event/trivia-nights-powell-2-2/2028-11-22/
LOCATION:Nocterra Brewing Co. – Powell\, 41 Depot Street\, Powell\, OH\, 43065\, United States
CATEGORIES:Entertainment,Family Fun,Powell,Trivia
ATTACH;FMTTYPE=image/jpeg:https://nocterrabrewing.com/wp-content/uploads/2025/09/unnamed-3.jpg
END:VEVENT
BEGIN:VEVENT
DTSTART;TZID=UTC:20281124T180000
DTEND;TZID=UTC:20281124T200000
DTSTAMP:20260425T131822
CREATED:20251202T180233Z
LAST-MODIFIED:20251212T144728Z
UID:10001310-1858701600-1858708800@nocterrabrewing.com
SUMMARY:DISC GOLF MART & NOCTERRA - PUTTING LEAGUE - AUDUBON
DESCRIPTION:Join us every Friday from 6–8 PM for The Weekly Offseason Putting League\, brought to you by Disc Golf Mart and Nocterra Brewing Co. It’s just $5 to play\, and all players get $1 off drinks throughout the night. We mix things up with both indoor and outdoor stations\, so make sure to bring a coat when the weather gets cold. With weekly prizes\, good vibes\, and plenty of putts\, it’s the perfect way to kick off your weekend.
URL:https://nocterrabrewing.com/event/disc-golf-mart-nocterra-putting-league/2028-11-24/
LOCATION:Nocterra Brewing Co. – Audubon\, 516 Maier Place\, Columbus\, OH\, 43215
CATEGORIES:Audubon,Competition,Entertainment,League
ATTACH;FMTTYPE=image/jpeg:https://nocterrabrewing.com/wp-content/uploads/2025/12/Putting_League.jpg
END:VEVENT
BEGIN:VEVENT
DTSTART;TZID=UTC:20281128T190000
DTEND;TZID=UTC:20281128T210000
DTSTAMP:20260425T131822
CREATED:20260122T200823Z
LAST-MODIFIED:20260225T193747Z
UID:10001576-1859050800-1859058000@nocterrabrewing.com
SUMMARY:BINGO NIGHT! - POWELL
DESCRIPTION:Join us every Tuesday for a fun night of Bingo. We’ll be rolling balls and making calls. Listen for your number; you could go home with a fun prize!\nAs always\, it’s free to play and open to all ages.
URL:https://nocterrabrewing.com/event/bingo-night-powell-2/2028-11-28/
LOCATION:Nocterra Brewing Co. – Powell\, 41 Depot Street\, Powell\, OH\, 43065\, United States
CATEGORIES:Bingo,Entertainment,Family Fun,Powell
ATTACH;FMTTYPE=image/png:https://nocterrabrewing.com/wp-content/uploads/2025/02/Bingo-2025-3-FB-Event-.png
END:VEVENT
BEGIN:VEVENT
DTSTART;TZID=UTC:20281129T190000
DTEND;TZID=UTC:20281129T210000
DTSTAMP:20260425T131822
CREATED:20260225T195852Z
LAST-MODIFIED:20260318T214649Z
UID:10001899-1859137200-1859144400@nocterrabrewing.com
SUMMARY:TRIVIA NIGHTS! - POWELL
DESCRIPTION:Assemble your crew and test your knowledge at Nocterra Brewing Co.’s Trivia Night. Every Wednesday\, host Carmine will challenge you with general trivia. Prizes will be awarded to those lucky winners.\n\nAs always\, it’s free to play and open to all ages.
URL:https://nocterrabrewing.com/event/trivia-nights-powell-2-2/2028-11-29/
LOCATION:Nocterra Brewing Co. – Powell\, 41 Depot Street\, Powell\, OH\, 43065\, United States
CATEGORIES:Entertainment,Family Fun,Powell,Trivia
ATTACH;FMTTYPE=image/jpeg:https://nocterrabrewing.com/wp-content/uploads/2025/09/unnamed-3.jpg
END:VEVENT
BEGIN:VEVENT
DTSTART;TZID=UTC:20281201T180000
DTEND;TZID=UTC:20281201T200000
DTSTAMP:20260425T131822
CREATED:20251202T180233Z
LAST-MODIFIED:20251212T144728Z
UID:10001311-1859306400-1859313600@nocterrabrewing.com
SUMMARY:DISC GOLF MART & NOCTERRA - PUTTING LEAGUE - AUDUBON
DESCRIPTION:Join us every Friday from 6–8 PM for The Weekly Offseason Putting League\, brought to you by Disc Golf Mart and Nocterra Brewing Co. It’s just $5 to play\, and all players get $1 off drinks throughout the night. We mix things up with both indoor and outdoor stations\, so make sure to bring a coat when the weather gets cold. With weekly prizes\, good vibes\, and plenty of putts\, it’s the perfect way to kick off your weekend.
URL:https://nocterrabrewing.com/event/disc-golf-mart-nocterra-putting-league/2028-12-01/
LOCATION:Nocterra Brewing Co. – Audubon\, 516 Maier Place\, Columbus\, OH\, 43215
CATEGORIES:Audubon,Competition,Entertainment,League
ATTACH;FMTTYPE=image/jpeg:https://nocterrabrewing.com/wp-content/uploads/2025/12/Putting_League.jpg
END:VEVENT
BEGIN:VEVENT
DTSTART;TZID=UTC:20281205T190000
DTEND;TZID=UTC:20281205T210000
DTSTAMP:20260425T131822
CREATED:20260122T200823Z
LAST-MODIFIED:20260225T193747Z
UID:10001577-1859655600-1859662800@nocterrabrewing.com
SUMMARY:BINGO NIGHT! - POWELL
DESCRIPTION:Join us every Tuesday for a fun night of Bingo. We’ll be rolling balls and making calls. Listen for your number; you could go home with a fun prize!\nAs always\, it’s free to play and open to all ages.
URL:https://nocterrabrewing.com/event/bingo-night-powell-2/2028-12-05/
LOCATION:Nocterra Brewing Co. – Powell\, 41 Depot Street\, Powell\, OH\, 43065\, United States
CATEGORIES:Bingo,Entertainment,Family Fun,Powell
ATTACH;FMTTYPE=image/png:https://nocterrabrewing.com/wp-content/uploads/2025/02/Bingo-2025-3-FB-Event-.png
END:VEVENT
BEGIN:VEVENT
DTSTART;TZID=UTC:20281206T190000
DTEND;TZID=UTC:20281206T210000
DTSTAMP:20260425T131822
CREATED:20260225T195852Z
LAST-MODIFIED:20260318T214649Z
UID:10001900-1859742000-1859749200@nocterrabrewing.com
SUMMARY:TRIVIA NIGHTS! - POWELL
DESCRIPTION:Assemble your crew and test your knowledge at Nocterra Brewing Co.’s Trivia Night. Every Wednesday\, host Carmine will challenge you with general trivia. Prizes will be awarded to those lucky winners.\n\nAs always\, it’s free to play and open to all ages.
URL:https://nocterrabrewing.com/event/trivia-nights-powell-2-2/2028-12-06/
LOCATION:Nocterra Brewing Co. – Powell\, 41 Depot Street\, Powell\, OH\, 43065\, United States
CATEGORIES:Entertainment,Family Fun,Powell,Trivia
ATTACH;FMTTYPE=image/jpeg:https://nocterrabrewing.com/wp-content/uploads/2025/09/unnamed-3.jpg
END:VEVENT
BEGIN:VEVENT
DTSTART;TZID=UTC:20281208T180000
DTEND;TZID=UTC:20281208T200000
DTSTAMP:20260425T131822
CREATED:20251202T180233Z
LAST-MODIFIED:20251212T144728Z
UID:10001312-1859911200-1859918400@nocterrabrewing.com
SUMMARY:DISC GOLF MART & NOCTERRA - PUTTING LEAGUE - AUDUBON
DESCRIPTION:Join us every Friday from 6–8 PM for The Weekly Offseason Putting League\, brought to you by Disc Golf Mart and Nocterra Brewing Co. It’s just $5 to play\, and all players get $1 off drinks throughout the night. We mix things up with both indoor and outdoor stations\, so make sure to bring a coat when the weather gets cold. With weekly prizes\, good vibes\, and plenty of putts\, it’s the perfect way to kick off your weekend.
URL:https://nocterrabrewing.com/event/disc-golf-mart-nocterra-putting-league/2028-12-08/
LOCATION:Nocterra Brewing Co. – Audubon\, 516 Maier Place\, Columbus\, OH\, 43215
CATEGORIES:Audubon,Competition,Entertainment,League
ATTACH;FMTTYPE=image/jpeg:https://nocterrabrewing.com/wp-content/uploads/2025/12/Putting_League.jpg
END:VEVENT
BEGIN:VEVENT
DTSTART;TZID=UTC:20281212T190000
DTEND;TZID=UTC:20281212T210000
DTSTAMP:20260425T131822
CREATED:20260122T200823Z
LAST-MODIFIED:20260225T193747Z
UID:10001578-1860260400-1860267600@nocterrabrewing.com
SUMMARY:BINGO NIGHT! - POWELL
DESCRIPTION:Join us every Tuesday for a fun night of Bingo. We’ll be rolling balls and making calls. Listen for your number; you could go home with a fun prize!\nAs always\, it’s free to play and open to all ages.
URL:https://nocterrabrewing.com/event/bingo-night-powell-2/2028-12-12/
LOCATION:Nocterra Brewing Co. – Powell\, 41 Depot Street\, Powell\, OH\, 43065\, United States
CATEGORIES:Bingo,Entertainment,Family Fun,Powell
ATTACH;FMTTYPE=image/png:https://nocterrabrewing.com/wp-content/uploads/2025/02/Bingo-2025-3-FB-Event-.png
END:VEVENT
BEGIN:VEVENT
DTSTART;TZID=UTC:20281213T190000
DTEND;TZID=UTC:20281213T210000
DTSTAMP:20260425T131822
CREATED:20260225T195852Z
LAST-MODIFIED:20260318T214649Z
UID:10001901-1860346800-1860354000@nocterrabrewing.com
SUMMARY:TRIVIA NIGHTS! - POWELL
DESCRIPTION:Assemble your crew and test your knowledge at Nocterra Brewing Co.’s Trivia Night. Every Wednesday\, host Carmine will challenge you with general trivia. Prizes will be awarded to those lucky winners.\n\nAs always\, it’s free to play and open to all ages.
URL:https://nocterrabrewing.com/event/trivia-nights-powell-2-2/2028-12-13/
LOCATION:Nocterra Brewing Co. – Powell\, 41 Depot Street\, Powell\, OH\, 43065\, United States
CATEGORIES:Entertainment,Family Fun,Powell,Trivia
ATTACH;FMTTYPE=image/jpeg:https://nocterrabrewing.com/wp-content/uploads/2025/09/unnamed-3.jpg
END:VEVENT
BEGIN:VEVENT
DTSTART;TZID=UTC:20281215T180000
DTEND;TZID=UTC:20281215T200000
DTSTAMP:20260425T131822
CREATED:20251202T180233Z
LAST-MODIFIED:20251212T144728Z
UID:10001313-1860516000-1860523200@nocterrabrewing.com
SUMMARY:DISC GOLF MART & NOCTERRA - PUTTING LEAGUE - AUDUBON
DESCRIPTION:Join us every Friday from 6–8 PM for The Weekly Offseason Putting League\, brought to you by Disc Golf Mart and Nocterra Brewing Co. It’s just $5 to play\, and all players get $1 off drinks throughout the night. We mix things up with both indoor and outdoor stations\, so make sure to bring a coat when the weather gets cold. With weekly prizes\, good vibes\, and plenty of putts\, it’s the perfect way to kick off your weekend.
URL:https://nocterrabrewing.com/event/disc-golf-mart-nocterra-putting-league/2028-12-15/
LOCATION:Nocterra Brewing Co. – Audubon\, 516 Maier Place\, Columbus\, OH\, 43215
CATEGORIES:Audubon,Competition,Entertainment,League
ATTACH;FMTTYPE=image/jpeg:https://nocterrabrewing.com/wp-content/uploads/2025/12/Putting_League.jpg
END:VEVENT
BEGIN:VEVENT
DTSTART;TZID=UTC:20281219T190000
DTEND;TZID=UTC:20281219T210000
DTSTAMP:20260425T131822
CREATED:20260122T200823Z
LAST-MODIFIED:20260225T193747Z
UID:10001579-1860865200-1860872400@nocterrabrewing.com
SUMMARY:BINGO NIGHT! - POWELL
DESCRIPTION:Join us every Tuesday for a fun night of Bingo. We’ll be rolling balls and making calls. Listen for your number; you could go home with a fun prize!\nAs always\, it’s free to play and open to all ages.
URL:https://nocterrabrewing.com/event/bingo-night-powell-2/2028-12-19/
LOCATION:Nocterra Brewing Co. – Powell\, 41 Depot Street\, Powell\, OH\, 43065\, United States
CATEGORIES:Bingo,Entertainment,Family Fun,Powell
ATTACH;FMTTYPE=image/png:https://nocterrabrewing.com/wp-content/uploads/2025/02/Bingo-2025-3-FB-Event-.png
END:VEVENT
BEGIN:VEVENT
DTSTART;TZID=UTC:20281220T190000
DTEND;TZID=UTC:20281220T210000
DTSTAMP:20260425T131822
CREATED:20260225T195852Z
LAST-MODIFIED:20260318T214649Z
UID:10001902-1860951600-1860958800@nocterrabrewing.com
SUMMARY:TRIVIA NIGHTS! - POWELL
DESCRIPTION:Assemble your crew and test your knowledge at Nocterra Brewing Co.’s Trivia Night. Every Wednesday\, host Carmine will challenge you with general trivia. Prizes will be awarded to those lucky winners.\n\nAs always\, it’s free to play and open to all ages.
URL:https://nocterrabrewing.com/event/trivia-nights-powell-2-2/2028-12-20/
LOCATION:Nocterra Brewing Co. – Powell\, 41 Depot Street\, Powell\, OH\, 43065\, United States
CATEGORIES:Entertainment,Family Fun,Powell,Trivia
ATTACH;FMTTYPE=image/jpeg:https://nocterrabrewing.com/wp-content/uploads/2025/09/unnamed-3.jpg
END:VEVENT
BEGIN:VEVENT
DTSTART;TZID=UTC:20281222T180000
DTEND;TZID=UTC:20281222T200000
DTSTAMP:20260425T131822
CREATED:20251202T180233Z
LAST-MODIFIED:20251212T144728Z
UID:10001314-1861120800-1861128000@nocterrabrewing.com
SUMMARY:DISC GOLF MART & NOCTERRA - PUTTING LEAGUE - AUDUBON
DESCRIPTION:Join us every Friday from 6–8 PM for The Weekly Offseason Putting League\, brought to you by Disc Golf Mart and Nocterra Brewing Co. It’s just $5 to play\, and all players get $1 off drinks throughout the night. We mix things up with both indoor and outdoor stations\, so make sure to bring a coat when the weather gets cold. With weekly prizes\, good vibes\, and plenty of putts\, it’s the perfect way to kick off your weekend.
URL:https://nocterrabrewing.com/event/disc-golf-mart-nocterra-putting-league/2028-12-22/
LOCATION:Nocterra Brewing Co. – Audubon\, 516 Maier Place\, Columbus\, OH\, 43215
CATEGORIES:Audubon,Competition,Entertainment,League
ATTACH;FMTTYPE=image/jpeg:https://nocterrabrewing.com/wp-content/uploads/2025/12/Putting_League.jpg
END:VEVENT
BEGIN:VEVENT
DTSTART;TZID=UTC:20281226T190000
DTEND;TZID=UTC:20281226T210000
DTSTAMP:20260425T131822
CREATED:20260122T200823Z
LAST-MODIFIED:20260225T193747Z
UID:10001580-1861470000-1861477200@nocterrabrewing.com
SUMMARY:BINGO NIGHT! - POWELL
DESCRIPTION:Join us every Tuesday for a fun night of Bingo. We’ll be rolling balls and making calls. Listen for your number; you could go home with a fun prize!\nAs always\, it’s free to play and open to all ages.
URL:https://nocterrabrewing.com/event/bingo-night-powell-2/2028-12-26/
LOCATION:Nocterra Brewing Co. – Powell\, 41 Depot Street\, Powell\, OH\, 43065\, United States
CATEGORIES:Bingo,Entertainment,Family Fun,Powell
ATTACH;FMTTYPE=image/png:https://nocterrabrewing.com/wp-content/uploads/2025/02/Bingo-2025-3-FB-Event-.png
END:VEVENT
BEGIN:VEVENT
DTSTART;TZID=UTC:20281227T190000
DTEND;TZID=UTC:20281227T210000
DTSTAMP:20260425T131822
CREATED:20260225T195852Z
LAST-MODIFIED:20260318T214649Z
UID:10001903-1861556400-1861563600@nocterrabrewing.com
SUMMARY:TRIVIA NIGHTS! - POWELL
DESCRIPTION:Assemble your crew and test your knowledge at Nocterra Brewing Co.’s Trivia Night. Every Wednesday\, host Carmine will challenge you with general trivia. Prizes will be awarded to those lucky winners.\n\nAs always\, it’s free to play and open to all ages.
URL:https://nocterrabrewing.com/event/trivia-nights-powell-2-2/2028-12-27/
LOCATION:Nocterra Brewing Co. – Powell\, 41 Depot Street\, Powell\, OH\, 43065\, United States
CATEGORIES:Entertainment,Family Fun,Powell,Trivia
ATTACH;FMTTYPE=image/jpeg:https://nocterrabrewing.com/wp-content/uploads/2025/09/unnamed-3.jpg
END:VEVENT
END:VCALENDAR