BEGIN:VCALENDAR
VERSION:2.0
PRODID:-//Nocterra Brewing Co. - ECPv6.15.17//NONSGML v1.0//EN
CALSCALE:GREGORIAN
METHOD:PUBLISH
X-ORIGINAL-URL:https://nocterrabrewing.com
X-WR-CALDESC:Events for Nocterra Brewing Co.
REFRESH-INTERVAL;VALUE=DURATION:PT1H
X-Robots-Tag:noindex
X-PUBLISHED-TTL:PT1H
BEGIN:VTIMEZONE
TZID:UTC
BEGIN:STANDARD
TZOFFSETFROM:+0000
TZOFFSETTO:+0000
TZNAME:UTC
DTSTART:20280101T000000
END:STANDARD
END:VTIMEZONE
BEGIN:VEVENT
DTSTART;TZID=UTC:20290117T190000
DTEND;TZID=UTC:20290117T210000
DTSTAMP:20260425T105402
CREATED:20260225T195852Z
LAST-MODIFIED:20260318T214649Z
UID:10001906-1863370800-1863378000@nocterrabrewing.com
SUMMARY:TRIVIA NIGHTS! - POWELL
DESCRIPTION:Assemble your crew and test your knowledge at Nocterra Brewing Co.’s Trivia Night. Every Wednesday\, host Carmine will challenge you with general trivia. Prizes will be awarded to those lucky winners.\n\nAs always\, it’s free to play and open to all ages.
URL:https://nocterrabrewing.com/event/trivia-nights-powell-2-2/2029-01-17/
LOCATION:Nocterra Brewing Co. – Powell\, 41 Depot Street\, Powell\, OH\, 43065\, United States
CATEGORIES:Entertainment,Family Fun,Powell,Trivia
ATTACH;FMTTYPE=image/jpeg:https://nocterrabrewing.com/wp-content/uploads/2025/09/unnamed-3.jpg
END:VEVENT
BEGIN:VEVENT
DTSTART;TZID=UTC:20290119T180000
DTEND;TZID=UTC:20290119T200000
DTSTAMP:20260425T105402
CREATED:20251202T180233Z
LAST-MODIFIED:20251212T144728Z
UID:10001318-1863540000-1863547200@nocterrabrewing.com
SUMMARY:DISC GOLF MART & NOCTERRA - PUTTING LEAGUE - AUDUBON
DESCRIPTION:Join us every Friday from 6–8 PM for The Weekly Offseason Putting League\, brought to you by Disc Golf Mart and Nocterra Brewing Co. It’s just $5 to play\, and all players get $1 off drinks throughout the night. We mix things up with both indoor and outdoor stations\, so make sure to bring a coat when the weather gets cold. With weekly prizes\, good vibes\, and plenty of putts\, it’s the perfect way to kick off your weekend.
URL:https://nocterrabrewing.com/event/disc-golf-mart-nocterra-putting-league/2029-01-19/
LOCATION:Nocterra Brewing Co. – Audubon\, 516 Maier Place\, Columbus\, OH\, 43215
CATEGORIES:Audubon,Competition,Entertainment,League
ATTACH;FMTTYPE=image/jpeg:https://nocterrabrewing.com/wp-content/uploads/2025/12/Putting_League.jpg
END:VEVENT
BEGIN:VEVENT
DTSTART;TZID=UTC:20290123T190000
DTEND;TZID=UTC:20290123T210000
DTSTAMP:20260425T105402
CREATED:20260122T200823Z
LAST-MODIFIED:20260225T193747Z
UID:10001584-1863889200-1863896400@nocterrabrewing.com
SUMMARY:BINGO NIGHT! - POWELL
DESCRIPTION:Join us every Tuesday for a fun night of Bingo. We’ll be rolling balls and making calls. Listen for your number; you could go home with a fun prize!\nAs always\, it’s free to play and open to all ages.
URL:https://nocterrabrewing.com/event/bingo-night-powell-2/2029-01-23/
LOCATION:Nocterra Brewing Co. – Powell\, 41 Depot Street\, Powell\, OH\, 43065\, United States
CATEGORIES:Bingo,Entertainment,Family Fun,Powell
ATTACH;FMTTYPE=image/png:https://nocterrabrewing.com/wp-content/uploads/2025/02/Bingo-2025-3-FB-Event-.png
END:VEVENT
BEGIN:VEVENT
DTSTART;TZID=UTC:20290124T190000
DTEND;TZID=UTC:20290124T210000
DTSTAMP:20260425T105402
CREATED:20260225T195852Z
LAST-MODIFIED:20260318T214649Z
UID:10001907-1863975600-1863982800@nocterrabrewing.com
SUMMARY:TRIVIA NIGHTS! - POWELL
DESCRIPTION:Assemble your crew and test your knowledge at Nocterra Brewing Co.’s Trivia Night. Every Wednesday\, host Carmine will challenge you with general trivia. Prizes will be awarded to those lucky winners.\n\nAs always\, it’s free to play and open to all ages.
URL:https://nocterrabrewing.com/event/trivia-nights-powell-2-2/2029-01-24/
LOCATION:Nocterra Brewing Co. – Powell\, 41 Depot Street\, Powell\, OH\, 43065\, United States
CATEGORIES:Entertainment,Family Fun,Powell,Trivia
ATTACH;FMTTYPE=image/jpeg:https://nocterrabrewing.com/wp-content/uploads/2025/09/unnamed-3.jpg
END:VEVENT
BEGIN:VEVENT
DTSTART;TZID=UTC:20290126T180000
DTEND;TZID=UTC:20290126T200000
DTSTAMP:20260425T105402
CREATED:20251202T180233Z
LAST-MODIFIED:20251212T144728Z
UID:10001319-1864144800-1864152000@nocterrabrewing.com
SUMMARY:DISC GOLF MART & NOCTERRA - PUTTING LEAGUE - AUDUBON
DESCRIPTION:Join us every Friday from 6–8 PM for The Weekly Offseason Putting League\, brought to you by Disc Golf Mart and Nocterra Brewing Co. It’s just $5 to play\, and all players get $1 off drinks throughout the night. We mix things up with both indoor and outdoor stations\, so make sure to bring a coat when the weather gets cold. With weekly prizes\, good vibes\, and plenty of putts\, it’s the perfect way to kick off your weekend.
URL:https://nocterrabrewing.com/event/disc-golf-mart-nocterra-putting-league/2029-01-26/
LOCATION:Nocterra Brewing Co. – Audubon\, 516 Maier Place\, Columbus\, OH\, 43215
CATEGORIES:Audubon,Competition,Entertainment,League
ATTACH;FMTTYPE=image/jpeg:https://nocterrabrewing.com/wp-content/uploads/2025/12/Putting_League.jpg
END:VEVENT
BEGIN:VEVENT
DTSTART;TZID=UTC:20290130T190000
DTEND;TZID=UTC:20290130T210000
DTSTAMP:20260425T105402
CREATED:20260122T200823Z
LAST-MODIFIED:20260225T193747Z
UID:10001585-1864494000-1864501200@nocterrabrewing.com
SUMMARY:BINGO NIGHT! - POWELL
DESCRIPTION:Join us every Tuesday for a fun night of Bingo. We’ll be rolling balls and making calls. Listen for your number; you could go home with a fun prize!\nAs always\, it’s free to play and open to all ages.
URL:https://nocterrabrewing.com/event/bingo-night-powell-2/2029-01-30/
LOCATION:Nocterra Brewing Co. – Powell\, 41 Depot Street\, Powell\, OH\, 43065\, United States
CATEGORIES:Bingo,Entertainment,Family Fun,Powell
ATTACH;FMTTYPE=image/png:https://nocterrabrewing.com/wp-content/uploads/2025/02/Bingo-2025-3-FB-Event-.png
END:VEVENT
BEGIN:VEVENT
DTSTART;TZID=UTC:20290131T190000
DTEND;TZID=UTC:20290131T210000
DTSTAMP:20260425T105402
CREATED:20260225T195852Z
LAST-MODIFIED:20260318T214649Z
UID:10001908-1864580400-1864587600@nocterrabrewing.com
SUMMARY:TRIVIA NIGHTS! - POWELL
DESCRIPTION:Assemble your crew and test your knowledge at Nocterra Brewing Co.’s Trivia Night. Every Wednesday\, host Carmine will challenge you with general trivia. Prizes will be awarded to those lucky winners.\n\nAs always\, it’s free to play and open to all ages.
URL:https://nocterrabrewing.com/event/trivia-nights-powell-2-2/2029-01-31/
LOCATION:Nocterra Brewing Co. – Powell\, 41 Depot Street\, Powell\, OH\, 43065\, United States
CATEGORIES:Entertainment,Family Fun,Powell,Trivia
ATTACH;FMTTYPE=image/jpeg:https://nocterrabrewing.com/wp-content/uploads/2025/09/unnamed-3.jpg
END:VEVENT
BEGIN:VEVENT
DTSTART;TZID=UTC:20290202T180000
DTEND;TZID=UTC:20290202T200000
DTSTAMP:20260425T105402
CREATED:20251202T180233Z
LAST-MODIFIED:20251212T144728Z
UID:10001320-1864749600-1864756800@nocterrabrewing.com
SUMMARY:DISC GOLF MART & NOCTERRA - PUTTING LEAGUE - AUDUBON
DESCRIPTION:Join us every Friday from 6–8 PM for The Weekly Offseason Putting League\, brought to you by Disc Golf Mart and Nocterra Brewing Co. It’s just $5 to play\, and all players get $1 off drinks throughout the night. We mix things up with both indoor and outdoor stations\, so make sure to bring a coat when the weather gets cold. With weekly prizes\, good vibes\, and plenty of putts\, it’s the perfect way to kick off your weekend.
URL:https://nocterrabrewing.com/event/disc-golf-mart-nocterra-putting-league/2029-02-02/
LOCATION:Nocterra Brewing Co. – Audubon\, 516 Maier Place\, Columbus\, OH\, 43215
CATEGORIES:Audubon,Competition,Entertainment,League
ATTACH;FMTTYPE=image/jpeg:https://nocterrabrewing.com/wp-content/uploads/2025/12/Putting_League.jpg
END:VEVENT
BEGIN:VEVENT
DTSTART;TZID=UTC:20290206T190000
DTEND;TZID=UTC:20290206T210000
DTSTAMP:20260425T105402
CREATED:20260122T200823Z
LAST-MODIFIED:20260225T193747Z
UID:10001586-1865098800-1865106000@nocterrabrewing.com
SUMMARY:BINGO NIGHT! - POWELL
DESCRIPTION:Join us every Tuesday for a fun night of Bingo. We’ll be rolling balls and making calls. Listen for your number; you could go home with a fun prize!\nAs always\, it’s free to play and open to all ages.
URL:https://nocterrabrewing.com/event/bingo-night-powell-2/2029-02-06/
LOCATION:Nocterra Brewing Co. – Powell\, 41 Depot Street\, Powell\, OH\, 43065\, United States
CATEGORIES:Bingo,Entertainment,Family Fun,Powell
ATTACH;FMTTYPE=image/png:https://nocterrabrewing.com/wp-content/uploads/2025/02/Bingo-2025-3-FB-Event-.png
END:VEVENT
BEGIN:VEVENT
DTSTART;TZID=UTC:20290207T190000
DTEND;TZID=UTC:20290207T210000
DTSTAMP:20260425T105402
CREATED:20260225T195852Z
LAST-MODIFIED:20260318T214649Z
UID:10001909-1865185200-1865192400@nocterrabrewing.com
SUMMARY:TRIVIA NIGHTS! - POWELL
DESCRIPTION:Assemble your crew and test your knowledge at Nocterra Brewing Co.’s Trivia Night. Every Wednesday\, host Carmine will challenge you with general trivia. Prizes will be awarded to those lucky winners.\n\nAs always\, it’s free to play and open to all ages.
URL:https://nocterrabrewing.com/event/trivia-nights-powell-2-2/2029-02-07/
LOCATION:Nocterra Brewing Co. – Powell\, 41 Depot Street\, Powell\, OH\, 43065\, United States
CATEGORIES:Entertainment,Family Fun,Powell,Trivia
ATTACH;FMTTYPE=image/jpeg:https://nocterrabrewing.com/wp-content/uploads/2025/09/unnamed-3.jpg
END:VEVENT
BEGIN:VEVENT
DTSTART;TZID=UTC:20290209T180000
DTEND;TZID=UTC:20290209T200000
DTSTAMP:20260425T105402
CREATED:20251202T180233Z
LAST-MODIFIED:20251212T144728Z
UID:10001321-1865354400-1865361600@nocterrabrewing.com
SUMMARY:DISC GOLF MART & NOCTERRA - PUTTING LEAGUE - AUDUBON
DESCRIPTION:Join us every Friday from 6–8 PM for The Weekly Offseason Putting League\, brought to you by Disc Golf Mart and Nocterra Brewing Co. It’s just $5 to play\, and all players get $1 off drinks throughout the night. We mix things up with both indoor and outdoor stations\, so make sure to bring a coat when the weather gets cold. With weekly prizes\, good vibes\, and plenty of putts\, it’s the perfect way to kick off your weekend.
URL:https://nocterrabrewing.com/event/disc-golf-mart-nocterra-putting-league/2029-02-09/
LOCATION:Nocterra Brewing Co. – Audubon\, 516 Maier Place\, Columbus\, OH\, 43215
CATEGORIES:Audubon,Competition,Entertainment,League
ATTACH;FMTTYPE=image/jpeg:https://nocterrabrewing.com/wp-content/uploads/2025/12/Putting_League.jpg
END:VEVENT
BEGIN:VEVENT
DTSTART;TZID=UTC:20290213T190000
DTEND;TZID=UTC:20290213T210000
DTSTAMP:20260425T105402
CREATED:20260122T200823Z
LAST-MODIFIED:20260225T193747Z
UID:10001587-1865703600-1865710800@nocterrabrewing.com
SUMMARY:BINGO NIGHT! - POWELL
DESCRIPTION:Join us every Tuesday for a fun night of Bingo. We’ll be rolling balls and making calls. Listen for your number; you could go home with a fun prize!\nAs always\, it’s free to play and open to all ages.
URL:https://nocterrabrewing.com/event/bingo-night-powell-2/2029-02-13/
LOCATION:Nocterra Brewing Co. – Powell\, 41 Depot Street\, Powell\, OH\, 43065\, United States
CATEGORIES:Bingo,Entertainment,Family Fun,Powell
ATTACH;FMTTYPE=image/png:https://nocterrabrewing.com/wp-content/uploads/2025/02/Bingo-2025-3-FB-Event-.png
END:VEVENT
BEGIN:VEVENT
DTSTART;TZID=UTC:20290214T190000
DTEND;TZID=UTC:20290214T210000
DTSTAMP:20260425T105402
CREATED:20260225T195852Z
LAST-MODIFIED:20260318T214649Z
UID:10001910-1865790000-1865797200@nocterrabrewing.com
SUMMARY:TRIVIA NIGHTS! - POWELL
DESCRIPTION:Assemble your crew and test your knowledge at Nocterra Brewing Co.’s Trivia Night. Every Wednesday\, host Carmine will challenge you with general trivia. Prizes will be awarded to those lucky winners.\n\nAs always\, it’s free to play and open to all ages.
URL:https://nocterrabrewing.com/event/trivia-nights-powell-2-2/2029-02-14/
LOCATION:Nocterra Brewing Co. – Powell\, 41 Depot Street\, Powell\, OH\, 43065\, United States
CATEGORIES:Entertainment,Family Fun,Powell,Trivia
ATTACH;FMTTYPE=image/jpeg:https://nocterrabrewing.com/wp-content/uploads/2025/09/unnamed-3.jpg
END:VEVENT
BEGIN:VEVENT
DTSTART;TZID=UTC:20290216T180000
DTEND;TZID=UTC:20290216T200000
DTSTAMP:20260425T105402
CREATED:20251202T180233Z
LAST-MODIFIED:20251212T144728Z
UID:10001322-1865959200-1865966400@nocterrabrewing.com
SUMMARY:DISC GOLF MART & NOCTERRA - PUTTING LEAGUE - AUDUBON
DESCRIPTION:Join us every Friday from 6–8 PM for The Weekly Offseason Putting League\, brought to you by Disc Golf Mart and Nocterra Brewing Co. It’s just $5 to play\, and all players get $1 off drinks throughout the night. We mix things up with both indoor and outdoor stations\, so make sure to bring a coat when the weather gets cold. With weekly prizes\, good vibes\, and plenty of putts\, it’s the perfect way to kick off your weekend.
URL:https://nocterrabrewing.com/event/disc-golf-mart-nocterra-putting-league/2029-02-16/
LOCATION:Nocterra Brewing Co. – Audubon\, 516 Maier Place\, Columbus\, OH\, 43215
CATEGORIES:Audubon,Competition,Entertainment,League
ATTACH;FMTTYPE=image/jpeg:https://nocterrabrewing.com/wp-content/uploads/2025/12/Putting_League.jpg
END:VEVENT
BEGIN:VEVENT
DTSTART;TZID=UTC:20290220T190000
DTEND;TZID=UTC:20290220T210000
DTSTAMP:20260425T105402
CREATED:20260122T200823Z
LAST-MODIFIED:20260225T193747Z
UID:10001588-1866308400-1866315600@nocterrabrewing.com
SUMMARY:BINGO NIGHT! - POWELL
DESCRIPTION:Join us every Tuesday for a fun night of Bingo. We’ll be rolling balls and making calls. Listen for your number; you could go home with a fun prize!\nAs always\, it’s free to play and open to all ages.
URL:https://nocterrabrewing.com/event/bingo-night-powell-2/2029-02-20/
LOCATION:Nocterra Brewing Co. – Powell\, 41 Depot Street\, Powell\, OH\, 43065\, United States
CATEGORIES:Bingo,Entertainment,Family Fun,Powell
ATTACH;FMTTYPE=image/png:https://nocterrabrewing.com/wp-content/uploads/2025/02/Bingo-2025-3-FB-Event-.png
END:VEVENT
BEGIN:VEVENT
DTSTART;TZID=UTC:20290221T190000
DTEND;TZID=UTC:20290221T210000
DTSTAMP:20260425T105402
CREATED:20260225T195852Z
LAST-MODIFIED:20260318T214649Z
UID:10001911-1866394800-1866402000@nocterrabrewing.com
SUMMARY:TRIVIA NIGHTS! - POWELL
DESCRIPTION:Assemble your crew and test your knowledge at Nocterra Brewing Co.’s Trivia Night. Every Wednesday\, host Carmine will challenge you with general trivia. Prizes will be awarded to those lucky winners.\n\nAs always\, it’s free to play and open to all ages.
URL:https://nocterrabrewing.com/event/trivia-nights-powell-2-2/2029-02-21/
LOCATION:Nocterra Brewing Co. – Powell\, 41 Depot Street\, Powell\, OH\, 43065\, United States
CATEGORIES:Entertainment,Family Fun,Powell,Trivia
ATTACH;FMTTYPE=image/jpeg:https://nocterrabrewing.com/wp-content/uploads/2025/09/unnamed-3.jpg
END:VEVENT
BEGIN:VEVENT
DTSTART;TZID=UTC:20290223T180000
DTEND;TZID=UTC:20290223T200000
DTSTAMP:20260425T105402
CREATED:20251202T180233Z
LAST-MODIFIED:20251212T144728Z
UID:10001323-1866564000-1866571200@nocterrabrewing.com
SUMMARY:DISC GOLF MART & NOCTERRA - PUTTING LEAGUE - AUDUBON
DESCRIPTION:Join us every Friday from 6–8 PM for The Weekly Offseason Putting League\, brought to you by Disc Golf Mart and Nocterra Brewing Co. It’s just $5 to play\, and all players get $1 off drinks throughout the night. We mix things up with both indoor and outdoor stations\, so make sure to bring a coat when the weather gets cold. With weekly prizes\, good vibes\, and plenty of putts\, it’s the perfect way to kick off your weekend.
URL:https://nocterrabrewing.com/event/disc-golf-mart-nocterra-putting-league/2029-02-23/
LOCATION:Nocterra Brewing Co. – Audubon\, 516 Maier Place\, Columbus\, OH\, 43215
CATEGORIES:Audubon,Competition,Entertainment,League
ATTACH;FMTTYPE=image/jpeg:https://nocterrabrewing.com/wp-content/uploads/2025/12/Putting_League.jpg
END:VEVENT
BEGIN:VEVENT
DTSTART;TZID=UTC:20290227T190000
DTEND;TZID=UTC:20290227T210000
DTSTAMP:20260425T105402
CREATED:20260122T200823Z
LAST-MODIFIED:20260225T193747Z
UID:10001589-1866913200-1866920400@nocterrabrewing.com
SUMMARY:BINGO NIGHT! - POWELL
DESCRIPTION:Join us every Tuesday for a fun night of Bingo. We’ll be rolling balls and making calls. Listen for your number; you could go home with a fun prize!\nAs always\, it’s free to play and open to all ages.
URL:https://nocterrabrewing.com/event/bingo-night-powell-2/2029-02-27/
LOCATION:Nocterra Brewing Co. – Powell\, 41 Depot Street\, Powell\, OH\, 43065\, United States
CATEGORIES:Bingo,Entertainment,Family Fun,Powell
ATTACH;FMTTYPE=image/png:https://nocterrabrewing.com/wp-content/uploads/2025/02/Bingo-2025-3-FB-Event-.png
END:VEVENT
BEGIN:VEVENT
DTSTART;TZID=UTC:20290228T190000
DTEND;TZID=UTC:20290228T210000
DTSTAMP:20260425T105402
CREATED:20260225T195852Z
LAST-MODIFIED:20260318T214649Z
UID:10001912-1866999600-1867006800@nocterrabrewing.com
SUMMARY:TRIVIA NIGHTS! - POWELL
DESCRIPTION:Assemble your crew and test your knowledge at Nocterra Brewing Co.’s Trivia Night. Every Wednesday\, host Carmine will challenge you with general trivia. Prizes will be awarded to those lucky winners.\n\nAs always\, it’s free to play and open to all ages.
URL:https://nocterrabrewing.com/event/trivia-nights-powell-2-2/2029-02-28/
LOCATION:Nocterra Brewing Co. – Powell\, 41 Depot Street\, Powell\, OH\, 43065\, United States
CATEGORIES:Entertainment,Family Fun,Powell,Trivia
ATTACH;FMTTYPE=image/jpeg:https://nocterrabrewing.com/wp-content/uploads/2025/09/unnamed-3.jpg
END:VEVENT
BEGIN:VEVENT
DTSTART;TZID=UTC:20290302T180000
DTEND;TZID=UTC:20290302T200000
DTSTAMP:20260425T105402
CREATED:20251202T180233Z
LAST-MODIFIED:20251212T144728Z
UID:10001324-1867168800-1867176000@nocterrabrewing.com
SUMMARY:DISC GOLF MART & NOCTERRA - PUTTING LEAGUE - AUDUBON
DESCRIPTION:Join us every Friday from 6–8 PM for The Weekly Offseason Putting League\, brought to you by Disc Golf Mart and Nocterra Brewing Co. It’s just $5 to play\, and all players get $1 off drinks throughout the night. We mix things up with both indoor and outdoor stations\, so make sure to bring a coat when the weather gets cold. With weekly prizes\, good vibes\, and plenty of putts\, it’s the perfect way to kick off your weekend.
URL:https://nocterrabrewing.com/event/disc-golf-mart-nocterra-putting-league/2029-03-02/
LOCATION:Nocterra Brewing Co. – Audubon\, 516 Maier Place\, Columbus\, OH\, 43215
CATEGORIES:Audubon,Competition,Entertainment,League
ATTACH;FMTTYPE=image/jpeg:https://nocterrabrewing.com/wp-content/uploads/2025/12/Putting_League.jpg
END:VEVENT
BEGIN:VEVENT
DTSTART;TZID=UTC:20290306T190000
DTEND;TZID=UTC:20290306T210000
DTSTAMP:20260425T105402
CREATED:20260122T200823Z
LAST-MODIFIED:20260225T193747Z
UID:10001590-1867518000-1867525200@nocterrabrewing.com
SUMMARY:BINGO NIGHT! - POWELL
DESCRIPTION:Join us every Tuesday for a fun night of Bingo. We’ll be rolling balls and making calls. Listen for your number; you could go home with a fun prize!\nAs always\, it’s free to play and open to all ages.
URL:https://nocterrabrewing.com/event/bingo-night-powell-2/2029-03-06/
LOCATION:Nocterra Brewing Co. – Powell\, 41 Depot Street\, Powell\, OH\, 43065\, United States
CATEGORIES:Bingo,Entertainment,Family Fun,Powell
ATTACH;FMTTYPE=image/png:https://nocterrabrewing.com/wp-content/uploads/2025/02/Bingo-2025-3-FB-Event-.png
END:VEVENT
BEGIN:VEVENT
DTSTART;TZID=UTC:20290307T190000
DTEND;TZID=UTC:20290307T210000
DTSTAMP:20260425T105402
CREATED:20260225T195852Z
LAST-MODIFIED:20260318T214649Z
UID:10001913-1867604400-1867611600@nocterrabrewing.com
SUMMARY:TRIVIA NIGHTS! - POWELL
DESCRIPTION:Assemble your crew and test your knowledge at Nocterra Brewing Co.’s Trivia Night. Every Wednesday\, host Carmine will challenge you with general trivia. Prizes will be awarded to those lucky winners.\n\nAs always\, it’s free to play and open to all ages.
URL:https://nocterrabrewing.com/event/trivia-nights-powell-2-2/2029-03-07/
LOCATION:Nocterra Brewing Co. – Powell\, 41 Depot Street\, Powell\, OH\, 43065\, United States
CATEGORIES:Entertainment,Family Fun,Powell,Trivia
ATTACH;FMTTYPE=image/jpeg:https://nocterrabrewing.com/wp-content/uploads/2025/09/unnamed-3.jpg
END:VEVENT
BEGIN:VEVENT
DTSTART;TZID=UTC:20290309T180000
DTEND;TZID=UTC:20290309T200000
DTSTAMP:20260425T105402
CREATED:20251202T180233Z
LAST-MODIFIED:20251212T144728Z
UID:10001325-1867773600-1867780800@nocterrabrewing.com
SUMMARY:DISC GOLF MART & NOCTERRA - PUTTING LEAGUE - AUDUBON
DESCRIPTION:Join us every Friday from 6–8 PM for The Weekly Offseason Putting League\, brought to you by Disc Golf Mart and Nocterra Brewing Co. It’s just $5 to play\, and all players get $1 off drinks throughout the night. We mix things up with both indoor and outdoor stations\, so make sure to bring a coat when the weather gets cold. With weekly prizes\, good vibes\, and plenty of putts\, it’s the perfect way to kick off your weekend.
URL:https://nocterrabrewing.com/event/disc-golf-mart-nocterra-putting-league/2029-03-09/
LOCATION:Nocterra Brewing Co. – Audubon\, 516 Maier Place\, Columbus\, OH\, 43215
CATEGORIES:Audubon,Competition,Entertainment,League
ATTACH;FMTTYPE=image/jpeg:https://nocterrabrewing.com/wp-content/uploads/2025/12/Putting_League.jpg
END:VEVENT
BEGIN:VEVENT
DTSTART;TZID=UTC:20290313T190000
DTEND;TZID=UTC:20290313T210000
DTSTAMP:20260425T105402
CREATED:20260122T200823Z
LAST-MODIFIED:20260225T193747Z
UID:10001591-1868122800-1868130000@nocterrabrewing.com
SUMMARY:BINGO NIGHT! - POWELL
DESCRIPTION:Join us every Tuesday for a fun night of Bingo. We’ll be rolling balls and making calls. Listen for your number; you could go home with a fun prize!\nAs always\, it’s free to play and open to all ages.
URL:https://nocterrabrewing.com/event/bingo-night-powell-2/2029-03-13/
LOCATION:Nocterra Brewing Co. – Powell\, 41 Depot Street\, Powell\, OH\, 43065\, United States
CATEGORIES:Bingo,Entertainment,Family Fun,Powell
ATTACH;FMTTYPE=image/png:https://nocterrabrewing.com/wp-content/uploads/2025/02/Bingo-2025-3-FB-Event-.png
END:VEVENT
BEGIN:VEVENT
DTSTART;TZID=UTC:20290314T190000
DTEND;TZID=UTC:20290314T210000
DTSTAMP:20260425T105402
CREATED:20260225T195852Z
LAST-MODIFIED:20260318T214649Z
UID:10001914-1868209200-1868216400@nocterrabrewing.com
SUMMARY:TRIVIA NIGHTS! - POWELL
DESCRIPTION:Assemble your crew and test your knowledge at Nocterra Brewing Co.’s Trivia Night. Every Wednesday\, host Carmine will challenge you with general trivia. Prizes will be awarded to those lucky winners.\n\nAs always\, it’s free to play and open to all ages.
URL:https://nocterrabrewing.com/event/trivia-nights-powell-2-2/2029-03-14/
LOCATION:Nocterra Brewing Co. – Powell\, 41 Depot Street\, Powell\, OH\, 43065\, United States
CATEGORIES:Entertainment,Family Fun,Powell,Trivia
ATTACH;FMTTYPE=image/jpeg:https://nocterrabrewing.com/wp-content/uploads/2025/09/unnamed-3.jpg
END:VEVENT
BEGIN:VEVENT
DTSTART;TZID=UTC:20290316T180000
DTEND;TZID=UTC:20290316T200000
DTSTAMP:20260425T105402
CREATED:20251202T180233Z
LAST-MODIFIED:20251212T144728Z
UID:10001326-1868378400-1868385600@nocterrabrewing.com
SUMMARY:DISC GOLF MART & NOCTERRA - PUTTING LEAGUE - AUDUBON
DESCRIPTION:Join us every Friday from 6–8 PM for The Weekly Offseason Putting League\, brought to you by Disc Golf Mart and Nocterra Brewing Co. It’s just $5 to play\, and all players get $1 off drinks throughout the night. We mix things up with both indoor and outdoor stations\, so make sure to bring a coat when the weather gets cold. With weekly prizes\, good vibes\, and plenty of putts\, it’s the perfect way to kick off your weekend.
URL:https://nocterrabrewing.com/event/disc-golf-mart-nocterra-putting-league/2029-03-16/
LOCATION:Nocterra Brewing Co. – Audubon\, 516 Maier Place\, Columbus\, OH\, 43215
CATEGORIES:Audubon,Competition,Entertainment,League
ATTACH;FMTTYPE=image/jpeg:https://nocterrabrewing.com/wp-content/uploads/2025/12/Putting_League.jpg
END:VEVENT
BEGIN:VEVENT
DTSTART;TZID=UTC:20290320T190000
DTEND;TZID=UTC:20290320T210000
DTSTAMP:20260425T105402
CREATED:20260122T200823Z
LAST-MODIFIED:20260225T193747Z
UID:10001592-1868727600-1868734800@nocterrabrewing.com
SUMMARY:BINGO NIGHT! - POWELL
DESCRIPTION:Join us every Tuesday for a fun night of Bingo. We’ll be rolling balls and making calls. Listen for your number; you could go home with a fun prize!\nAs always\, it’s free to play and open to all ages.
URL:https://nocterrabrewing.com/event/bingo-night-powell-2/2029-03-20/
LOCATION:Nocterra Brewing Co. – Powell\, 41 Depot Street\, Powell\, OH\, 43065\, United States
CATEGORIES:Bingo,Entertainment,Family Fun,Powell
ATTACH;FMTTYPE=image/png:https://nocterrabrewing.com/wp-content/uploads/2025/02/Bingo-2025-3-FB-Event-.png
END:VEVENT
BEGIN:VEVENT
DTSTART;TZID=UTC:20290321T190000
DTEND;TZID=UTC:20290321T210000
DTSTAMP:20260425T105402
CREATED:20260225T195852Z
LAST-MODIFIED:20260318T214649Z
UID:10001915-1868814000-1868821200@nocterrabrewing.com
SUMMARY:TRIVIA NIGHTS! - POWELL
DESCRIPTION:Assemble your crew and test your knowledge at Nocterra Brewing Co.’s Trivia Night. Every Wednesday\, host Carmine will challenge you with general trivia. Prizes will be awarded to those lucky winners.\n\nAs always\, it’s free to play and open to all ages.
URL:https://nocterrabrewing.com/event/trivia-nights-powell-2-2/2029-03-21/
LOCATION:Nocterra Brewing Co. – Powell\, 41 Depot Street\, Powell\, OH\, 43065\, United States
CATEGORIES:Entertainment,Family Fun,Powell,Trivia
ATTACH;FMTTYPE=image/jpeg:https://nocterrabrewing.com/wp-content/uploads/2025/09/unnamed-3.jpg
END:VEVENT
BEGIN:VEVENT
DTSTART;TZID=UTC:20290323T180000
DTEND;TZID=UTC:20290323T200000
DTSTAMP:20260425T105402
CREATED:20251202T180233Z
LAST-MODIFIED:20251212T144728Z
UID:10001327-1868983200-1868990400@nocterrabrewing.com
SUMMARY:DISC GOLF MART & NOCTERRA - PUTTING LEAGUE - AUDUBON
DESCRIPTION:Join us every Friday from 6–8 PM for The Weekly Offseason Putting League\, brought to you by Disc Golf Mart and Nocterra Brewing Co. It’s just $5 to play\, and all players get $1 off drinks throughout the night. We mix things up with both indoor and outdoor stations\, so make sure to bring a coat when the weather gets cold. With weekly prizes\, good vibes\, and plenty of putts\, it’s the perfect way to kick off your weekend.
URL:https://nocterrabrewing.com/event/disc-golf-mart-nocterra-putting-league/2029-03-23/
LOCATION:Nocterra Brewing Co. – Audubon\, 516 Maier Place\, Columbus\, OH\, 43215
CATEGORIES:Audubon,Competition,Entertainment,League
ATTACH;FMTTYPE=image/jpeg:https://nocterrabrewing.com/wp-content/uploads/2025/12/Putting_League.jpg
END:VEVENT
BEGIN:VEVENT
DTSTART;TZID=UTC:20290327T190000
DTEND;TZID=UTC:20290327T210000
DTSTAMP:20260425T105402
CREATED:20260122T200823Z
LAST-MODIFIED:20260225T193747Z
UID:10001593-1869332400-1869339600@nocterrabrewing.com
SUMMARY:BINGO NIGHT! - POWELL
DESCRIPTION:Join us every Tuesday for a fun night of Bingo. We’ll be rolling balls and making calls. Listen for your number; you could go home with a fun prize!\nAs always\, it’s free to play and open to all ages.
URL:https://nocterrabrewing.com/event/bingo-night-powell-2/2029-03-27/
LOCATION:Nocterra Brewing Co. – Powell\, 41 Depot Street\, Powell\, OH\, 43065\, United States
CATEGORIES:Bingo,Entertainment,Family Fun,Powell
ATTACH;FMTTYPE=image/png:https://nocterrabrewing.com/wp-content/uploads/2025/02/Bingo-2025-3-FB-Event-.png
END:VEVENT
END:VCALENDAR