BEGIN:VCALENDAR
VERSION:2.0
PRODID:-//Nocterra Brewing Co. - ECPv6.15.17//NONSGML v1.0//EN
CALSCALE:GREGORIAN
METHOD:PUBLISH
X-ORIGINAL-URL:https://nocterrabrewing.com
X-WR-CALDESC:Events for Nocterra Brewing Co.
REFRESH-INTERVAL;VALUE=DURATION:PT1H
X-Robots-Tag:noindex
X-PUBLISHED-TTL:PT1H
BEGIN:VTIMEZONE
TZID:UTC
BEGIN:STANDARD
TZOFFSETFROM:+0000
TZOFFSETTO:+0000
TZNAME:UTC
DTSTART:20230101T000000
END:STANDARD
END:VTIMEZONE
BEGIN:VEVENT
DTSTART;TZID=UTC:20241015T190000
DTEND;TZID=UTC:20241015T210000
DTSTAMP:20260421T225348
CREATED:20240830T145630Z
LAST-MODIFIED:20241011T175026Z
UID:10000778-1729018800-1729026000@nocterrabrewing.com
SUMMARY:90's - Themed Trivia
DESCRIPTION:Get ready to take a nostalgic trip back to the 1990’s at our 90’s Themed Trivia Night on October 15th\, starting at 7 PM! This free-to-play event is open to all ages\, so bring your friends\, family\, and your best 90’s knowledge. Put your skills to the test as you compete for fun\, themed prizes awarded to the top teams. To make things even more exciting\, we’re giving out bonus points to anyone who dresses up in their best 90’s gear—so dig out those flannel shirts\, neon colors\, and scrunchies! Don’t miss out on an evening full of fun\, flashbacks\, and friendly competition!
URL:https://nocterrabrewing.com/event/90s-themed-trivia/
LOCATION:Nocterra Brewing Co. – Audubon\, 516 Maier Place\, Columbus\, OH\, 43215
CATEGORIES:Audubon,Entertainment,Family Fun,Trivia
ATTACH;FMTTYPE=image/jpeg:https://nocterrabrewing.com/wp-content/uploads/2024/08/90s-Trivia.jpg
END:VEVENT
BEGIN:VEVENT
DTSTART;TZID=UTC:20241022T190000
DTEND;TZID=UTC:20241022T210000
DTSTAMP:20260421T225348
CREATED:20241011T174917Z
LAST-MODIFIED:20241011T175137Z
UID:10000807-1729623600-1729630800@nocterrabrewing.com
SUMMARY:The Big Lebowski - Themed Trivia - Audubon
DESCRIPTION:Get ready for a night of laughs and nostalgia at our Big Lebowski Themed Trivia on October 22nd\, starting at 7 PM! Join us for a free-to-play event that’s open to all ages\, where you can test your knowledge of the cult classic film and compete for themed prizes. Gather your team\, channel your inner Dude\, and don your best Lebowski-inspired attire\, because we’ll be awarding bonus points to those who dress the part. Whether you’re a die-hard fan or just looking for a fun night out\, this trivia event promises good vibes\, great prizes\, and a whole lot of fun. Don’t miss out on this chance to abide with fellow fans—see you there!
URL:https://nocterrabrewing.com/event/the-big-lebowski-themed-trivia-audubon/
LOCATION:Nocterra Brewing Co. – Audubon\, 516 Maier Place\, Columbus\, OH\, 43215
CATEGORIES:Audubon,Entertainment,Family Fun,Trivia
ATTACH;FMTTYPE=image/jpeg:https://nocterrabrewing.com/wp-content/uploads/2024/08/Big-Lebowski-Trivia.jpg
END:VEVENT
BEGIN:VEVENT
DTSTART;TZID=UTC:20241023T190000
DTEND;TZID=UTC:20241023T210000
DTSTAMP:20260421T225348
CREATED:20241011T172313Z
LAST-MODIFIED:20241011T172313Z
UID:10000798-1729710000-1729717200@nocterrabrewing.com
SUMMARY:HOUSE PLANT BINGO - AUDUBON
DESCRIPTION:Join us for a fun-filled evening of House Plant Bingo\, where your love for plants could win you a new leafy companion! Gather your friends and family for a lively game that combines the excitement of bingo with the beauty of house plants.\nAs always\, free to play and open to all ages!
URL:https://nocterrabrewing.com/event/house-plant-bingo-audubon/
LOCATION:Nocterra Brewing Co. – Audubon\, 516 Maier Place\, Columbus\, OH\, 43215
CATEGORIES:Audubon,Bingo,Family Fun
ATTACH;FMTTYPE=image/png:https://nocterrabrewing.com/wp-content/uploads/2024/10/House-Plant-Bingo.png
END:VEVENT
BEGIN:VEVENT
DTSTART;TZID=UTC:20241029T190000
DTEND;TZID=UTC:20241029T210000
DTSTAMP:20260421T225348
CREATED:20241011T174619Z
LAST-MODIFIED:20241011T175110Z
UID:10000805-1730228400-1730235600@nocterrabrewing.com
SUMMARY:Horror Movies - Themed Trivia - Audubon
DESCRIPTION:Get ready for a spine-chilling night of fun at our Horror Movie Themed Trivia on October 29th\, starting at 7 PM! Test your knowledge of classic and modern horror films in a night filled with eerie excitement. It’s free to play and open to all ages\, so bring your friends\, family\, and fellow horror fans for a ghoulishly good time. Themed prizes await the winning teams\, and there are bonus points for those who come dressed to kill in their best horror-inspired costumes. Join us if you dare\, and may the best monsters win!
URL:https://nocterrabrewing.com/event/horror-movies-themed-trivia-copy/
LOCATION:Nocterra Brewing Co. – Audubon\, 516 Maier Place\, Columbus\, OH\, 43215
CATEGORIES:Audubon,Entertainment,Family Fun,Trivia
ATTACH;FMTTYPE=image/jpeg:https://nocterrabrewing.com/wp-content/uploads/2024/08/Horror-Movie-Trivia.jpg
END:VEVENT
BEGIN:VEVENT
DTSTART;TZID=UTC:20241030T190000
DTEND;TZID=UTC:20241030T210000
DTSTAMP:20260421T225348
CREATED:20241011T174739Z
LAST-MODIFIED:20241011T174739Z
UID:10000806-1730314800-1730322000@nocterrabrewing.com
SUMMARY:SPOOKY BINGO - AUDUBON
DESCRIPTION:Get ready for a frightfully fun evening at our Spooky Bingo Night! Join us for a ghoulish gathering filled with spooky surprises and delicious treats. Perfect for Halloween lovers and thrill-seekers alike\, this event promises a night of chilling excitement!\n\nAs always\, free to play and open to all ages.\n\nWin themed prizes!
URL:https://nocterrabrewing.com/event/spooky-bingo-audubon/
LOCATION:Nocterra Brewing Co. – Audubon\, 516 Maier Place\, Columbus\, OH\, 43215
CATEGORIES:Audubon,Bingo,Family Fun
ATTACH;FMTTYPE=image/png:https://nocterrabrewing.com/wp-content/uploads/2024/10/Spooky-Bingo.png
END:VEVENT
END:VCALENDAR