BEGIN:VCALENDAR
VERSION:2.0
PRODID:-//Nocterra Brewing Co. - ECPv6.15.17//NONSGML v1.0//EN
CALSCALE:GREGORIAN
METHOD:PUBLISH
X-ORIGINAL-URL:https://nocterrabrewing.com
X-WR-CALDESC:Events for Nocterra Brewing Co.
REFRESH-INTERVAL;VALUE=DURATION:PT1H
X-Robots-Tag:noindex
X-PUBLISHED-TTL:PT1H
BEGIN:VTIMEZONE
TZID:UTC
BEGIN:STANDARD
TZOFFSETFROM:+0000
TZOFFSETTO:+0000
TZNAME:UTC
DTSTART:20240101T000000
END:STANDARD
END:VTIMEZONE
BEGIN:VEVENT
DTSTART;TZID=UTC:20251012T090000
DTEND;TZID=UTC:20251012T170000
DTSTAMP:20260420T052357
CREATED:20250916T155058Z
LAST-MODIFIED:20250916T155058Z
UID:10001127-1760259600-1760288400@nocterrabrewing.com
SUMMARY:NOCTERRA FIELD DAY - AUDUBON
DESCRIPTION:Join Nocterra Brewing Co.\, Disc Golf Mart\, & Friends of Metro Parks for the first-ever disc golf tournament & festival at Scioto Audubon Metro Park! For one day only\, a temporary course will be set up for competition & play\, alongside clinics with local pros\, live demos\, & interactive workstations to sharpen your skills. \nEnjoy disc golf mini games\, raffles\, & a lively Vendor Village. Refuel with delicious food and drinks with a special Nocterra Happy Hour. All proceeds support Friends of Metro Parks & will help determine the future of an annual event at Scioto Audubon. \nFollow the URL to sign up to play\, but it’s free to stop by!
URL:https://nocterrabrewing.com/event/nocterra-field-day-audubon/
LOCATION:Nocterra Brewing Co. – Powell\, 41 Depot Street\, Powell\, OH\, 43065\, United States
CATEGORIES:Audubon,Competition,Family Fun,League
ATTACH;FMTTYPE=image/jpeg:https://nocterrabrewing.com/wp-content/uploads/2025/09/Nocterra-Field-Day.jpg
END:VEVENT
BEGIN:VEVENT
DTSTART;TZID=UTC:20251012T120000
DTEND;TZID=UTC:20251012T140000
DTSTAMP:20260420T052357
CREATED:20250904T202250Z
LAST-MODIFIED:20250904T202250Z
UID:10001125-1760270400-1760277600@nocterrabrewing.com
SUMMARY:LEGO BUILD (SUPER HEROES THEMED) - POWELL
DESCRIPTION:Free Lego build brought to you by Bricks & Minifigs Powell at Nocterra Brewing Co. Sunday\, 10/12 from 12-2 pm. Bring the kiddos and enjoy a beer. This weekend’s theme is Super Heroes – create your favorite Super Hero in celebration of National Hero Day!\n\nFree and open to all ages
URL:https://nocterrabrewing.com/event/lego-build-super-heroes-themed-powell/
LOCATION:Nocterra Brewing Co. – Powell\, 41 Depot Street\, Powell\, OH\, 43065\, United States
CATEGORIES:Family Fun,Powell
ATTACH;FMTTYPE=image/jpeg:https://nocterrabrewing.com/wp-content/uploads/2025/08/Bricks_Minifigs.jpg
END:VEVENT
END:VCALENDAR